Workbook
Name Cinco: Listas2!$E$17:$E$17
Name Dois: Listas2!$B$17:$B$18
Name Motor: OFFSET(Listas2!$A$4,1,MATCH(Veic.Leves!$A:$A,Partida,0),COUNTA(INDEX(Status,,MATCH(Veic.Leves!$A:$A,Partida,0))))
Name Não: Listas2!$C$5:$C$12
Name Nao_Testado: Listas2!$D$5
Name Quatro: Listas2!$D$17:$D$18
Name Sim: Listas2!$B$5:$B$7
Name Três: Listas2!$C$17:$C$18

Sheet gestor
A1: ProdutoTitulo | B1: ProdutoDescricao | C1: ProdutoEndereco | D1: ProdutoNumero | E1: ProdutoSubLote | F1: ProdutoQuantidade | G1: ProdutoMedida | H1: ProdutoReferencia | I1: ProdutoProjeto | J1: ProdutoAvaliacao | K1: ProdutoInicial | L1: ProdutoReserva | M1: ProdutoValorVendedor | N1: ProdutoIncremento | O1: VeiculoDebitos | P1: VeiculoProprietario | Q1: VeiculoRestricoes | R1: Comitente | S1: Referencia / Compartilhado | T1: Referencia / Ativo-Frota | U1: Débitos (Responsabilidade) | V1: Estadia e Remoção (Frase) | W1: Taxas/Encargos Adm (Frase) | X1: Estadia | Y1: Remoção | Z1: Buyers: % e (por extenso) - LEILÃO | AA1: Buyers: % e (por extenso) - VENDA DIRETA | AB1: Status | AC1: Alteração/Adicional | AD1: Pendencias / Obs do Status | AE1: Regra Cores (Restrições) | AF1: Regra Cores (Pendências/Retirado) | AG1: Regra Cores (Pendências/Stand-by) | AH1: Regra Cores (Adicional) | AI1: Regra Cores (Alteração) | AJ1: Regra Cores (Restrito/Grupo de Oferta) | AK1: Tabela Molicar - Valor | AL1: Tabela Molicar - Ano/mês (referência) | AM1: Tabela Fipe - Valor | AN1: Tabela Fipe - Ano/mês (referência)
A2: =Veic.Leves!F3 -> , , PL.: , CH.: | B2: ="" &IF(Veic.Leves!E3="","","Referência Local: "&Veic.Leves!E3) &IF(Veic.Leves!Q3="","","<br>Marca: "&Veic.Leves!Q3) &IF(Veic.Leves!R3="","","<br>Modelo: "&Veic.Leves!R3) &IF(Veic.Leves!S3="","","<br>Ano Fab/Modelo: "&Veic.Leves!S3) &IF(Veic.Leves!T3="","","<br>Placa: "&Veic.Leves!T3) &IF(Veic.Leves!AD3="","","<br>Quilometragem acima de: "&Veic.Leves!AD3) &IF(Veic.Leves!AE3="","","<br>Obs da quilometragem: "&Veic.Leves!AE3) &IF(Veic.Leves!W3="","","<br>Cor: "&Veic.Leves!W3) &IF(Veic.Leves!X3="","","<br>Combustível: "&Veic.Leves!X3) &IF(Veic.Leves!U3="","","<br>Chassi: "&TRIM(Veic.Leves!U3)) &IF(AND(Veic.Leves!AC3="", Veic.Leves!AG3="", Veic.Leves!AH3="", Veic.Leves!AI3="", Veic.Leves!AJ3="", Veic.Leves!AK3="", Veic.Leves!AL3="", Veic.Leves!AM3=""),"","<br><br>Acessórios<br>") &IF(Veic.Leves!AC3="","","<br>Nº de Portas: "&Veic.Leves!AC3) &IF(Veic.Leves!AG3="","","<br>Câmbio: "&Veic.Leves!AG3) &IF(Veic.Leves!AH3="","","<br>Direção: "&Veic.Leves!AH3) &IF(Veic.Leves!AI3="","","<br>Ar condicionado: "&Veic.Leves!AI3) &IF(Veic.Leves!AJ3="","","<br>Vidros: "&Veic.Leves!AJ3) &IF(Veic.Leves!AK3="","","<br>Rodas: "&Veic.Leves!AK3) &IF(Veic.Leves!AL3="","","<br>Bancos: "&Veic.Leves!AL3) &IF(Veic.Leves!AM3="","","<br>Aparelho de Som: "&Veic.Leves!AM3) &IF(AND(Veic.Leves!AF3="",Veic.Leves!AN3="", Veic.Leves!AO3="", Veic.Leves!AP3="", Veic.Leves!AQ3=""),"","<br><br>Condições Gerais<br>") &IF(Veic.Leves!AF3="","","<br>Motor: "&Veic.Leves!AF3) &IF(Veic.Leves!AN3="","","<br>Pintura: "&Veic.Leves!AN3) &IF(Veic.Leves!AO3="","","<br>Lataria: "&Veic.Leves!AO3) &IF(Veic.Leves!AP3="","","<br>Tapeçaria: "&Veic.Leves!AP3) &IF(Veic.Leves!AQ3="","","<br>Pneus: "&Veic.Leves!AQ3) &IF(Veic.Leves!AR3="","<br><br>","<br><br>Observações: <br><br>" &SUBSTITUTE(Veic.Leves!AR3,CHAR(10),"<br>") & "<br><br>") &IF(U2="Comprador",MID(Listas!$E$71,1,262)&IF(U2="Comprador",TEXT(O2,"R$0.0,00"))&MID(Listas!$E$71,263,114),"<br><br>") &IF(U2="Vendedor",MID(Listas!$F$72,1,297),"") &IF(V2="Sim",MID(Listas!$I$71,1,123),"") &IF(Z2=0,"",MID(Listas!$G$71,1,231)&Z2&MID(Listas!$G$71,232,59)&"<br><br>") &IF(AA2=0,"",MID(Listas!$H$71,1,156)&AA2&MID(Listas!$H$71,157,189)&"<br><br>") &IF(W2="Sim",Listas!$J$71,"") -> <br><br><br><br> | C2: =IF(Veic.Leves!Y3="",CONCATENATE(Veic.Leves!Z3,", ",Veic.Leves!AA3),Veic.Leves!Y3) -> , | D2: =Veic.Leves!A3 -> 0 | F2: =IF(ISBLANK(G2),1,"CONSTA UNIDADE MÉTRICA? RETIRAR OU INSERIR O FATOR MULTIPLICATIVO") -> 1 | H2: =Veic.Leves!C3 -> 0 | I2: =Veic.Leves!D3 -> 0 | J2: =Veic.Leves!I3 -> 0 | K2: =Veic.Leves!G3 -> 0 | L2: =IF(Veic.Leves!H3="",999999999999,Veic.Leves!H3) -> 999999999999 | M2: =Veic.Leves!AX3 -> 0 | N2: =Veic.Leves!J3 -> 0 | O2: =Veic.Leves!O3 -> 0 | P2: =Veic.Leves!M3 -> 0 | Q2: =Veic.Leves!N3 -> 0 | T2: =Veic.Leves!E3 -> 0 | U2: =Veic.Leves!AU3 -> 0 | V2: =Veic.Leves!AY3 -> 0 | W2: =Veic.Leves!AZ3 -> 0 | Z2: =Veic.Leves!BA3 -> 0 | AA2: =Veic.Leves!BB3 -> 0 | AB2: =Veic.Leves!B3 -> 0 | AC2: =Veic.Leves!AV3 -> 0 | AD2: =Veic.Leves!AT3 -> 0 | AE2: =LOOKUP(2^15,SEARCH(Listas!$L$39:$L$68,Q2),Listas!$L$39:$L$68) -> #N/A | AF2: =LOOKUP(2^15,SEARCH(Listas!$M$39:$M$43,AD2),Listas!$M$39:$M$43) -> #N/A | AG2: =LOOKUP(2^15,SEARCH(Listas!$N$39:$N$42,AD2),Listas!$N$39:$N$42) -> #N/A | AH2: =LOOKUP(2^15,SEARCH(Listas!$P$39:$P$44,AC2),Listas!$P$39:$P$44) -> #N/A | AI2: =LOOKUP(2^15,SEARCH(Listas!$O$39:$O$53,AC2),Listas!$O$39:$O$53) -> #N/A | AJ2: =LOOKUP(2^15,SEARCH(Listas!$R$39:$R$43,AD2),Listas!$R$39:$R$43) -> #N/A | AK2: =Veic.Leves!K3 -> 0 | AM2: =Veic.Leves!L3 -> 0
A4: ='Camin.'!F3 -> , , PL.: , CH.: | B4: ="" &IF('Camin.'!E3="","","Referência Local: "&'Camin.'!E3) &IF('Camin.'!AC3="","","<br>"&'Camin.'!AC3) &IF('Camin.'!Q3="","","<br>Marca: "&'Camin.'!Q3) &IF('Camin.'!R3="","","<br>Modelo: "&'Camin.'!R3) &IF('Camin.'!S3="","","<br>Ano Fab/Modelo: "&'Camin.'!S3) &IF('Camin.'!T3="","","<br>Placa: "&'Camin.'!T3) &IF('Camin.'!AD3="","","<br>Quilometragem acima de: "&'Camin.'!AD3) &IF('Camin.'!AE3="","","<br>Obs da quilometragem: "&'Camin.'!AE3) &IF('Camin.'!W3="","","<br>Cor: "&'Camin.'!W3) &IF('Camin.'!X3="","","<br>Combustível: "&'Camin.'!X3) &IF('Camin.'!U3="","","<br>Chassi: "&TRIM('Camin.'!U3))&"<br>" &IF('Camin.'!AF3="","","<br>Eixos: "&'Camin.'!AF3) &IF('Camin.'!AG3="","","<br>Tração: "&'Camin.'!AG3) &IF('Camin.'!AH3="","","<br>Carroceria: "&'Camin.'!AH3) &IF('Camin.'!AI3="","","<br>Cardan: "&'Camin.'!AI3) &IF('Camin.'!AJ3="","","<br>Diferencial: "&'Camin.'!AJ3) &IF('Camin.'!AL3="","","<br>Câmbio: "&'Camin.'!AL3) &IF('Camin.'!AK3="","","<br>Motor: "&'Camin.'!AK3) &IF('Camin.'!AP3="","","<br>Bancos: "&'Camin.'!AP3) &IF(AND('Camin.'!AN3="", 'Camin.'!AO3="", 'Camin.'!AM3="", 'Camin.'!AQ3="", 'Camin.'!AR3=""),"","<br><br>Condições Gerais<br>") &IF('Camin.'!AN3="","","<br>Pintura: "&'Camin.'!AN3) &IF('Camin.'!AO3="","","<br>Lataria: "&'Camin.'!AO3) &IF('Camin.'!AM3="","","<br>Tapeçaria/Forração: "&'Camin.'!AM3) &IF('Camin.'!AQ3="","","<br>Qtd. de Pneus: "&'Camin.'!AQ3) &IF('Camin.'!AR3="","","<br>Estado dos Pneus: "&'Camin.'!AR3) &IF('Camin.'!AS3="","<br><br>","<br><br>Observações: <br><br>"&SUBSTITUTE('Camin.'!AS3,CHAR(10),"<br>") &"<br><br>") &IF(U4="Comprador",MID(Listas!$E$71,1,266)&IF(U4="Comprador",TEXT(O4,"R$0.0,00"))&MID(Listas!$E$71,267,114),"<br><br>") &IF(U4="Vendedor",MID(Listas!$F$72,1,297),"") &IF(V4="Sim",MID(Listas!$I$71,1,123),"") &IF(Z4=0,"",MID(Listas!$G$71,1,231)&Z4&MID(Listas!$G$71,232,59)&"<br><br>") &IF(AA4=0,"",MID(Listas!$H$71,1,156)&AA4&MID(Listas!$H$71,157,189)&"<br><br>") &IF(W4="Sim",Listas!$J$71,"") -> <br><br><br><br><br> | C4: =IF('Camin.'!Y3="",CONCATENATE('Camin.'!Z3,", ",'Camin.'!AA3),'Camin.'!Y3) -> , | D4: ='Camin.'!A3 -> 0 | F4: =IF(ISBLANK(G4),1,"CONSTA UNIDADE MÉTRICA? RETIRAR OU INSERIR O FATOR MULTIPLICATIVO") -> 1 | H4: ='Camin.'!C3 -> 0 | I4: ='Camin.'!D3 -> 0 | J4: ='Camin.'!I3 -> 0 | K4: ='Camin.'!G3 -> 0 | L4: =IF('Camin.'!H3="",999999999999,'Camin.'!H3) -> 999999999999 | M4: ='Camin.'!AY3 -> 0 | N4: ='Camin.'!J3 -> 0 | O4: ='Camin.'!O3 -> 0 | P4: ='Camin.'!M3 -> 0 | Q4: ='Camin.'!N3 -> 0 | T4: ='Camin.'!E3 -> 0 | U4: ='Camin.'!AV3 -> 0 | V4: ='Camin.'!AZ3 -> 0 | W4: ='Camin.'!BA3 -> 0 | Z4: ='Camin.'!BB3 -> 0 | AA4: ='Camin.'!BC3 -> 0 | AB4: ='Camin.'!B3 -> 0 | AC4: ='Camin.'!AW3 -> 0 | AD4: ='Camin.'!AU3 -> 0 | AE4: =LOOKUP(2^15,SEARCH(Listas!$L$39:$L$68,Q4),Listas!$L$39:$L$68) -> #N/A | AF4: =LOOKUP(2^15,SEARCH(Listas!$M$39:$M$43,AD4),Listas!$M$39:$M$43) -> #N/A | AG4: =LOOKUP(2^15,SEARCH(Listas!$N$39:$N$42,AD4),Listas!$N$39:$N$42) -> #N/A | AH4: =LOOKUP(2^15,SEARCH(Listas!$P$39:$P$44,AC4),Listas!$P$39:$P$44) -> #N/A | AI4: =LOOKUP(2^15,SEARCH(Listas!$O$39:$O$53,AC4),Listas!$O$39:$O$53) -> #N/A | AJ4: =LOOKUP(2^15,SEARCH(Listas!$R$39:$R$43,AD4),Listas!$R$39:$R$43) -> #N/A | AK4: ='Camin.'!K3 -> 0 | AM4: ='Camin.'!L3 -> 0
A6: =Ônib.!F3 -> , , PL.: , CH.: | B6: ="" &IF(Ônib.!E3="","","Referência Local: "&Ônib.!E3) &IF(Ônib.!AC3="","","<br>"&Ônib.!AC3) &IF(Ônib.!Q3="","","<br>Marca: "&Ônib.!Q3) &IF(Ônib.!R3="","","<br>Modelo: "&Ônib.!R3) &IF(Ônib.!S3="","","<br>Ano Fab/Modelo: "&Ônib.!S3) &IF(Ônib.!T3="","","<br>Placa: "&Ônib.!T3) &IF(Ônib.!AD3="","","<br>Quilometragem acima de: "&Ônib.!AD3) &IF(Ônib.!AE3="","","<br>Obs da quilometragem: "&Ônib.!AE3) &IF(Ônib.!W3="","","<br>Cor: "&Ônib.!W3) &IF(Ônib.!X3="","","<br>Combustível: "&Ônib.!X3) &IF(Ônib.!U3="","","<br>Chassi: "&TRIM(Ônib.!U3)) &IF(Ônib.!AG3="","","<br>Câmbio: "&Ônib.!AG3) &IF(Ônib.!AF3="","","<br>Motor: "&Ônib.!AF3) &IF(Ônib.!AJ3="","","<br>Bancos: "&Ônib.!AJ3) &IF(Ônib.!AN3="","","<br>Urbano ou Rodoviário: "&Ônib.!AN3) &IF(Ônib.!AO3="","","<br>Quantidade de Lugares: "&Ônib.!AO3) &IF(AND(Ônib.!AH3="", Ônib.!AI3="", Ônib.!AK3="", Ônib.!AL3="", Ônib.!AM3=""),"","<br><br>Condições Gerais<br>") &IF(Ônib.!AH3="","","<br>Pintura: "&Ônib.!AH3) &IF(Ônib.!AI3="","","<br>Lataria: "&Ônib.!AI3) &IF(Ônib.!AK3="","","<br>Tapeçaria: "&Ônib.!AK3) &IF(Ônib.!AL3="","","<br>Qtd. de Pneus: "&Ônib.!AL3) &IF(Ônib.!AM3="","","<br>Estado dos Pneus: "&Ônib.!AM3) &IF(Ônib.!AP3="","<br><br>","<br><br>Observações:<br><br>"&SUBSTITUTE(Ônib.!AP3,CHAR(10),"<br>") & "<br><br>") &IF(U6="Comprador",MID(Listas!$E$71,1,266)&IF(U6="Comprador",TEXT(O6,"R$0.0,00"))&MID(Listas!$E$71,267,114),"<br><br>") &IF(U6="Vendedor",MID(Listas!$F$72,1,297),"") &IF(V6="Sim",MID(Listas!$I$71,1,123),"") &IF(Z6=0,"",MID(Listas!$G$71,1,231)&Z6&MID(Listas!$G$71,232,59)&"<br><br>") &IF(AA6=0,"",MID(Listas!$H$71,1,156)&AA6&MID(Listas!$H$71,157,189)&"<br><br>") &IF(W6="Sim",Listas!$J$71,"") -> <br><br><br><br> | C6: =IF(Ônib.!Y3="",CONCATENATE(Ônib.!Z3,", ",Ônib.!AA3),Ônib.!Y3) -> , | D6: =Ônib.!A3 -> 0 | F6: =IF(ISBLANK(G6),1,"CONSTA UNIDADE MÉTRICA? RETIRAR OU INSERIR O FATOR MULTIPLICATIVO") -> 1 | H6: =Ônib.!C3 -> 0 | I6: =Ônib.!D3 -> 0 | J6: =Ônib.!I3 -> 0 | K6: =Ônib.!G3 -> 0 | L6: =IF(Ônib.!H3="",999999999999,Ônib.!H3) -> 999999999999 | M6: =Ônib.!AV3 -> 0 | N6: =Ônib.!J3 -> 0 | O6: =Ônib.!O3 -> 0 | P6: =Ônib.!M3 -> 0 | Q6: =Ônib.!N3 -> 0 | T6: =Ônib.!E3 -> 0 | U6: =Ônib.!AS3 -> 0 | V6: =Ônib.!AW3 -> 0 | W6: =Ônib.!AX3 -> 0 | Z6: =Ônib.!AY3 -> 0 | AA6: =Ônib.!AZ3 -> 0 | AB6: =Ônib.!B3 -> 0 | AC6: =Ônib.!AT3 -> 0 | AD6: =Ônib.!AR3 -> 0 | AE6: =LOOKUP(2^15,SEARCH(Listas!$L$39:$L$68,Q6),Listas!$L$39:$L$68) -> #N/A | AF6: =LOOKUP(2^15,SEARCH(Listas!$M$39:$M$43,AD6),Listas!$M$39:$M$43) -> #N/A | AG6: =LOOKUP(2^15,SEARCH(Listas!$N$39:$N$42,AD6),Listas!$N$39:$N$42) -> #N/A | AH6: =LOOKUP(2^15,SEARCH(Listas!$P$39:$P$44,AC6),Listas!$P$39:$P$44) -> #N/A | AI6: =LOOKUP(2^15,SEARCH(Listas!$O$39:$O$53,AC6),Listas!$O$39:$O$53) -> #N/A | AJ6: =LOOKUP(2^15,SEARCH(Listas!$R$39:$R$43,AD6),Listas!$R$39:$R$43) -> #N/A | AK6: =Ônib.!K3 -> 0 | AM6: =Ônib.!L3 -> 0
A8: =Semirreb.Reb!F3 -> , , PL.: , CH.: | B8: ="" &IF(Semirreb.Reb!E3="","","Referência Local: "&Semirreb.Reb!E3) &IF(Semirreb.Reb!AA3="","","<br>"&Semirreb.Reb!AA3) &IF(Semirreb.Reb!O3="","","<br>Marca: "&Semirreb.Reb!O3) &IF(Semirreb.Reb!P3="","","<br>Modelo: "&Semirreb.Reb!P3) &IF(Semirreb.Reb!Q3="","","<br>Ano Fab/Modelo: "&Semirreb.Reb!Q3) &IF(Semirreb.Reb!R3="","","<br>Placa: "&Semirreb.Reb!R3) &IF(Semirreb.Reb!S3="","","<br>Chassi: "&TRIM(Semirreb.Reb!S3)) &IF(AND(Semirreb.Reb!AB3="", Semirreb.Reb!AE3="", Semirreb.Reb!AF3="", Semirreb.Reb!AG3=""),"","<br>") &IF(Semirreb.Reb!AB3="","","<br>Eixos: "&Semirreb.Reb!AB3) &IF(Semirreb.Reb!AC3="","","<br>Carroceria: "&Semirreb.Reb!AC3) &IF(Semirreb.Reb!AD3="","","<br>Medidas: "&Semirreb.Reb!AD3) &IF(Semirreb.Reb!AE3="","","<br>Lataria/Pintura: "&Semirreb.Reb!AE3) &IF(Semirreb.Reb!AF3="","","<br>Qtd. de Pneus: "&Semirreb.Reb!AF3) &IF(Semirreb.Reb!AG3="","","<br>Estado dos Pneus: "&Semirreb.Reb!AG3) &IF(Semirreb.Reb!AH3="","<br><br>","<br><br>Observações: <br><br>"&SUBSTITUTE(Semirreb.Reb!AH3, CHAR(10), "<br>") &"<br><br>") &IF(U8="Comprador",MID(Listas!$E$71,1,266)&IF(U8="Comprador",TEXT(O8,"R$0.0,00"))&MID(Listas!$E$71,267,114),"<br><br>") &IF(U8="Vendedor",MID(Listas!$F$72,1,297),"") &IF(V8="Sim",MID(Listas!$I$71,1,123),"") &IF(Z8=0,"",MID(Listas!$G$71,1,231)&Z8&MID(Listas!$G$71,232,59)&"<br><br>") &IF(AA8=0,"",MID(Listas!$H$71,1,156)&AA8&MID(Listas!$H$71,157,189)&"<br><br>") &IF(W8="Sim",Listas!$J$71,"") -> <br><br><br><br> | C8: =IF(Semirreb.Reb!W3="",CONCATENATE(Semirreb.Reb!X3,", ",Semirreb.Reb!Y3),Semirreb.Reb!W3) -> , | D8: =Semirreb.Reb!A3 -> 0 | F8: =IF(ISBLANK(G8),1,"CONSTA UNIDADE MÉTRICA? RETIRAR OU INSERIR O FATOR MULTIPLICATIVO") -> 1 | H8: =Semirreb.Reb!C3 -> 0 | I8: =Semirreb.Reb!D3 -> 0 | J8: =Semirreb.Reb!I3 -> 0 | K8: =Semirreb.Reb!G3 -> 0 | L8: =IF(Semirreb.Reb!H3="",999999999999,Semirreb.Reb!H3) -> 999999999999 | M8: =Semirreb.Reb!AN3 -> 0 | N8: =Semirreb.Reb!J3 -> 0 | O8: =Semirreb.Reb!M3 -> 0 | P8: =Semirreb.Reb!K3 -> 0 | Q8: =Semirreb.Reb!L3 -> 0 | T8: =Semirreb.Reb!E3 -> 0 | U8: =Semirreb.Reb!AK3 -> 0 | V8: =Semirreb.Reb!AO3 -> 0 | W8: =Semirreb.Reb!AP3 -> 0 | Z8: =Semirreb.Reb!AQ3 -> 0 | AA8: =Semirreb.Reb!AR3 -> 0 | AB8: =Semirreb.Reb!B3 -> 0 | AC8: =Semirreb.Reb!AL3 -> 0 | AD8: =Semirreb.Reb!AJ3 -> 0 | AE8: =LOOKUP(2^15,SEARCH(Listas!$L$39:$L$68,Q8),Listas!$L$39:$L$68) -> #N/A | AF8: =LOOKUP(2^15,SEARCH(Listas!$M$39:$M$43,AD8),Listas!$M$39:$M$43) -> #N/A | AG8: =LOOKUP(2^15,SEARCH(Listas!$N$39:$N$42,AD8),Listas!$N$39:$N$42) -> #N/A | AH8: =LOOKUP(2^15,SEARCH(Listas!$P$39:$P$44,AC8),Listas!$P$39:$P$44) -> #N/A | AI8: =LOOKUP(2^15,SEARCH(Listas!$O$39:$O$53,AC8),Listas!$O$39:$O$53) -> #N/A | AJ8: =LOOKUP(2^15,SEARCH(Listas!$R$39:$R$43,AD8),Listas!$R$39:$R$43) -> #N/A
A10: =Motos!F3 -> , , PL.: , CH.: | B10: ="" &IF(Motos!E3="","","Referência Local: "&Motos!E3) &IF(Motos!Q3="","","<br>Marca: "&Motos!Q3) &IF(Motos!R3="","","<br>Modelo: "&Motos!R3) &IF(Motos!S3="","","<br>Ano Fab/Modelo: "&Motos!S3) &IF(Motos!T3="","","<br>Placa: "&Motos!T3) &IF(Motos!AC3="","","<br>Quilometragem acima de: "&Motos!AC3) &IF(Motos!AD3="","","<br>Obs da quilometragem: "&Motos!AD3) &IF(Motos!W3="","","<br>Cor: "&Motos!W3) &IF(Motos!X3="","","<br>Combustível: "&Motos!X3) &IF(Motos!U3="","","<br>Chassi: "&TRIM(Motos!U3)) &IF(Motos!AE3="","","<br>Motor: "&Motos!AE3) &IF(Motos!AJ3="","","<br>Bancos: "&Motos!AJ3) &IF(Motos!AF3="","","<br>Partida elétrica: "&Motos!AF3) &IF(Motos!AG3="","","<br>Freio a Disco: "&Motos!AG3) &IF(AND( Motos!AH3="", Motos!AI3="", Motos!AK3=""),"","<br><br>Condições Gerais<br>") &IF(Motos!AH3="","","<br>Pintura: "&Motos!AH3) &IF(Motos!AI3="","","<br>Lataria: "&Motos!AI3) &IF(Motos!AK3="","","<br>Pneus: "&Motos!AK3) &IF(Motos!AL3="","<br><br>","<br><br>Observações:<br><br>"&SUBSTITUTE(Motos!AL3,CHAR(10),"<br>" )&"<br><br>") &IF(U10="Comprador",MID(Listas!$E$71,1,266)&IF(U10="Comprador",TEXT(O10,"R$0.0,00"))&MID(Listas!$E$71,267,114),"<br><br>") &IF(U10="Vendedor",MID(Listas!$F$72,1,297),"") &IF(V10="Sim",MID(Listas!$I$71,1,123),"") &IF(Z10=0,"",MID(Listas!$G$71,1,231)&Z10&MID(Listas!$G$71,232,59)&"<br><br>") &IF(AA10=0,"",MID(Listas!$H$71,1,156)&AA10&MID(Listas!$H$71,157,189)&"<br><br>") &IF(W10="Sim",Listas!$J$71,"") -> <br><br><br><br> | C10: =IF(Motos!Y3="",CONCATENATE(Motos!Z3,", ",Motos!AA3),Motos!Y3) -> , | D10: =Motos!A3 -> 0 | F10: =IF(ISBLANK(G10),1,"CONSTA UNIDADE MÉTRICA? RETIRAR OU INSERIR O FATOR MULTIPLICATIVO") -> 1 | H10: =Motos!C3 -> 0 | I10: =Motos!D3 -> 0 | J10: =Motos!I3 -> 0 | K10: =Motos!G3 -> 0 | L10: =IF(Motos!H3="",999999999999,Motos!H3) -> 999999999999 | M10: =Motos!AR3 -> 0 | N10: =Motos!J3 -> 0 | O10: =Motos!O3 -> 0 | P10: =Motos!M3 -> 0 | Q10: =Motos!N3 -> 0 | T10: =Motos!E3 -> 0 | U10: =Motos!AO3 -> 0 | V10: =Motos!AS3 -> 0 | W10: =Motos!AT3 -> 0 | Z10: =Motos!AU3 -> 0 | AA10: =Motos!AV3 -> 0 | AB10: =Motos!B3 -> 0 | AC10: =Motos!AP3 -> 0 | AD10: =Motos!AN3 -> 0 | AE10: =LOOKUP(2^15,SEARCH(Listas!$L$39:$L$68,Q10),Listas!$L$39:$L$68) -> #N/A | AF10: =LOOKUP(2^15,SEARCH(Listas!$M$39:$M$43,AD10),Listas!$M$39:$M$43) -> #N/A | AG10: =LOOKUP(2^15,SEARCH(Listas!$N$39:$N$42,AD10),Listas!$N$39:$N$42) -> #N/A | AH10: =LOOKUP(2^15,SEARCH(Listas!$P$39:$P$44,AC10),Listas!$P$39:$P$44) -> #N/A | AI10: =LOOKUP(2^15,SEARCH(Listas!$O$39:$O$53,AC10),Listas!$O$39:$O$53) -> #N/A | AJ10: =LOOKUP(2^15,SEARCH(Listas!$R$39:$R$43,AD10),Listas!$R$39:$R$43) -> #N/A | AK10: =Motos!K3 -> 0 | AM10: =Motos!L3 -> 0
A12: ='Máq.Pes.'!F3 -> , SÉRIE: NÃO IDENTIFICADO | B12: ="" &IF('Máq.Pes.'!E3="","","Referência Local: "&'Máq.Pes.'!E3) &IF('Máq.Pes.'!Z3="","","<br>Nº do ativo: "&'Máq.Pes.'!Z3) &"<br>" &IF('Máq.Pes.'!O3="","","<br>"&'Máq.Pes.'!O3) &IF('Máq.Pes.'!P3="","","<br>Marca: "&'Máq.Pes.'!P3) &IF('Máq.Pes.'!Q3="","","<br>Modelo: "&'Máq.Pes.'!Q3) &IF('Máq.Pes.'!R3="","","<br>Ano: "&'Máq.Pes.'!R3) &IF('Máq.Pes.'!X3="","","<br>Capacidade: "&'Máq.Pes.'!X3) &IF('Máq.Pes.'!S3="","<br>Série: NÃO IDENTIFICADO","<br>Série: "&'Máq.Pes.'!S3) &IF('Máq.Pes.'!T3="","","<br>Horímetro: "&'Máq.Pes.'!T3) &IF('Máq.Pes.'!Y3="","","<br>Combustível: "&'Máq.Pes.'!Y3) &IF('Máq.Pes.'!W3="","","<br>Tração: "&'Máq.Pes.'!W3) &IF(OR('Máq.Pes.'!U3="Não Testado",'Máq.Pes.'!U3=""),"", "<br>Mecânica/Motor: "&'Máq.Pes.'!U3) &IF('Máq.Pes.'!V3="","","<br>Pneus (Quantidade/Estado): "&'Máq.Pes.'!V3) &IF('Máq.Pes.'!AA3="","<br><br>","<br><br>Observações: "&SUBSTITUTE('Máq.Pes.'!AA3,CHAR(10),"<br>")&"<br><br>") &IF(V12="Sim",MID(Listas!$I$71,1,123),"") &IF(Z12=0,"",MID(Listas!$G$71,1,231)&Z12&MID(Listas!$G$71,232,59)&"<br><br>") &IF(AA12=0,"",MID(Listas!$H$71,1,156)&AA12&MID(Listas!$H$71,157,189)&"<br><br>") &IF(W12="Sim",Listas!$J$71,"") -> <br><br>Série: NÃO IDENTIFICADO<br><br> | C12: =IF('Máq.Pes.'!L3<>"",CONCATENATE('Máq.Pes.'!L3,", ",'Máq.Pes.'!M3),"") | D12: ='Máq.Pes.'!A3 -> 0 | F12: =IF(ISBLANK(G12),1,"CONSTA UNIDADE MÉTRICA? RETIRAR OU INSERIR O FATOR MULTIPLICATIVO") -> 1 | H12: ='Máq.Pes.'!C3 -> 0 | I12: ='Máq.Pes.'!D3 -> 0 | J12: ='Máq.Pes.'!I3 -> 0 | K12: ='Máq.Pes.'!G3 -> 0 | L12: =IF('Máq.Pes.'!H3="",999999999999,'Máq.Pes.'!H3) -> 999999999999 | M12: ='Máq.Pes.'!AH3 -> 0 | N12: ='Máq.Pes.'!J3 -> 0 | O12: ='Máq.Pes.'!AE3 -> 0 | Q12: ='Máq.Pes.'!AD3 -> 0 | T12: ='Máq.Pes.'!E3 -> 0 | V12: ='Máq.Pes.'!AI3 -> 0 | W12: ='Máq.Pes.'!AJ3 -> 0 | Z12: ='Máq.Pes.'!AK3 -> 0 | AA12: ='Máq.Pes.'!AM3 -> 0 | AB12: ='Máq.Pes.'!B3 -> 0 | AC12: ='Máq.Pes.'!AF3 -> 0 | AD12: ='Máq.Pes.'!AC3 -> 0 | AE12: =LOOKUP(2^15,SEARCH(Listas!$L$39:$L$68,Q12),Listas!$L$39:$L$68) -> #N/A | AF12: =LOOKUP(2^15,SEARCH(Listas!$M$39:$M$43,AD12),Listas!$M$39:$M$43) -> #N/A | AG12: =LOOKUP(2^15,SEARCH(Listas!$N$39:$N$42,AD12),Listas!$N$39:$N$42) -> #N/A | AH12: =LOOKUP(2^15,SEARCH(Listas!$P$39:$P$44,AC12),Listas!$P$39:$P$44) -> #N/A | AI12: =LOOKUP(2^15,SEARCH(Listas!$O$39:$O$53,AC12),Listas!$O$39:$O$53) -> #N/A | AJ12: =LOOKUP(2^15,SEARCH(Listas!$R$39:$R$43,AD12),Listas!$R$39:$R$43) -> #N/A
A14: ='Máq.Pes. e Máq.Equip. 1.2 '!E3 | B14: ="" &IF('Máq.Pes. e Máq.Equip. 1.2 '!S3="","","Referência Local: "& 'Máq.Pes. e Máq.Equip. 1.2 '!S3) &IF('Máq.Pes. e Máq.Equip. 1.2 '!AO3="","","<br>Nº do ativo: "& 'Máq.Pes. e Máq.Equip. 1.2 '!AO3) &"<br>" &IF( AND('Máq.Pes. e Máq.Equip. 1.2 '!U3="Outros",'Máq.Pes. e Máq.Equip. 1.2 '!T3=TRUE),"SUCATA DE "&'Máq.Pes. e Máq.Equip. 1.2 '!V3, IF( AND('Máq.Pes. e Máq.Equip. 1.2 '!U3="Outros",'Máq.Pes. e Máq.Equip. 1.2 '!T3=FALSE),'Máq.Pes. e Máq.Equip. 1.2 '!V3, IF( AND('Máq.Pes. e Máq.Equip. 1.2 '!U3<>"Outros",'Máq.Pes. e Máq.Equip. 1.2 '!T3=TRUE),"SUCATA DE "&'Máq.Pes. e Máq.Equip. 1.2 '!U3, IF( AND('Máq.Pes. e Máq.Equip. 1.2 '!U3<>"Outros",'Máq.Pes. e Máq.Equip. 1.2 '!T3=FALSE),'Máq.Pes. e Máq.Equip. 1.2 '!U3,"")))) &IF( 'Máq.Pes. e Máq.Equip. 1.2 '!W3="","","<br>Marca: "& 'Máq.Pes. e Máq.Equip. 1.2 '!W3) &IF( 'Máq.Pes. e Máq.Equip. 1.2 '!X3="","","<br>Modelo: "& 'Máq.Pes. e Máq.Equip. 1.2 '!X3) &IF( 'Máq.Pes. e Máq.Equip. 1.2 '!AA3="","","<br>Tipo: "& 'Máq.Pes. e Máq.Equip. 1.2 '!AA3) &IF( 'Máq.Pes. e Máq.Equip. 1.2 '!Y3="","","<br>Ano: "& 'Máq.Pes. e Máq.Equip. 1.2 '!Y3) &IF( 'Máq.Pes. e Máq.Equip. 1.2 '!AN3="","","<br>Capacidade: "& 'Máq.Pes. e Máq.Equip. 1.2 '!AN3) &IF(AND( 'Máq.Pes. e Máq.Equip. 1.2 '!Z3="",'Máq.Pes. e Máq.Equip. 1.2 '!M3="Máquinas Pesadas"),"<br>Série: NÃO IDENTIFICADO",IF(AND( 'Máq.Pes. e Máq.Equip. 1.2 '!Z3="",'Máq.Pes. e Máq.Equip. 1.2 '!M3<>"Máquinas Pesadas"),"","<br>Série: "& 'Máq.Pes. e Máq.Equip. 1.2 '!Z3)) &IF(AND( 'Máq.Pes. e Máq.Equip. 1.2 '!AB3<>"",'Máq.Pes. e Máq.Equip. 1.2 '!M3="Máquinas Pesadas"),"<br>Horímetro: "& 'Máq.Pes. e Máq.Equip. 1.2 '!AB3,"") &IF(OR( 'Máq.Pes. e Máq.Equip. 1.2 '!AC3="Não Testado", 'Máq.Pes. e Máq.Equip. 1.2 '!AC3=""),"", IF(AND( 'Máq.Pes. e Máq.Equip. 1.2 '!AC3<>"",'Máq.Pes. e Máq.Equip. 1.2 '!M3="Máquinas Pesadas"),"<br>Mecânica/Motor: "& 'Máq.Pes. e Máq.Equip. 1.2 '!AC3,"")) &IF(AND( 'Máq.Pes. e Máq.Equip. 1.2 '!AD3<>"",'Máq.Pes. e Máq.Equip. 1.2 '!M3="Máquinas Pesadas"),"<br>Câmbio: "& 'Máq.Pes. e Máq.Equip. 1.2 '!AD3,"") &IF(AND( 'Máq.Pes. e Máq.Equip. 1.2 '!AE3<>"",'Máq.Pes. e Máq.Equip. 1.2 '!M3="Máquinas Pesadas"),"<br>Combustível: "& 'Máq.Pes. e Máq.Equip. 1.2 '!AE3,"") &IF( AND('Máq.Pes. e Máq.Equip. 1.2 '!AF3<>"",'Máq.Pes. e Máq.Equip. 1.2 '!M3="Máquinas Pesadas"),"<br>Tração: "& 'Máq.Pes. e Máq.Equip. 1.2 '!AF3,"") &IF(AND( 'Máq.Pes. e Máq.Equip. 1.2 '!AG3<>"",'Máq.Pes. e Máq.Equip. 1.2 '!M3="Máquinas Pesadas"),"<br>Pneus (Estado): "& 'Máq.Pes. e Máq.Equip. 1.2 '!AG3,"") &IF( AND('Máq.Pes. e Máq.Equip. 1.2 '!AH3<>"",'Máq.Pes. e Máq.Equip. 1.2 '!M3="Máquinas Pesadas"),"<br>Pneus (Quantidade): "& 'Máq.Pes. e Máq.Equip. 1.2 '!AH3,"") &IF( AND('Máq.Pes. e Máq.Equip. 1.2 '!AI3<>"",'Máq.Pes. e Máq.Equip. 1.2 '!M3="Máquinas Pesadas"),"<br>Esteira (Estado): "& 'Máq.Pes. e Máq.Equip. 1.2 '!AI3,"") &IF( AND('Máq.Pes. e Máq.Equip. 1.2 '!AJ3<>"",'Máq.Pes. e Máq.Equip. 1.2 '!M3="Máquinas Pesadas"),"<br>Acessórios: "& 'Máq.Pes. e Máq.Equip. 1.2 '!AJ3,"") &IF( AND('Máq.Pes. e Máq.Equip. 1.2 '!AK3<>"",'Máq.Pes. e Máq.Equip. 1.2 '!M3="Máquinas Pesadas"),"<br>Detalhes sobre acessórios: "& 'Máq.Pes. e Máq.Equip. 1.2 '!AK3,"") &IF( AND('Máq.Pes. e Máq.Equip. 1.2 '!AL3<>"",'Máq.Pes. e Máq.Equip. 1.2 '!M3="Máquinas Pesadas"),"<br>Não faz parte do lote: "& 'Máq.Pes. e Máq.Equip. 1.2 '!AL3,"") &IF( 'Máq.Pes. e Máq.Equip. 1.2 '!AM3="","","<br>Componentes existentes: "& 'Máq.Pes. e Máq.Equip. 1.2 '!AM3) &IF(AND('Máq.Pes. e Máq.Equip. 1.2 '!AQ3="",'Máq.Pes. e Máq.Equip. 1.2 '!AR3<=""),"<br><br>","<br><br>Observações: "&CONCATENATE(SUBSTITUTE('Máq.Pes. e Máq.Equip. 1.2 '!AR3,CHAR(10),"<br>"),"<br><b>",SUBSTITUTE('Máq.Pes. e Máq.Equip. 1.2 '!AQ3,CHAR(10),"<br>"),"</b>")&"<br><br>") &IF(Z14=0,"",MID(Listas!$G$71,1,231)&Z14&MID(Listas!$G$71,232,59)&"<br><br>") &IF(AA14=0,"",MID(Listas!$H$71,1,156)&AA14&MID(Listas!$H$71,157,189)&"<br><br>") &IF(W14="Sim",Listas!$J$71,"") -> <br><br><br> | C14: =IF('Máq.Pes. e Máq.Equip. 1.2 '!Q3="",CONCATENATE('Máq.Pes. e Máq.Equip. 1.2 '!J3,", ",'Máq.Pes. e Máq.Equip. 1.2 '!K3),'Máq.Pes. e Máq.Equip. 1.2 '!Q3) -> , | D14: ='Máq.Pes. e Máq.Equip. 1.2 '!A3 -> 0 | F14: =IF('Máq.Pes. e Máq.Equip. 1.2 '!M3="Máquina pesada",1,'Máq.Pes. e Máq.Equip. 1.2 '!AS3) -> 0 | G14: =IF('Máq.Pes. e Máq.Equip. 1.2 '!M3="Máquina pesada","",'Máq.Pes. e Máq.Equip. 1.2 '!AT3) -> 0 | H14: ='Máq.Pes. e Máq.Equip. 1.2 '!B3 -> 0 | I14: ='Máq.Pes. e Máq.Equip. 1.2 '!C3 -> 0 | J14: ='Máq.Pes. e Máq.Equip. 1.2 '!H3 -> 0 | K14: ='Máq.Pes. e Máq.Equip. 1.2 '!F3 -> 0 | L14: =IF('Máq.Pes. e Máq.Equip. 1.2 '!G3="",999999999999,'Máq.Pes. e Máq.Equip. 1.2 '!G3) -> 999999999999 | M14: ='Máq.Pes. e Máq.Equip. 1.2 '!L3 -> 0 | N14: ='Máq.Pes. e Máq.Equip. 1.2 '!I3 -> 0 | O14: ='Máq.Pes. e Máq.Equip. 1.2 '!AW3 -> 0 | Q14: ='Máq.Pes. e Máq.Equip. 1.2 '!AV3 -> 0 | T14: ='Máq.Pes. e Máq.Equip. 1.2 '!S3 -> 0 | V14: ='Máq.Pes. e Máq.Equip. 1.2 '!AZ3 -> 0 | W14: ='Máq.Pes. e Máq.Equip. 1.2 '!BA3 -> 0 | Z14: ='Máq.Pes. e Máq.Equip. 1.2 '!BB3 -> 0 | AA14: ='Máq.Pes. e Máq.Equip. 1.2 '!BC3 -> 0 | AB14: ='Máq.Pes. e Máq.Equip. 1.2 '!D3 -> 0 | AC14: ='Máq.Pes. e Máq.Equip. 1.2 '!AX3 -> 0 | AD14: ='Máq.Pes. e Máq.Equip. 1.2 '!AU3 -> 0 | AE14: =LOOKUP(2^15,SEARCH(Listas!$L$39:$L$68,Q14),Listas!$L$39:$L$68) -> #N/A | AF14: =LOOKUP(2^15,SEARCH(Listas!$M$39:$M$43,AD14),Listas!$M$39:$M$43) -> #N/A | AG14: =LOOKUP(2^15,SEARCH(Listas!$N$39:$N$42,AD14),Listas!$N$39:$N$42) -> #N/A | AH14: =LOOKUP(2^15,SEARCH(Listas!$P$39:$P$44,AC14),Listas!$P$39:$P$44) -> #N/A | AI14: =LOOKUP(2^15,SEARCH(Listas!$O$39:$O$53,AC14),Listas!$O$39:$O$53) -> #N/A | AJ14: =LOOKUP(2^15,SEARCH(Listas!$R$39:$R$43,AD14),Listas!$R$39:$R$43) -> #N/A
A16: ='Máq.Equip.'!F3 &IF('Máq.Equip.'!E3="",""," (Ref.: "&'Máq.Equip.'!E3&")") -> CENTRAL DE OXIGÊNIO (02) COMPOSTO DE COMPRESSOR PARAFUSO KAESER SIGMA, SECADOR USADA (Ref.: MGL80-86) | B16: ="" &IF('Máq.Equip.'!E3="","","Referência Local: "&'Máq.Equip.'!E3) &IF('Máq.Equip.'!G3="","<br><br>","<br><br>"&CONCATENATE(SUBSTITUTE('Máq.Equip.'!G3,CHAR(10),"<br>"),"<br>")) &IF('Máq.Equip.'!V3="","<br>","<br>"&CONCATENATE(SUBSTITUTE('Máq.Equip.'!V3,CHAR(10),"<br>"),"<br>")) &IF(Z16=0,"",MID(Listas!$G$71,1,231)&Z16&MID(Listas!$G$71,232,59)&"<br><br>") &IF(AA16=0,"",MID(Listas!$H$71,1,156)&AA16&MID(Listas!$H$71,157,189)&"<br><br>") &IF(W16="Sim",Listas!$J$71,"") -> Referência Local: MGL80-86<br><br>CENTRAL DE OXIGÊNIO (02) COMPOSTO DE COMPRESSOR PARAFUSO KAESER SIGMA, SECADOR USADA PRAZO DE RETIRADA 30 DIAS UTEIS EM CASO DE DÚVIDAS ENTRAR EM CONTATO COM : duvidasleiloes@gmail.com USADO, NO ESTADO E SEM GARANTIAS.PODENDO APRESENTAR AVÁRIAS, FALTA DE PEÇAS E COMPONENTES .<br><br> | C16: =IF('Máq.Equip.'!N3<>"",CONCATENATE('Máq.Equip.'!N3,", ",'Máq.Equip.'!O3),"") -> SÃO PAULO , SP | D16: ='Máq.Equip.'!A3 -> 10 | F16: ='Máq.Equip.'!S3 -> 1 | G16: ='Máq.Equip.'!R3 -> 1 | H16: ='Máq.Equip.'!C3 -> 0 | I16: ='Máq.Equip.'!D3 -> 0 | J16: ='Máq.Equip.'!J3 -> 0 | K16: ='Máq.Equip.'!H3 -> 32000 | L16: =IF('Máq.Equip.'!I3="",999999999999,'Máq.Equip.'!I3) -> 120000 | M16: ='Máq.Equip.'!L3 -> 0 | N16: ='Máq.Equip.'!K3 -> 1000 | T16: ='Máq.Equip.'!E3 -> MGL80-86 | W16: ='Máq.Equip.'!W3 -> 0 | Z16: ='Máq.Equip.'!X3 -> 0 | AA16: ='Máq.Equip.'!Y3 -> 0 | AB16: ='Máq.Equip.'!B3 -> 0 | AC16: ='Máq.Equip.'!T3 -> ADICIONAR | AD16: ='Máq.Equip.'!Q3 -> 0 | AE16: =LOOKUP(2^15,SEARCH(Listas!$L$39:$L$68,Q16),Listas!$L$39:$L$68) -> #N/A | AF16: =LOOKUP(2^15,SEARCH(Listas!$M$39:$M$43,AD16),Listas!$M$39:$M$43) -> #N/A | AG16: =LOOKUP(2^15,SEARCH(Listas!$N$39:$N$42,AD16),Listas!$N$39:$N$42) -> #N/A | AH16: =LOOKUP(2^15,SEARCH(Listas!$P$39:$P$44,AC16),Listas!$P$39:$P$44) -> Adicionar | AI16: =LOOKUP(2^15,SEARCH(Listas!$O$39:$O$53,AC16),Listas!$O$39:$O$53) -> #N/A | AJ16: =LOOKUP(2^15,SEARCH(Listas!$R$39:$R$43,AD16),Listas!$R$39:$R$43) -> #N/A
A17: ='Máq.Equip.'!F4 &IF('Máq.Equip.'!E4="",""," (Ref.: "&'Máq.Equip.'!E4&")") -> 2 REBOCADOR RUCKER CAP 8 TON (Ref.: DSL144) | B17: ="" &IF('Máq.Equip.'!E4="","","Referência Local: "&'Máq.Equip.'!E4) &IF('Máq.Equip.'!G4="","<br><br>","<br><br>"&CONCATENATE(SUBSTITUTE('Máq.Equip.'!G4,CHAR(10),"<br>"),"<br>")) &IF('Máq.Equip.'!V4="","<br>","<br>"&CONCATENATE(SUBSTITUTE('Máq.Equip.'!V4,CHAR(10),"<br>"),"<br>")) &IF(Z17=0,"",MID(Listas!$G$71,1,231)&Z17&MID(Listas!$G$71,232,59)&"<br><br>") &IF(AA17=0,"",MID(Listas!$H$71,1,156)&AA17&MID(Listas!$H$71,157,189)&"<br><br>") &IF(W17="Sim",Listas!$J$71,"") -> Referência Local: DSL144<br><br>2 REBOCADOR RUCKER CAP 8 TON USADO PRAZO DE RETIRADA APÓS 30 DIAS EM CASO DE DÚVIDAS ENTRAR EM CONTATO: duvidasleiloes@gmail.com USADAS, NO ESTADO E SEM GARANTIAS PODENDO APRESENTAR AVÁRIAS, FALTA DE PEÇAS E COMPONENTES.<br><br> | C17: =IF('Máq.Equip.'!N4<>"",CONCATENATE('Máq.Equip.'!N4,", ",'Máq.Equip.'!O4),"") -> SÃO PAULO , SP | D17: ='Máq.Equip.'!A4 -> 11 | F17: ='Máq.Equip.'!S4 -> 1 | G17: ='Máq.Equip.'!R4 -> 1 | H17: ='Máq.Equip.'!C4 -> 0 | I17: ='Máq.Equip.'!D4 -> 0 | J17: ='Máq.Equip.'!J4 -> 0 | K17: ='Máq.Equip.'!H4 -> 18000 | L17: =IF('Máq.Equip.'!I4="",999999999999,'Máq.Equip.'!I4) -> 65000 | M17: ='Máq.Equip.'!L4 -> 0 | N17: ='Máq.Equip.'!K4 -> 500 | T17: ='Máq.Equip.'!E4 -> DSL144 | W17: ='Máq.Equip.'!W4 -> 0 | Z17: ='Máq.Equip.'!X4 -> 0 | AA17: ='Máq.Equip.'!Y4 -> 0 | AB17: ='Máq.Equip.'!B4 -> 0 | AC17: ='Máq.Equip.'!T4 -> ADICIONAR | AD17: ='Máq.Equip.'!Q4 -> 0 | AE17: =LOOKUP(2^15,SEARCH(Listas!$L$39:$L$68,Q17),Listas!$L$39:$L$68) -> #N/A | AF17: =LOOKUP(2^15,SEARCH(Listas!$M$39:$M$43,AD17),Listas!$M$39:$M$43) -> #N/A | AG17: =LOOKUP(2^15,SEARCH(Listas!$N$39:$N$42,AD17),Listas!$N$39:$N$42) -> #N/A | AH17: =LOOKUP(2^15,SEARCH(Listas!$P$39:$P$44,AC17),Listas!$P$39:$P$44) -> Adicionar | AI17: =LOOKUP(2^15,SEARCH(Listas!$O$39:$O$53,AC17),Listas!$O$39:$O$53) -> #N/A | AJ17: =LOOKUP(2^15,SEARCH(Listas!$R$39:$R$43,AD17),Listas!$R$39:$R$43) -> #N/A
A18: ='Máq.Equip.'!F5 &IF('Máq.Equip.'!E5="",""," (Ref.: "&'Máq.Equip.'!E5&")") -> EMPILHADEIRA LINDE A GAS 3 TON (Ref.: RM25) | B18: ="" &IF('Máq.Equip.'!E5="","","Referência Local: "&'Máq.Equip.'!E5) &IF('Máq.Equip.'!G5="","<br><br>","<br><br>"&CONCATENATE(SUBSTITUTE('Máq.Equip.'!G5,CHAR(10),"<br>"),"<br>")) &IF('Máq.Equip.'!V5="","<br>","<br>"&CONCATENATE(SUBSTITUTE('Máq.Equip.'!V5,CHAR(10),"<br>"),"<br>")) &IF(Z18=0,"",MID(Listas!$G$71,1,231)&Z18&MID(Listas!$G$71,232,59)&"<br><br>") &IF(AA18=0,"",MID(Listas!$H$71,1,156)&AA18&MID(Listas!$H$71,157,189)&"<br><br>") &IF(W18="Sim",Listas!$J$71,"") -> Referência Local: RM25<br><br>EMPILHADEIRA LINDE A GAS 3 TON USADA PRAZO DE RETIRADA 30 DIAS UTEIS EM CASO DE DÚVIDAS ENTRAR EM CONTATO COM : duvidasleiloes@gmail.com USADO, NO ESTADO E SEM GARANTIAS. PODENDO APRESENTAR AVÁRIAS, FALTA DE PEÇAS E COMPONENTES .<br><br> | C18: =IF('Máq.Equip.'!N5<>"",CONCATENATE('Máq.Equip.'!N5,", ",'Máq.Equip.'!O5),"") -> SÃO PAULO , SP | D18: ='Máq.Equip.'!A5 -> 12 | F18: ='Máq.Equip.'!S5 -> 1 | G18: ='Máq.Equip.'!R5 -> 1 | H18: ='Máq.Equip.'!C5 -> 0 | I18: ='Máq.Equip.'!D5 -> 0 | J18: ='Máq.Equip.'!J5 -> 0 | K18: ='Máq.Equip.'!H5 -> 28500 | L18: =IF('Máq.Equip.'!I5="",999999999999,'Máq.Equip.'!I5) -> 65000 | M18: ='Máq.Equip.'!L5 -> 0 | N18: ='Máq.Equip.'!K5 -> 1000 | T18: ='Máq.Equip.'!E5 -> RM25 | W18: ='Máq.Equip.'!W5 -> 0 | Z18: ='Máq.Equip.'!X5 -> 0 | AA18: ='Máq.Equip.'!Y5 -> 0 | AB18: ='Máq.Equip.'!B5 -> 0 | AC18: ='Máq.Equip.'!T5 -> ADICIONAR | AD18: ='Máq.Equip.'!Q5 -> 0 | AE18: =LOOKUP(2^15,SEARCH(Listas!$L$39:$L$68,Q18),Listas!$L$39:$L$68) -> #N/A | AF18: =LOOKUP(2^15,SEARCH(Listas!$M$39:$M$43,AD18),Listas!$M$39:$M$43) -> #N/A | AG18: =LOOKUP(2^15,SEARCH(Listas!$N$39:$N$42,AD18),Listas!$N$39:$N$42) -> #N/A | AH18: =LOOKUP(2^15,SEARCH(Listas!$P$39:$P$44,AC18),Listas!$P$39:$P$44) -> Adicionar | AI18: =LOOKUP(2^15,SEARCH(Listas!$O$39:$O$53,AC18),Listas!$O$39:$O$53) -> #N/A | AJ18: =LOOKUP(2^15,SEARCH(Listas!$R$39:$R$43,AD18),Listas!$R$39:$R$43) -> #N/A
A19: ='Máq.Equip.'!F6 &IF('Máq.Equip.'!E6="",""," (Ref.: "&'Máq.Equip.'!E6&")") -> FREZADORA FERRAMENTEIRA FREZAR 1100 COM CABEÇOTE (Ref.: RM33) | B19: ="" &IF('Máq.Equip.'!E6="","","Referência Local: "&'Máq.Equip.'!E6) &IF('Máq.Equip.'!G6="","<br><br>","<br><br>"&CONCATENATE(SUBSTITUTE('Máq.Equip.'!G6,CHAR(10),"<br>"),"<br>")) &IF('Máq.Equip.'!V6="","<br>","<br>"&CONCATENATE(SUBSTITUTE('Máq.Equip.'!V6,CHAR(10),"<br>"),"<br>")) &IF(Z19=0,"",MID(Listas!$G$71,1,231)&Z19&MID(Listas!$G$71,232,59)&"<br><br>") &IF(AA19=0,"",MID(Listas!$H$71,1,156)&AA19&MID(Listas!$H$71,157,189)&"<br><br>") &IF(W19="Sim",Listas!$J$71,"") -> Referência Local: RM33<br><br>FREZADORA FERRAMENTEIRA FREZAR 1100 COM CABEÇOTE USADA PRAZO DE RETIRADA 30 DIAS UTEIS EM CASO DE DÚVIDAS ENTRAR EM CONTATO COM : duvidasleiloes@gmail.com USADO, NO ESTADO E SEM GARANTIAS. PODENDO APRESENTAR AVÁRIAS, FALTA DE PEÇAS E COMPONENTES .<br><br> | C19: =IF('Máq.Equip.'!N6<>"",CONCATENATE('Máq.Equip.'!N6,", ",'Máq.Equip.'!O6),"") -> SÃO PAULO , SP | D19: ='Máq.Equip.'!A6 -> 13 | F19: ='Máq.Equip.'!S6 -> 1 | G19: ='Máq.Equip.'!R6 -> 1 | H19: ='Máq.Equip.'!C6 -> 0 | I19: ='Máq.Equip.'!D6 -> 0 | J19: ='Máq.Equip.'!J6 -> 0 | K19: ='Máq.Equip.'!H6 -> 13500 | L19: =IF('Máq.Equip.'!I6="",999999999999,'Máq.Equip.'!I6) -> 28000 | M19: ='Máq.Equip.'!L6 -> 0 | N19: ='Máq.Equip.'!K6 -> 500 | T19: ='Máq.Equip.'!E6 -> RM33 | W19: ='Máq.Equip.'!W6 -> 0 | Z19: ='Máq.Equip.'!X6 -> 0 | AA19: ='Máq.Equip.'!Y6 -> 0 | AB19: ='Máq.Equip.'!B6 -> 0 | AC19: ='Máq.Equip.'!T6 -> ADICIONAR | AD19: ='Máq.Equip.'!Q6 -> 0 | AE19: =LOOKUP(2^15,SEARCH(Listas!$L$39:$L$68,Q19),Listas!$L$39:$L$68) -> #N/A | AF19: =LOOKUP(2^15,SEARCH(Listas!$M$39:$M$43,AD19),Listas!$M$39:$M$43) -> #N/A | AG19: =LOOKUP(2^15,SEARCH(Listas!$N$39:$N$42,AD19),Listas!$N$39:$N$42) -> #N/A | AH19: =LOOKUP(2^15,SEARCH(Listas!$P$39:$P$44,AC19),Listas!$P$39:$P$44) -> Adicionar | AI19: =LOOKUP(2^15,SEARCH(Listas!$O$39:$O$53,AC19),Listas!$O$39:$O$53) -> #N/A | AJ19: =LOOKUP(2^15,SEARCH(Listas!$R$39:$R$43,AD19),Listas!$R$39:$R$43) -> #N/A
A20: ='Máq.Equip.'!F7 &IF('Máq.Equip.'!E7="",""," (Ref.: "&'Máq.Equip.'!E7&")") -> AQUECEDOR INDUTIVO JAMO COM PAINEL (Ref.: RM33-2) | B20: ="" &IF('Máq.Equip.'!E7="","","Referência Local: "&'Máq.Equip.'!E7) &IF('Máq.Equip.'!G7="","<br><br>","<br><br>"&CONCATENATE(SUBSTITUTE('Máq.Equip.'!G7,CHAR(10),"<br>"),"<br>")) &IF('Máq.Equip.'!V7="","<br>","<br>"&CONCATENATE(SUBSTITUTE('Máq.Equip.'!V7,CHAR(10),"<br>"),"<br>")) &IF(Z20=0,"",MID(Listas!$G$71,1,231)&Z20&MID(Listas!$G$71,232,59)&"<br><br>") &IF(AA20=0,"",MID(Listas!$H$71,1,156)&AA20&MID(Listas!$H$71,157,189)&"<br><br>") &IF(W20="Sim",Listas!$J$71,"") -> Referência Local: RM33-2<br><br>AQUECEDOR INDUTIVO JAMO COM PAINEL USADO PRAZO DE RETIRADA 30 DIAS UTEIS EM CASO DE DÚVIDAS ENTRAR EM CONTATO COM : duvidasleiloes@gmail.com USADO, NO ESTADO E SEM GARANTIAS. PODENDO APRESENTAR AVÁRIAS, FALTA DE PEÇAS E COMPONENTES .<br><br> | C20: =IF('Máq.Equip.'!N7<>"",CONCATENATE('Máq.Equip.'!N7,", ",'Máq.Equip.'!O7),"") -> SÃO PAULO , SP | D20: ='Máq.Equip.'!A7 -> 15 | F20: ='Máq.Equip.'!S7 -> 1 | G20: ='Máq.Equip.'!R7 -> 1 | H20: ='Máq.Equip.'!C7 -> 0 | I20: ='Máq.Equip.'!D7 -> 0 | J20: ='Máq.Equip.'!J7 -> 0 | K20: ='Máq.Equip.'!H7 -> 5000 | L20: =IF('Máq.Equip.'!I7="",999999999999,'Máq.Equip.'!I7) -> 18000 | M20: ='Máq.Equip.'!L7 -> 0 | N20: ='Máq.Equip.'!K7 -> 250 | T20: ='Máq.Equip.'!E7 -> RM33-2 | W20: ='Máq.Equip.'!W7 -> 0 | Z20: ='Máq.Equip.'!X7 -> 0 | AA20: ='Máq.Equip.'!Y7 -> 0 | AB20: ='Máq.Equip.'!B7 -> 0 | AC20: ='Máq.Equip.'!T7 -> ADICIONAR | AD20: ='Máq.Equip.'!Q7 -> 0 | AE20: =LOOKUP(2^15,SEARCH(Listas!$L$39:$L$68,Q20),Listas!$L$39:$L$68) -> #N/A | AF20: =LOOKUP(2^15,SEARCH(Listas!$M$39:$M$43,AD20),Listas!$M$39:$M$43) -> #N/A | AG20: =LOOKUP(2^15,SEARCH(Listas!$N$39:$N$42,AD20),Listas!$N$39:$N$42) -> #N/A | AH20: =LOOKUP(2^15,SEARCH(Listas!$P$39:$P$44,AC20),Listas!$P$39:$P$44) -> Adicionar | AI20: =LOOKUP(2^15,SEARCH(Listas!$O$39:$O$53,AC20),Listas!$O$39:$O$53) -> #N/A | AJ20: =LOOKUP(2^15,SEARCH(Listas!$R$39:$R$43,AD20),Listas!$R$39:$R$43) -> #N/A
A21: ='Máq.Equip.'!F8 &IF('Máq.Equip.'!E8="",""," (Ref.: "&'Máq.Equip.'!E8&")") -> EMPILHADEIRA HANGCHA2.5 TON MODELO CPCD25 XRG2 ANO 2022 COM DESLOCADOR DE GARFOS (Ref.: PTL195) | B21: ="" &IF('Máq.Equip.'!E8="","","Referência Local: "&'Máq.Equip.'!E8) &IF('Máq.Equip.'!G8="","<br><br>","<br><br>"&CONCATENATE(SUBSTITUTE('Máq.Equip.'!G8,CHAR(10),"<br>"),"<br>")) &IF('Máq.Equip.'!V8="","<br>","<br>"&CONCATENATE(SUBSTITUTE('Máq.Equip.'!V8,CHAR(10),"<br>"),"<br>")) &IF(Z21=0,"",MID(Listas!$G$71,1,231)&Z21&MID(Listas!$G$71,232,59)&"<br><br>") &IF(AA21=0,"",MID(Listas!$H$71,1,156)&AA21&MID(Listas!$H$71,157,189)&"<br><br>") &IF(W21="Sim",Listas!$J$71,"") -> Referência Local: PTL195<br><br>EMPILHADEIRA HANGCHA2.5 TON MODELO CPCD25 XRG2 ANO 2022 COM DESLOCADOR DE GARFOS USADO NO ESTADO SEM GARANTIAS EM CASO DE DÚVIDAS ENTRAR EM CONTATO: duvidasleiloes@gmail.com USADAS, NO ESTADO E SEM GARANTIAS. PODENDO APRESENTAR AVÁRIAS, FALTA DE PEÇAS E COMPONENTES. PRAZO DE RETIRADA 20 DIAS UTEIS <br><br> | C21: =IF('Máq.Equip.'!N8<>"",CONCATENATE('Máq.Equip.'!N8,", ",'Máq.Equip.'!O8),"") -> SÃO PAULO , SP | D21: ='Máq.Equip.'!A8 -> 18 | F21: ='Máq.Equip.'!S8 -> 1 | G21: ='Máq.Equip.'!R8 -> 1 | H21: ='Máq.Equip.'!C8 -> 0 | I21: ='Máq.Equip.'!D8 -> 0 | J21: ='Máq.Equip.'!J8 -> 0 | K21: ='Máq.Equip.'!H8 -> 68000 | L21: =IF('Máq.Equip.'!I8="",999999999999,'Máq.Equip.'!I8) -> 95000 | M21: ='Máq.Equip.'!L8 -> 0 | N21: ='Máq.Equip.'!K8 -> 1000 | T21: ='Máq.Equip.'!E8 -> PTL195 | W21: ='Máq.Equip.'!W8 -> 0 | Z21: ='Máq.Equip.'!X8 -> 0 | AA21: ='Máq.Equip.'!Y8 -> 0 | AB21: ='Máq.Equip.'!B8 -> 0 | AC21: ='Máq.Equip.'!T8 -> ADICIONAR | AD21: ='Máq.Equip.'!Q8 -> 0 | AE21: =LOOKUP(2^15,SEARCH(Listas!$L$39:$L$68,Q21),Listas!$L$39:$L$68) -> #N/A | AF21: =LOOKUP(2^15,SEARCH(Listas!$M$39:$M$43,AD21),Listas!$M$39:$M$43) -> #N/A | AG21: =LOOKUP(2^15,SEARCH(Listas!$N$39:$N$42,AD21),Listas!$N$39:$N$42) -> #N/A | AH21: =LOOKUP(2^15,SEARCH(Listas!$P$39:$P$44,AC21),Listas!$P$39:$P$44) -> Adicionar | AI21: =LOOKUP(2^15,SEARCH(Listas!$O$39:$O$53,AC21),Listas!$O$39:$O$53) -> #N/A | AJ21: =LOOKUP(2^15,SEARCH(Listas!$R$39:$R$43,AD21),Listas!$R$39:$R$43) -> #N/A
A22: ='Máq.Equip.'!F9 &IF('Máq.Equip.'!E9="",""," (Ref.: "&'Máq.Equip.'!E9&")") -> EMPILHADEIRA YALE GP 155 VX2 CAP 7.5 TON ANO 2016 (Ref.: SXL18705) | B22: ="" &IF('Máq.Equip.'!E9="","","Referência Local: "&'Máq.Equip.'!E9) &IF('Máq.Equip.'!G9="","<br><br>","<br><br>"&CONCATENATE(SUBSTITUTE('Máq.Equip.'!G9,CHAR(10),"<br>"),"<br>")) &IF('Máq.Equip.'!V9="","<br>","<br>"&CONCATENATE(SUBSTITUTE('Máq.Equip.'!V9,CHAR(10),"<br>"),"<br>")) &IF(Z22=0,"",MID(Listas!$G$71,1,231)&Z22&MID(Listas!$G$71,232,59)&"<br><br>") &IF(AA22=0,"",MID(Listas!$H$71,1,156)&AA22&MID(Listas!$H$71,157,189)&"<br><br>") &IF(W22="Sim",Listas!$J$71,"") -> Referência Local: SXL18705<br><br>EMPILHADEIRA YALE GP 155 VX2 CAP 7.5 TON ANO 2016 USADO NO ESTADO SEM GARANTIAS EM CASO DE DÚVIDAS ENTRAR EM CONTATO: duvidasleiloes@gmail.com USADAS, NO ESTADO E SEM GARANTIAS. PODENDO APRESENTAR AVÁRIAS, FALTA DE PEÇAS E COMPONENTES. PRAZO DE RETIRADA 45 DIAS UTEIS <br><br> | C22: =IF('Máq.Equip.'!N9<>"",CONCATENATE('Máq.Equip.'!N9,", ",'Máq.Equip.'!O9),"") -> SÃO PAULO , SP | D22: ='Máq.Equip.'!A9 -> 19 | F22: ='Máq.Equip.'!S9 -> 1 | G22: ='Máq.Equip.'!R9 -> 1 | H22: ='Máq.Equip.'!C9 -> 0 | I22: ='Máq.Equip.'!D9 -> 0 | J22: ='Máq.Equip.'!J9 -> 0 | K22: ='Máq.Equip.'!H9 -> 65000 | L22: =IF('Máq.Equip.'!I9="",999999999999,'Máq.Equip.'!I9) -> 135000 | M22: ='Máq.Equip.'!L9 -> 0 | N22: ='Máq.Equip.'!K9 -> 1000 | T22: ='Máq.Equip.'!E9 -> SXL18705 | W22: ='Máq.Equip.'!W9 -> 0 | Z22: ='Máq.Equip.'!X9 -> 0 | AA22: ='Máq.Equip.'!Y9 -> 0 | AB22: ='Máq.Equip.'!B9 -> 0 | AC22: ='Máq.Equip.'!T9 -> ADICIONAR | AD22: ='Máq.Equip.'!Q9 -> 0 | AE22: =LOOKUP(2^15,SEARCH(Listas!$L$39:$L$68,Q22),Listas!$L$39:$L$68) -> #N/A | AF22: =LOOKUP(2^15,SEARCH(Listas!$M$39:$M$43,AD22),Listas!$M$39:$M$43) -> #N/A | AG22: =LOOKUP(2^15,SEARCH(Listas!$N$39:$N$42,AD22),Listas!$N$39:$N$42) -> #N/A | AH22: =LOOKUP(2^15,SEARCH(Listas!$P$39:$P$44,AC22),Listas!$P$39:$P$44) -> Adicionar | AI22: =LOOKUP(2^15,SEARCH(Listas!$O$39:$O$53,AC22),Listas!$O$39:$O$53) -> #N/A | AJ22: =LOOKUP(2^15,SEARCH(Listas!$R$39:$R$43,AD22),Listas!$R$39:$R$43) -> #N/A
A23: ='Máq.Equip.'!F10 &IF('Máq.Equip.'!E10="",""," (Ref.: "&'Máq.Equip.'!E10&")") -> EMPILHADEIRA HYSTER , MODELO H155 XL2 4x2 , CAP 7 TON, ANO 1998 (Ref.: SXL18300) | B23: ="" &IF('Máq.Equip.'!E10="","","Referência Local: "&'Máq.Equip.'!E10) &IF('Máq.Equip.'!G10="","<br><br>","<br><br>"&CONCATENATE(SUBSTITUTE('Máq.Equip.'!G10,CHAR(10),"<br>"),"<br>")) &IF('Máq.Equip.'!V10="","<br>","<br>"&CONCATENATE(SUBSTITUTE('Máq.Equip.'!V10,CHAR(10),"<br>"),"<br>")) &IF(Z23=0,"",MID(Listas!$G$71,1,231)&Z23&MID(Listas!$G$71,232,59)&"<br><br>") &IF(AA23=0,"",MID(Listas!$H$71,1,156)&AA23&MID(Listas!$H$71,157,189)&"<br><br>") &IF(W23="Sim",Listas!$J$71,"") -> Referência Local: SXL18300<br><br>EMPILHADEIRA HYSTER , MODELO H155 XL2 4x2 , CAP 7 TON, ANO 1998 USADO EM CASO DE DÚVIDAS ENTRAR EM CONTATO: duvidasleiloes@gmail.com USADAS, NO ESTADO E SEM GARANTIAS. PODENDO APRESENTAR AVÁRIAS, FALTA DE PEÇAS E COMPONENTES. PRAZO DE RETIRADA 35 DIAS UTEIS <br><br> | C23: =IF('Máq.Equip.'!N10<>"",CONCATENATE('Máq.Equip.'!N10,", ",'Máq.Equip.'!O10),"") -> SÃO PAULO , SP | D23: ='Máq.Equip.'!A10 -> 20 | F23: ='Máq.Equip.'!S10 -> 1 | G23: ='Máq.Equip.'!R10 -> 1 | H23: ='Máq.Equip.'!C10 -> 0 | I23: ='Máq.Equip.'!D10 -> 0 | J23: ='Máq.Equip.'!J10 -> 0 | K23: ='Máq.Equip.'!H10 -> 56000 | L23: =IF('Máq.Equip.'!I10="",999999999999,'Máq.Equip.'!I10) -> 78000 | M23: ='Máq.Equip.'!L10 -> 0 | N23: ='Máq.Equip.'!K10 -> 1000 | T23: ='Máq.Equip.'!E10 -> SXL18300 | W23: ='Máq.Equip.'!W10 -> 0 | Z23: ='Máq.Equip.'!X10 -> 0 | AA23: ='Máq.Equip.'!Y10 -> 0 | AB23: ='Máq.Equip.'!B10 -> 0 | AC23: ='Máq.Equip.'!T10 -> ADICIONAR | AD23: ='Máq.Equip.'!Q10 -> 0 | AE23: =LOOKUP(2^15,SEARCH(Listas!$L$39:$L$68,Q23),Listas!$L$39:$L$68) -> #N/A | AF23: =LOOKUP(2^15,SEARCH(Listas!$M$39:$M$43,AD23),Listas!$M$39:$M$43) -> #N/A | AG23: =LOOKUP(2^15,SEARCH(Listas!$N$39:$N$42,AD23),Listas!$N$39:$N$42) -> #N/A | AH23: =LOOKUP(2^15,SEARCH(Listas!$P$39:$P$44,AC23),Listas!$P$39:$P$44) -> Adicionar | AI23: =LOOKUP(2^15,SEARCH(Listas!$O$39:$O$53,AC23),Listas!$O$39:$O$53) -> #N/A | AJ23: =LOOKUP(2^15,SEARCH(Listas!$R$39:$R$43,AD23),Listas!$R$39:$R$43) -> #N/A
A24: ='Máq.Equip.'!F11 &IF('Máq.Equip.'!E11="",""," (Ref.: "&'Máq.Equip.'!E11&")") -> EMPILHADEIRA HYUNDAI CAP 7 TON ANO AQUISICAO 2014 (Ref.: SXL18358) | B24: ="" &IF('Máq.Equip.'!E11="","","Referência Local: "&'Máq.Equip.'!E11) &IF('Máq.Equip.'!G11="","<br><br>","<br><br>"&CONCATENATE(SUBSTITUTE('Máq.Equip.'!G11,CHAR(10),"<br>"),"<br>")) &IF('Máq.Equip.'!V11="","<br>","<br>"&CONCATENATE(SUBSTITUTE('Máq.Equip.'!V11,CHAR(10),"<br>"),"<br>")) &IF(Z24=0,"",MID(Listas!$G$71,1,231)&Z24&MID(Listas!$G$71,232,59)&"<br><br>") &IF(AA24=0,"",MID(Listas!$H$71,1,156)&AA24&MID(Listas!$H$71,157,189)&"<br><br>") &IF(W24="Sim",Listas!$J$71,"") -> Referência Local: SXL18358<br><br>EMPILHADEIRA HYUNDAI CAP 7 TON ANO AQUISICAO 2014<br>EM CASO DE DÚVIDAS ENTRAR EM CONTATO: duvidasleiloes@gmail.com<br>USADAS, NO ESTADO E SEM GARANTIAS.<br>PODENDO APRESENTAR AVÁRIAS, FALTA DE PEÇAS E COMPONENTES.<br>PRAZO DE RETIRADA EM ATÉ 60 DIAS UTEIS -PODENDO ANTECIPAR <br><br> | C24: =IF('Máq.Equip.'!N11<>"",CONCATENATE('Máq.Equip.'!N11,", ",'Máq.Equip.'!O11),"") -> SÃO PAULO , SP | D24: ='Máq.Equip.'!A11 -> 21 | F24: ='Máq.Equip.'!S11 -> 1 | G24: ='Máq.Equip.'!R11 -> 1 | H24: ='Máq.Equip.'!C11 -> 0 | I24: ='Máq.Equip.'!D11 -> 0 | J24: ='Máq.Equip.'!J11 -> 0 | K24: ='Máq.Equip.'!H11 -> 58500 | L24: =IF('Máq.Equip.'!I11="",999999999999,'Máq.Equip.'!I11) -> 90000 | M24: ='Máq.Equip.'!L11 -> 0 | N24: ='Máq.Equip.'!K11 -> 1000 | T24: ='Máq.Equip.'!E11 -> SXL18358 | W24: ='Máq.Equip.'!W11 -> 0 | Z24: ='Máq.Equip.'!X11 -> 0 | AA24: ='Máq.Equip.'!Y11 -> 0 | AB24: ='Máq.Equip.'!B11 -> 0 | AC24: ='Máq.Equip.'!T11 -> ADICIONAR | AD24: ='Máq.Equip.'!Q11 -> 0 | AE24: =LOOKUP(2^15,SEARCH(Listas!$L$39:$L$68,Q24),Listas!$L$39:$L$68) -> #N/A | AF24: =LOOKUP(2^15,SEARCH(Listas!$M$39:$M$43,AD24),Listas!$M$39:$M$43) -> #N/A | AG24: =LOOKUP(2^15,SEARCH(Listas!$N$39:$N$42,AD24),Listas!$N$39:$N$42) -> #N/A | AH24: =LOOKUP(2^15,SEARCH(Listas!$P$39:$P$44,AC24),Listas!$P$39:$P$44) -> Adicionar | AI24: =LOOKUP(2^15,SEARCH(Listas!$O$39:$O$53,AC24),Listas!$O$39:$O$53) -> #N/A | AJ24: =LOOKUP(2^15,SEARCH(Listas!$R$39:$R$43,AD24),Listas!$R$39:$R$43) -> #N/A
A25: ='Máq.Equip.'!F12 &IF('Máq.Equip.'!E12="",""," (Ref.: "&'Máq.Equip.'!E12&")") -> EMPILHADEIRA YALE 7,5 TON VERACITOR 155VX (AQUISIÇÃO 2016 ) (Ref.: SXL18483) | B25: ="" &IF('Máq.Equip.'!E12="","","Referência Local: "&'Máq.Equip.'!E12) &IF('Máq.Equip.'!G12="","<br><br>","<br><br>"&CONCATENATE(SUBSTITUTE('Máq.Equip.'!G12,CHAR(10),"<br>"),"<br>")) &IF('Máq.Equip.'!V12="","<br>","<br>"&CONCATENATE(SUBSTITUTE('Máq.Equip.'!V12,CHAR(10),"<br>"),"<br>")) &IF(Z25=0,"",MID(Listas!$G$71,1,231)&Z25&MID(Listas!$G$71,232,59)&"<br><br>") &IF(AA25=0,"",MID(Listas!$H$71,1,156)&AA25&MID(Listas!$H$71,157,189)&"<br><br>") &IF(W25="Sim",Listas!$J$71,"") -> Referência Local: SXL18483<br><br>EMPILHADEIRA YALE 7,5 TON VERACITOR 155VX (AQUISIÇÃO 2016 ) <br>EM CASO DE DÚVIDAS ENTRAR EM CONTATO: duvidasleiloes@gmail.com<br>USADAS, NO ESTADO E SEM GARANTIAS.<br>PODENDO APRESENTAR AVÁRIAS, FALTA DE PEÇAS E COMPONENTES.<br>PRAZO DE RETIRADA 35 DIAS UTEIS <br><br> | C25: =IF('Máq.Equip.'!N12<>"",CONCATENATE('Máq.Equip.'!N12,", ",'Máq.Equip.'!O12),"") -> SÃO PAULO , SP | D25: ='Máq.Equip.'!A12 -> 29 | F25: ='Máq.Equip.'!S12 -> 1 | G25: ='Máq.Equip.'!R12 -> 1 | H25: ='Máq.Equip.'!C12 -> 0 | I25: ='Máq.Equip.'!D12 -> 0 | J25: ='Máq.Equip.'!J12 -> 0 | K25: ='Máq.Equip.'!H12 -> 69000 | L25: =IF('Máq.Equip.'!I12="",999999999999,'Máq.Equip.'!I12) -> 135000 | M25: ='Máq.Equip.'!L12 -> 0 | N25: ='Máq.Equip.'!K12 -> 1000 | T25: ='Máq.Equip.'!E12 -> SXL18483 | W25: ='Máq.Equip.'!W12 -> 0 | Z25: ='Máq.Equip.'!X12 -> 0 | AA25: ='Máq.Equip.'!Y12 -> 0 | AB25: ='Máq.Equip.'!B12 -> 0 | AC25: ='Máq.Equip.'!T12 -> ADICIONAR | AD25: ='Máq.Equip.'!Q12 -> 0 | AE25: =LOOKUP(2^15,SEARCH(Listas!$L$39:$L$68,Q25),Listas!$L$39:$L$68) -> #N/A | AF25: =LOOKUP(2^15,SEARCH(Listas!$M$39:$M$43,AD25),Listas!$M$39:$M$43) -> #N/A | AG25: =LOOKUP(2^15,SEARCH(Listas!$N$39:$N$42,AD25),Listas!$N$39:$N$42) -> #N/A | AH25: =LOOKUP(2^15,SEARCH(Listas!$P$39:$P$44,AC25),Listas!$P$39:$P$44) -> Adicionar | AI25: =LOOKUP(2^15,SEARCH(Listas!$O$39:$O$53,AC25),Listas!$O$39:$O$53) -> #N/A | AJ25: =LOOKUP(2^15,SEARCH(Listas!$R$39:$R$43,AD25),Listas!$R$39:$R$43) -> #N/A
A26: ='Máq.Equip.'!#REF! &IF('Máq.Equip.'!#REF!="",""," (Ref.: "&'Máq.Equip.'!#REF!&")") -> #REF! | B26: ="" &IF('Máq.Equip.'!#REF!="","","Referência Local: "&'Máq.Equip.'!#REF!) &IF('Máq.Equip.'!#REF!="","<br><br>","<br><br>"&CONCATENATE(SUBSTITUTE('Máq.Equip.'!#REF!,CHAR(10),"<br>"),"<br>")) &IF('Máq.Equip.'!#REF!="","<br>","<br>"&CONCATENATE(SUBSTITUTE('Máq.Equip.'!#REF!,CHAR(10),"<br>"),"<br>")) &IF(Z26=0,"",MID(Listas!$G$71,1,231)&Z26&MID(Listas!$G$71,232,59)&"<br><br>") &IF(AA26=0,"",MID(Listas!$H$71,1,156)&AA26&MID(Listas!$H$71,157,189)&"<br><br>") &IF(W26="Sim",Listas!$J$71,"") -> #REF! | C26: =IF('Máq.Equip.'!#REF!<>"",CONCATENATE('Máq.Equip.'!#REF!,", ",'Máq.Equip.'!#REF!),"") -> #REF! | D26: ='Máq.Equip.'!#REF! -> #REF! | F26: ='Máq.Equip.'!#REF! -> #REF! | G26: ='Máq.Equip.'!#REF! -> #REF! | H26: ='Máq.Equip.'!#REF! -> #REF! | I26: ='Máq.Equip.'!#REF! -> #REF! | J26: ='Máq.Equip.'!#REF! -> #REF! | K26: ='Máq.Equip.'!#REF! -> #REF! | L26: =IF('Máq.Equip.'!#REF!="",999999999999,'Máq.Equip.'!#REF!) -> #REF! | M26: ='Máq.Equip.'!#REF! -> #REF! | N26: ='Máq.Equip.'!#REF! -> #REF! | T26: ='Máq.Equip.'!#REF! -> #REF! | W26: ='Máq.Equip.'!#REF! -> #REF! | Z26: ='Máq.Equip.'!#REF! -> #REF! | AA26: ='Máq.Equip.'!#REF! -> #REF! | AB26: ='Máq.Equip.'!#REF! -> #REF! | AC26: ='Máq.Equip.'!#REF! -> #REF! | AD26: ='Máq.Equip.'!#REF! -> #REF! | AE26: =LOOKUP(2^15,SEARCH(Listas!$L$39:$L$68,Q26),Listas!$L$39:$L$68) -> #N/A | AF26: =LOOKUP(2^15,SEARCH(Listas!$M$39:$M$43,AD26),Listas!$M$39:$M$43) -> #N/A | AG26: =LOOKUP(2^15,SEARCH(Listas!$N$39:$N$42,AD26),Listas!$N$39:$N$42) -> #N/A | AH26: =LOOKUP(2^15,SEARCH(Listas!$P$39:$P$44,AC26),Listas!$P$39:$P$44) -> #N/A | AI26: =LOOKUP(2^15,SEARCH(Listas!$O$39:$O$53,AC26),Listas!$O$39:$O$53) -> #N/A | AJ26: =LOOKUP(2^15,SEARCH(Listas!$R$39:$R$43,AD26),Listas!$R$39:$R$43) -> #N/A
A27: ='Máq.Equip.'!F13 &IF('Máq.Equip.'!E13="",""," (Ref.: "&'Máq.Equip.'!E13&")") -> RETIFICA CILINDRICA INTERNA WMW-VEB WERKZEAGMASCHINEFABRIK MODELOS1 125X175 (Ref.: 20556) | B27: ="" &IF('Máq.Equip.'!E13="","","Referência Local: "&'Máq.Equip.'!E13) &IF('Máq.Equip.'!G13="","<br><br>","<br><br>"&CONCATENATE(SUBSTITUTE('Máq.Equip.'!G13,CHAR(10),"<br>"),"<br>")) &IF('Máq.Equip.'!V13="","<br>","<br>"&CONCATENATE(SUBSTITUTE('Máq.Equip.'!V13,CHAR(10),"<br>"),"<br>")) &IF(Z27=0,"",MID(Listas!$G$71,1,231)&Z27&MID(Listas!$G$71,232,59)&"<br><br>") &IF(AA27=0,"",MID(Listas!$H$71,1,156)&AA27&MID(Listas!$H$71,157,189)&"<br><br>") &IF(W27="Sim",Listas!$J$71,"") -> Referência Local: 20556<br><br>RETIFICA CILINDRICA INTERNA WMW-VEB WERKZEAGMASCHINEFABRIK MODELOS1 125X175 USADO EM CASO DE DÚVIDAS ENTRAR EM CONTATO: duvidasleiloes@gmail.com USADAS, NO ESTADO E SEM GARANTIAS. PODENDO APRESENTAR AVÁRIAS, FALTA DE PEÇAS E COMPONENTES.<br><br> | C27: =IF('Máq.Equip.'!N13<>"",CONCATENATE('Máq.Equip.'!N13,", ",'Máq.Equip.'!O13),"") -> SÃO PAULO , SP | D27: ='Máq.Equip.'!A13 -> 30 | F27: ='Máq.Equip.'!S13 -> 1 | G27: ='Máq.Equip.'!R13 -> 1 | H27: ='Máq.Equip.'!C13 -> 0 | I27: ='Máq.Equip.'!D13 -> 0 | J27: ='Máq.Equip.'!J13 -> 0 | K27: ='Máq.Equip.'!H13 -> 7800 | L27: =IF('Máq.Equip.'!I13="",999999999999,'Máq.Equip.'!I13) -> 35000 | M27: ='Máq.Equip.'!L13 -> 0 | N27: ='Máq.Equip.'!K13 -> 500 | T27: ='Máq.Equip.'!E13 -> 20556 | W27: ='Máq.Equip.'!W13 -> 0 | Z27: ='Máq.Equip.'!X13 -> 0 | AA27: ='Máq.Equip.'!Y13 -> 0 | AB27: ='Máq.Equip.'!B13 -> 0 | AC27: ='Máq.Equip.'!T13 -> 0 | AD27: ='Máq.Equip.'!Q13 -> 0 | AE27: =LOOKUP(2^15,SEARCH(Listas!$L$39:$L$68,Q27),Listas!$L$39:$L$68) -> #N/A | AF27: =LOOKUP(2^15,SEARCH(Listas!$M$39:$M$43,AD27),Listas!$M$39:$M$43) -> #N/A | AG27: =LOOKUP(2^15,SEARCH(Listas!$N$39:$N$42,AD27),Listas!$N$39:$N$42) -> #N/A | AH27: =LOOKUP(2^15,SEARCH(Listas!$P$39:$P$44,AC27),Listas!$P$39:$P$44) -> #N/A | AI27: =LOOKUP(2^15,SEARCH(Listas!$O$39:$O$53,AC27),Listas!$O$39:$O$53) -> #N/A | AJ27: =LOOKUP(2^15,SEARCH(Listas!$R$39:$R$43,AD27),Listas!$R$39:$R$43) -> #N/A
A28: ='Máq.Equip.'!F14 &IF('Máq.Equip.'!E14="",""," (Ref.: "&'Máq.Equip.'!E14&")") -> 10 VIGAS EM AÇO COM 3 MTS X 35 CM ALTURA X 15 CM LARGURA (PESO APROX 550 KG) (Ref.: 20653) | B28: ="" &IF('Máq.Equip.'!E14="","","Referência Local: "&'Máq.Equip.'!E14) &IF('Máq.Equip.'!G14="","<br><br>","<br><br>"&CONCATENATE(SUBSTITUTE('Máq.Equip.'!G14,CHAR(10),"<br>"),"<br>")) &IF('Máq.Equip.'!V14="","<br>","<br>"&CONCATENATE(SUBSTITUTE('Máq.Equip.'!V14,CHAR(10),"<br>"),"<br>")) &IF(Z28=0,"",MID(Listas!$G$71,1,231)&Z28&MID(Listas!$G$71,232,59)&"<br><br>") &IF(AA28=0,"",MID(Listas!$H$71,1,156)&AA28&MID(Listas!$H$71,157,189)&"<br><br>") &IF(W28="Sim",Listas!$J$71,"") -> Referência Local: 20653<br><br>10 VIGAS EM AÇO COM 3 MTS X 35 CM ALTURA X 15 CM LARGURA (PESO APROX 550 KG)<br>EM CASO DE DÚVIDAS ENTRAR EM CONTATO: duvidasleiloes@gmail.com<br>USADAS, NO ESTADO E SEM GARANTIAS.<br>PODENDO APRESENTAR AVÁRIAS, FALTA DE PEÇAS E COMPONENTES<br><br> | C28: =IF('Máq.Equip.'!N14<>"",CONCATENATE('Máq.Equip.'!N14,", ",'Máq.Equip.'!O14),"") -> SÃO PAULO , SP | D28: ='Máq.Equip.'!A14 -> 49 | F28: ='Máq.Equip.'!S14 -> 1 | G28: ='Máq.Equip.'!R14 -> 1 | H28: ='Máq.Equip.'!C14 -> 0 | I28: ='Máq.Equip.'!D14 -> 0 | J28: ='Máq.Equip.'!J14 -> 0 | K28: ='Máq.Equip.'!H14 -> 1900 | L28: =IF('Máq.Equip.'!I14="",999999999999,'Máq.Equip.'!I14) -> 6500 | M28: ='Máq.Equip.'!L14 -> 0 | N28: ='Máq.Equip.'!K14 -> 250 | T28: ='Máq.Equip.'!E14 -> 20653 | W28: ='Máq.Equip.'!W14 -> 0 | Z28: ='Máq.Equip.'!X14 -> 0 | AA28: ='Máq.Equip.'!Y14 -> 0 | AB28: ='Máq.Equip.'!B14 -> 0 | AC28: ='Máq.Equip.'!T14 -> ADICIONAR | AD28: ='Máq.Equip.'!Q14 -> 0 | AE28: =LOOKUP(2^15,SEARCH(Listas!$L$39:$L$68,Q28),Listas!$L$39:$L$68) -> #N/A | AF28: =LOOKUP(2^15,SEARCH(Listas!$M$39:$M$43,AD28),Listas!$M$39:$M$43) -> #N/A | AG28: =LOOKUP(2^15,SEARCH(Listas!$N$39:$N$42,AD28),Listas!$N$39:$N$42) -> #N/A | AH28: =LOOKUP(2^15,SEARCH(Listas!$P$39:$P$44,AC28),Listas!$P$39:$P$44) -> Adicionar | AI28: =LOOKUP(2^15,SEARCH(Listas!$O$39:$O$53,AC28),Listas!$O$39:$O$53) -> #N/A | AJ28: =LOOKUP(2^15,SEARCH(Listas!$R$39:$R$43,AD28),Listas!$R$39:$R$43) -> #N/A
A29: ='Máq.Equip.'!F15 &IF('Máq.Equip.'!E15="",""," (Ref.: "&'Máq.Equip.'!E15&")") -> 7 VIGAS EM AÇO COM APROX 3 MTS X 28 CM ALTURA X 15 CM LARGURA (PESO APROX 450 KG) (Ref.: 20650) | B29: ="" &IF('Máq.Equip.'!E15="","","Referência Local: "&'Máq.Equip.'!E15) &IF('Máq.Equip.'!G15="","<br><br>","<br><br>"&CONCATENATE(SUBSTITUTE('Máq.Equip.'!G15,CHAR(10),"<br>"),"<br>")) &IF('Máq.Equip.'!V15="","<br>","<br>"&CONCATENATE(SUBSTITUTE('Máq.Equip.'!V15,CHAR(10),"<br>"),"<br>")) &IF(Z29=0,"",MID(Listas!$G$71,1,231)&Z29&MID(Listas!$G$71,232,59)&"<br><br>") &IF(AA29=0,"",MID(Listas!$H$71,1,156)&AA29&MID(Listas!$H$71,157,189)&"<br><br>") &IF(W29="Sim",Listas!$J$71,"") -> Referência Local: 20650<br><br>7 VIGAS EM AÇO COM APROX 3 MTS X 28 CM ALTURA X 15 CM LARGURA (PESO APROX 450 KG)<br>EM CASO DE DÚVIDAS ENTRAR EM CONTATO: duvidasleiloes@gmail.com<br>USADAS, NO ESTADO E SEM GARANTIAS.<br>PODENDO APRESENTAR AVÁRIAS, FALTA DE PEÇAS E COMPONENTES<br><br> | C29: =IF('Máq.Equip.'!N15<>"",CONCATENATE('Máq.Equip.'!N15,", ",'Máq.Equip.'!O15),"") -> SÃO PAULO , SP | D29: ='Máq.Equip.'!A15 -> 50 | F29: ='Máq.Equip.'!S15 -> 1 | G29: ='Máq.Equip.'!R15 -> 1 | H29: ='Máq.Equip.'!C15 -> 0 | I29: ='Máq.Equip.'!D15 -> 0 | J29: ='Máq.Equip.'!J15 -> 0 | K29: ='Máq.Equip.'!H15 -> 1600 | L29: =IF('Máq.Equip.'!I15="",999999999999,'Máq.Equip.'!I15) -> 5000 | M29: ='Máq.Equip.'!L15 -> 0 | N29: ='Máq.Equip.'!K15 -> 250 | T29: ='Máq.Equip.'!E15 -> 20650 | W29: ='Máq.Equip.'!W15 -> 0 | Z29: ='Máq.Equip.'!X15 -> 0 | AA29: ='Máq.Equip.'!Y15 -> 0 | AB29: ='Máq.Equip.'!B15 -> 0 | AC29: ='Máq.Equip.'!T15 -> ADICIONAR | AD29: ='Máq.Equip.'!Q15 -> 0 | AE29: =LOOKUP(2^15,SEARCH(Listas!$L$39:$L$68,Q29),Listas!$L$39:$L$68) -> #N/A | AF29: =LOOKUP(2^15,SEARCH(Listas!$M$39:$M$43,AD29),Listas!$M$39:$M$43) -> #N/A | AG29: =LOOKUP(2^15,SEARCH(Listas!$N$39:$N$42,AD29),Listas!$N$39:$N$42) -> #N/A | AH29: =LOOKUP(2^15,SEARCH(Listas!$P$39:$P$44,AC29),Listas!$P$39:$P$44) -> Adicionar | AI29: =LOOKUP(2^15,SEARCH(Listas!$O$39:$O$53,AC29),Listas!$O$39:$O$53) -> #N/A | AJ29: =LOOKUP(2^15,SEARCH(Listas!$R$39:$R$43,AD29),Listas!$R$39:$R$43) -> #N/A
A30: ='Máq.Equip.'!F16 &IF('Máq.Equip.'!E16="",""," (Ref.: "&'Máq.Equip.'!E16&")") -> 20 VIGAS EM AÇO SENDO 5 VIGAS COM 3.80 MTS X 40CM ALT X 15 CM LARG,3 VIGAS EM AÇO 4.10 MTS X 40CM ALT X 15CM LARG. 8 VIGAS EM AÇO 3.60MTS X 40CM ALT X 15CM LARG , 4 VIGAS 3.60 MTS X 40CM ALT X 15CM LARG PESO APROX.5.500KG (Ref.: 20682) | B30: ="" &IF('Máq.Equip.'!E16="","","Referência Local: "&'Máq.Equip.'!E16) &IF('Máq.Equip.'!G16="","<br><br>","<br><br>"&CONCATENATE(SUBSTITUTE('Máq.Equip.'!G16,CHAR(10),"<br>"),"<br>")) &IF('Máq.Equip.'!V16="","<br>","<br>"&CONCATENATE(SUBSTITUTE('Máq.Equip.'!V16,CHAR(10),"<br>"),"<br>")) &IF(Z30=0,"",MID(Listas!$G$71,1,231)&Z30&MID(Listas!$G$71,232,59)&"<br><br>") &IF(AA30=0,"",MID(Listas!$H$71,1,156)&AA30&MID(Listas!$H$71,157,189)&"<br><br>") &IF(W30="Sim",Listas!$J$71,"") -> Referência Local: 20682<br><br>20 VIGAS EM AÇO SENDO 5 VIGAS COM 3.80 MTS X 40CM ALT X 15 CM LARG,3 VIGAS EM AÇO 4.10 MTS X 40CM ALT X 15CM LARG. 8 VIGAS EM AÇO 3.60MTS X 40CM ALT X 15CM LARG , 4 VIGAS 3.60 MTS X 40CM ALT X 15CM LARG PESO APROX.5.500KG EM CASO DE DÚVIDAS ENTRAR EM CONTATO COM : duvidasleiloes@gmail.com USADAS NO ESTADO SEM GARANTIAS PODENDO APRESENTAR AVÁRIAS , FALTA DE PEÇAS E COMPONENTES<br><br> | C30: =IF('Máq.Equip.'!N16<>"",CONCATENATE('Máq.Equip.'!N16,", ",'Máq.Equip.'!O16),"") -> SÃO PAULO , SP | D30: ='Máq.Equip.'!A16 -> 51 | F30: ='Máq.Equip.'!S16 -> 1 | G30: ='Máq.Equip.'!R16 -> 1 | H30: ='Máq.Equip.'!C16 -> 0 | I30: ='Máq.Equip.'!D16 -> 0 | J30: ='Máq.Equip.'!J16 -> 0 | K30: ='Máq.Equip.'!H16 -> 19800 | L30: =IF('Máq.Equip.'!I16="",999999999999,'Máq.Equip.'!I16) -> 55000 | M30: ='Máq.Equip.'!L16 -> 0 | N30: ='Máq.Equip.'!K16 -> 500 | T30: ='Máq.Equip.'!E16 -> 20682 | W30: ='Máq.Equip.'!W16 -> 0 | Z30: ='Máq.Equip.'!X16 -> 0 | AA30: ='Máq.Equip.'!Y16 -> 0 | AB30: ='Máq.Equip.'!B16 -> 0 | AC30: ='Máq.Equip.'!T16 -> ADICIONAR | AD30: ='Máq.Equip.'!Q16 -> 0 | AE30: =LOOKUP(2^15,SEARCH(Listas!$L$39:$L$68,Q30),Listas!$L$39:$L$68) -> #N/A | AF30: =LOOKUP(2^15,SEARCH(Listas!$M$39:$M$43,AD30),Listas!$M$39:$M$43) -> #N/A | AG30: =LOOKUP(2^15,SEARCH(Listas!$N$39:$N$42,AD30),Listas!$N$39:$N$42) -> #N/A | AH30: =LOOKUP(2^15,SEARCH(Listas!$P$39:$P$44,AC30),Listas!$P$39:$P$44) -> Adicionar | AI30: =LOOKUP(2^15,SEARCH(Listas!$O$39:$O$53,AC30),Listas!$O$39:$O$53) -> #N/A | AJ30: =LOOKUP(2^15,SEARCH(Listas!$R$39:$R$43,AD30),Listas!$R$39:$R$43) -> #N/A
A31: ='Máq.Equip.'!F17 &IF('Máq.Equip.'!E17="",""," (Ref.: "&'Máq.Equip.'!E17&")") -> 14 VIGAS EM AÇO COM 5,95 MTS X 28 CM ALTURA X 15 CM LARGURA (PESO APROX 1900 KG) (Ref.: 20667) | B31: ="" &IF('Máq.Equip.'!E17="","","Referência Local: "&'Máq.Equip.'!E17) &IF('Máq.Equip.'!G17="","<br><br>","<br><br>"&CONCATENATE(SUBSTITUTE('Máq.Equip.'!G17,CHAR(10),"<br>"),"<br>")) &IF('Máq.Equip.'!V17="","<br>","<br>"&CONCATENATE(SUBSTITUTE('Máq.Equip.'!V17,CHAR(10),"<br>"),"<br>")) &IF(Z31=0,"",MID(Listas!$G$71,1,231)&Z31&MID(Listas!$G$71,232,59)&"<br><br>") &IF(AA31=0,"",MID(Listas!$H$71,1,156)&AA31&MID(Listas!$H$71,157,189)&"<br><br>") &IF(W31="Sim",Listas!$J$71,"") -> Referência Local: 20667<br><br>14 VIGAS EM AÇO COM 5,95 MTS X 28 CM ALTURA X 15 CM LARGURA (PESO APROX 1900 KG)<br>EM CASO DE DÚVIDAS ENTRAR EM CONTATO: duvidasleiloes@gmail.com<br>USADAS, NO ESTADO E SEM GARANTIAS.<br>PODENDO APRESENTAR AVÁRIAS, FALTA DE PEÇAS E COMPONENTES<br><br> | C31: =IF('Máq.Equip.'!N17<>"",CONCATENATE('Máq.Equip.'!N17,", ",'Máq.Equip.'!O17),"") -> SÃO PAULO , SP | D31: ='Máq.Equip.'!A17 -> 52 | F31: ='Máq.Equip.'!S17 -> 1 | G31: ='Máq.Equip.'!R17 -> 1 | H31: ='Máq.Equip.'!C17 -> 0 | I31: ='Máq.Equip.'!D17 -> 0 | J31: ='Máq.Equip.'!J17 -> 0 | K31: ='Máq.Equip.'!H17 -> 6800 | L31: =IF('Máq.Equip.'!I17="",999999999999,'Máq.Equip.'!I17) -> 20000 | M31: ='Máq.Equip.'!L17 -> 0 | N31: ='Máq.Equip.'!K17 -> 500 | T31: ='Máq.Equip.'!E17 -> 20667 | W31: ='Máq.Equip.'!W17 -> 0 | Z31: ='Máq.Equip.'!X17 -> 0 | AA31: ='Máq.Equip.'!Y17 -> 0 | AB31: ='Máq.Equip.'!B17 -> 0 | AC31: ='Máq.Equip.'!T17 -> ADICIONAR | AD31: ='Máq.Equip.'!Q17 -> 0 | AE31: =LOOKUP(2^15,SEARCH(Listas!$L$39:$L$68,Q31),Listas!$L$39:$L$68) -> #N/A | AF31: =LOOKUP(2^15,SEARCH(Listas!$M$39:$M$43,AD31),Listas!$M$39:$M$43) -> #N/A | AG31: =LOOKUP(2^15,SEARCH(Listas!$N$39:$N$42,AD31),Listas!$N$39:$N$42) -> #N/A | AH31: =LOOKUP(2^15,SEARCH(Listas!$P$39:$P$44,AC31),Listas!$P$39:$P$44) -> Adicionar | AI31: =LOOKUP(2^15,SEARCH(Listas!$O$39:$O$53,AC31),Listas!$O$39:$O$53) -> #N/A | AJ31: =LOOKUP(2^15,SEARCH(Listas!$R$39:$R$43,AD31),Listas!$R$39:$R$43) -> #N/A
