Workbook
Name Cinco: Listas2!$E$17:$E$17
Name Dois: Listas2!$B$17:$B$18
Name Motor: OFFSET(Listas2!$A$4,1,MATCH(Veic.Leves!$A:$A,Partida,0),COUNTA(INDEX(Status,,MATCH(Veic.Leves!$A:$A,Partida,0))))
Name Não: Listas2!$C$5:$C$12
Name Nao_Testado: Listas2!$D$5
Name Quatro: Listas2!$D$17:$D$18
Name Sim: Listas2!$B$5:$B$7
Name Três: Listas2!$C$17:$C$18

Sheet gestor
A1: ProdutoTitulo | B1: ProdutoDescricao | C1: ProdutoEndereco | D1: ProdutoNumero | E1: ProdutoSubLote | F1: ProdutoQuantidade | G1: ProdutoMedida | H1: ProdutoReferencia | I1: ProdutoProjeto | J1: ProdutoAvaliacao | K1: ProdutoInicial | L1: ProdutoReserva | M1: ProdutoValorVendedor | N1: ProdutoIncremento | O1: VeiculoDebitos | P1: VeiculoProprietario | Q1: VeiculoRestricoes | R1: Comitente | S1: Referencia / Compartilhado | T1: Referencia / Ativo-Frota | U1: Débitos (Responsabilidade) | V1: Estadia e Remoção (Frase) | W1: Taxas/Encargos Adm (Frase) | X1: Estadia | Y1: Remoção | Z1: Buyers: % e (por extenso) - LEILÃO | AA1: Buyers: % e (por extenso) - VENDA DIRETA | AB1: Status | AC1: Alteração/Adicional | AD1: Pendencias / Obs do Status | AE1: Regra Cores (Restrições) | AF1: Regra Cores (Pendências/Retirado) | AG1: Regra Cores (Pendências/Stand-by) | AH1: Regra Cores (Adicional) | AI1: Regra Cores (Alteração) | AJ1: Regra Cores (Restrito/Grupo de Oferta) | AK1: Tabela Molicar - Valor | AL1: Tabela Molicar - Ano/mês (referência) | AM1: Tabela Fipe - Valor | AN1: Tabela Fipe - Ano/mês (referência)
A2: =Veic.Leves!F3 -> , , PL.: , CH.: | B2: ="" &IF(Veic.Leves!E3="","","Referência Local: "&Veic.Leves!E3) &IF(Veic.Leves!Q3="","","<br>Marca: "&Veic.Leves!Q3) &IF(Veic.Leves!R3="","","<br>Modelo: "&Veic.Leves!R3) &IF(Veic.Leves!S3="","","<br>Ano Fab/Modelo: "&Veic.Leves!S3) &IF(Veic.Leves!T3="","","<br>Placa: "&Veic.Leves!T3) &IF(Veic.Leves!AD3="","","<br>Quilometragem acima de: "&Veic.Leves!AD3) &IF(Veic.Leves!AE3="","","<br>Obs da quilometragem: "&Veic.Leves!AE3) &IF(Veic.Leves!W3="","","<br>Cor: "&Veic.Leves!W3) &IF(Veic.Leves!X3="","","<br>Combustível: "&Veic.Leves!X3) &IF(Veic.Leves!U3="","","<br>Chassi: "&TRIM(Veic.Leves!U3)) &IF(AND(Veic.Leves!AC3="", Veic.Leves!AG3="", Veic.Leves!AH3="", Veic.Leves!AI3="", Veic.Leves!AJ3="", Veic.Leves!AK3="", Veic.Leves!AL3="", Veic.Leves!AM3=""),"","<br><br>Acessórios<br>") &IF(Veic.Leves!AC3="","","<br>Nº de Portas: "&Veic.Leves!AC3) &IF(Veic.Leves!AG3="","","<br>Câmbio: "&Veic.Leves!AG3) &IF(Veic.Leves!AH3="","","<br>Direção: "&Veic.Leves!AH3) &IF(Veic.Leves!AI3="","","<br>Ar condicionado: "&Veic.Leves!AI3) &IF(Veic.Leves!AJ3="","","<br>Vidros: "&Veic.Leves!AJ3) &IF(Veic.Leves!AK3="","","<br>Rodas: "&Veic.Leves!AK3) &IF(Veic.Leves!AL3="","","<br>Bancos: "&Veic.Leves!AL3) &IF(Veic.Leves!AM3="","","<br>Aparelho de Som: "&Veic.Leves!AM3) &IF(AND(Veic.Leves!AF3="",Veic.Leves!AN3="", Veic.Leves!AO3="", Veic.Leves!AP3="", Veic.Leves!AQ3=""),"","<br><br>Condições Gerais<br>") &IF(Veic.Leves!AF3="","","<br>Motor: "&Veic.Leves!AF3) &IF(Veic.Leves!AN3="","","<br>Pintura: "&Veic.Leves!AN3) &IF(Veic.Leves!AO3="","","<br>Lataria: "&Veic.Leves!AO3) &IF(Veic.Leves!AP3="","","<br>Tapeçaria: "&Veic.Leves!AP3) &IF(Veic.Leves!AQ3="","","<br>Pneus: "&Veic.Leves!AQ3) &IF(Veic.Leves!AR3="","<br><br>","<br><br>Observações: <br><br>" &SUBSTITUTE(Veic.Leves!AR3,CHAR(10),"<br>") & "<br><br>") &IF(U2="Comprador",MID(Listas!$E$71,1,262)&IF(U2="Comprador",TEXT(O2,"R$0.0,00"))&MID(Listas!$E$71,263,114),"<br><br>") &IF(U2="Vendedor",MID(Listas!$F$72,1,297),"") &IF(V2="Sim",MID(Listas!$I$71,1,123),"") &IF(Z2=0,"",MID(Listas!$G$71,1,231)&Z2&MID(Listas!$G$71,232,59)&"<br><br>") &IF(AA2=0,"",MID(Listas!$H$71,1,156)&AA2&MID(Listas!$H$71,157,189)&"<br><br>") &IF(W2="Sim",Listas!$J$71,"") -> <br><br><br><br> | C2: =IF(Veic.Leves!Y3="",CONCATENATE(Veic.Leves!Z3,", ",Veic.Leves!AA3),Veic.Leves!Y3) -> , | D2: =Veic.Leves!A3 -> 0 | F2: =IF(ISBLANK(G2),1,"CONSTA UNIDADE MÉTRICA? RETIRAR OU INSERIR O FATOR MULTIPLICATIVO") -> 1 | H2: =Veic.Leves!C3 -> 0 | I2: =Veic.Leves!D3 -> 0 | J2: =Veic.Leves!I3 -> 0 | K2: =Veic.Leves!G3 -> 0 | L2: =IF(Veic.Leves!H3="",999999999999,Veic.Leves!H3) -> 999999999999 | M2: =Veic.Leves!AX3 -> 0 | N2: =Veic.Leves!J3 -> 0 | O2: =Veic.Leves!O3 -> 0 | P2: =Veic.Leves!M3 -> 0 | Q2: =Veic.Leves!N3 -> 0 | T2: =Veic.Leves!E3 -> 0 | U2: =Veic.Leves!AU3 -> 0 | V2: =Veic.Leves!AY3 -> 0 | W2: =Veic.Leves!AZ3 -> 0 | Z2: =Veic.Leves!BA3 -> 0 | AA2: =Veic.Leves!BB3 -> 0 | AB2: =Veic.Leves!B3 -> 0 | AC2: =Veic.Leves!AV3 -> 0 | AD2: =Veic.Leves!AT3 -> 0 | AE2: =LOOKUP(2^15,SEARCH(Listas!$L$39:$L$68,Q2),Listas!$L$39:$L$68) -> #N/A | AF2: =LOOKUP(2^15,SEARCH(Listas!$M$39:$M$43,AD2),Listas!$M$39:$M$43) -> #N/A | AG2: =LOOKUP(2^15,SEARCH(Listas!$N$39:$N$42,AD2),Listas!$N$39:$N$42) -> #N/A | AH2: =LOOKUP(2^15,SEARCH(Listas!$P$39:$P$44,AC2),Listas!$P$39:$P$44) -> #N/A | AI2: =LOOKUP(2^15,SEARCH(Listas!$O$39:$O$53,AC2),Listas!$O$39:$O$53) -> #N/A | AJ2: =LOOKUP(2^15,SEARCH(Listas!$R$39:$R$43,AD2),Listas!$R$39:$R$43) -> #N/A | AK2: =Veic.Leves!K3 -> 0 | AM2: =Veic.Leves!L3 -> 0
A4: ='Camin.'!F3 -> , , PL.: , CH.: | B4: ="" &IF('Camin.'!E3="","","Referência Local: "&'Camin.'!E3) &IF('Camin.'!AC3="","","<br>"&'Camin.'!AC3) &IF('Camin.'!Q3="","","<br>Marca: "&'Camin.'!Q3) &IF('Camin.'!R3="","","<br>Modelo: "&'Camin.'!R3) &IF('Camin.'!S3="","","<br>Ano Fab/Modelo: "&'Camin.'!S3) &IF('Camin.'!T3="","","<br>Placa: "&'Camin.'!T3) &IF('Camin.'!AD3="","","<br>Quilometragem acima de: "&'Camin.'!AD3) &IF('Camin.'!AE3="","","<br>Obs da quilometragem: "&'Camin.'!AE3) &IF('Camin.'!W3="","","<br>Cor: "&'Camin.'!W3) &IF('Camin.'!X3="","","<br>Combustível: "&'Camin.'!X3) &IF('Camin.'!U3="","","<br>Chassi: "&TRIM('Camin.'!U3))&"<br>" &IF('Camin.'!AF3="","","<br>Eixos: "&'Camin.'!AF3) &IF('Camin.'!AG3="","","<br>Tração: "&'Camin.'!AG3) &IF('Camin.'!AH3="","","<br>Carroceria: "&'Camin.'!AH3) &IF('Camin.'!AI3="","","<br>Cardan: "&'Camin.'!AI3) &IF('Camin.'!AJ3="","","<br>Diferencial: "&'Camin.'!AJ3) &IF('Camin.'!AL3="","","<br>Câmbio: "&'Camin.'!AL3) &IF('Camin.'!AK3="","","<br>Motor: "&'Camin.'!AK3) &IF('Camin.'!AP3="","","<br>Bancos: "&'Camin.'!AP3) &IF(AND('Camin.'!AN3="", 'Camin.'!AO3="", 'Camin.'!AM3="", 'Camin.'!AQ3="", 'Camin.'!AR3=""),"","<br><br>Condições Gerais<br>") &IF('Camin.'!AN3="","","<br>Pintura: "&'Camin.'!AN3) &IF('Camin.'!AO3="","","<br>Lataria: "&'Camin.'!AO3) &IF('Camin.'!AM3="","","<br>Tapeçaria/Forração: "&'Camin.'!AM3) &IF('Camin.'!AQ3="","","<br>Qtd. de Pneus: "&'Camin.'!AQ3) &IF('Camin.'!AR3="","","<br>Estado dos Pneus: "&'Camin.'!AR3) &IF('Camin.'!AS3="","<br><br>","<br><br>Observações: <br><br>"&SUBSTITUTE('Camin.'!AS3,CHAR(10),"<br>") &"<br><br>") &IF(U4="Comprador",MID(Listas!$E$71,1,266)&IF(U4="Comprador",TEXT(O4,"R$0.0,00"))&MID(Listas!$E$71,267,114),"<br><br>") &IF(U4="Vendedor",MID(Listas!$F$72,1,297),"") &IF(V4="Sim",MID(Listas!$I$71,1,123),"") &IF(Z4=0,"",MID(Listas!$G$71,1,231)&Z4&MID(Listas!$G$71,232,59)&"<br><br>") &IF(AA4=0,"",MID(Listas!$H$71,1,156)&AA4&MID(Listas!$H$71,157,189)&"<br><br>") &IF(W4="Sim",Listas!$J$71,"") -> <br><br><br><br><br> | C4: =IF('Camin.'!Y3="",CONCATENATE('Camin.'!Z3,", ",'Camin.'!AA3),'Camin.'!Y3) -> , | D4: ='Camin.'!A3 -> 0 | F4: =IF(ISBLANK(G4),1,"CONSTA UNIDADE MÉTRICA? RETIRAR OU INSERIR O FATOR MULTIPLICATIVO") -> 1 | H4: ='Camin.'!C3 -> 0 | I4: ='Camin.'!D3 -> 0 | J4: ='Camin.'!I3 -> 0 | K4: ='Camin.'!G3 -> 0 | L4: =IF('Camin.'!H3="",999999999999,'Camin.'!H3) -> 999999999999 | M4: ='Camin.'!AY3 -> 0 | N4: ='Camin.'!J3 -> 0 | O4: ='Camin.'!O3 -> 0 | P4: ='Camin.'!M3 -> 0 | Q4: ='Camin.'!N3 -> 0 | T4: ='Camin.'!E3 -> 0 | U4: ='Camin.'!AV3 -> 0 | V4: ='Camin.'!AZ3 -> 0 | W4: ='Camin.'!BA3 -> 0 | Z4: ='Camin.'!BB3 -> 0 | AA4: ='Camin.'!BC3 -> 0 | AB4: ='Camin.'!B3 -> 0 | AC4: ='Camin.'!AW3 -> 0 | AD4: ='Camin.'!AU3 -> 0 | AE4: =LOOKUP(2^15,SEARCH(Listas!$L$39:$L$68,Q4),Listas!$L$39:$L$68) -> #N/A | AF4: =LOOKUP(2^15,SEARCH(Listas!$M$39:$M$43,AD4),Listas!$M$39:$M$43) -> #N/A | AG4: =LOOKUP(2^15,SEARCH(Listas!$N$39:$N$42,AD4),Listas!$N$39:$N$42) -> #N/A | AH4: =LOOKUP(2^15,SEARCH(Listas!$P$39:$P$44,AC4),Listas!$P$39:$P$44) -> #N/A | AI4: =LOOKUP(2^15,SEARCH(Listas!$O$39:$O$53,AC4),Listas!$O$39:$O$53) -> #N/A | AJ4: =LOOKUP(2^15,SEARCH(Listas!$R$39:$R$43,AD4),Listas!$R$39:$R$43) -> #N/A | AK4: ='Camin.'!K3 -> 0 | AM4: ='Camin.'!L3 -> 0
A6: =Ônib.!F3 -> , , PL.: , CH.: | B6: ="" &IF(Ônib.!E3="","","Referência Local: "&Ônib.!E3) &IF(Ônib.!AC3="","","<br>"&Ônib.!AC3) &IF(Ônib.!Q3="","","<br>Marca: "&Ônib.!Q3) &IF(Ônib.!R3="","","<br>Modelo: "&Ônib.!R3) &IF(Ônib.!S3="","","<br>Ano Fab/Modelo: "&Ônib.!S3) &IF(Ônib.!T3="","","<br>Placa: "&Ônib.!T3) &IF(Ônib.!AD3="","","<br>Quilometragem acima de: "&Ônib.!AD3) &IF(Ônib.!AE3="","","<br>Obs da quilometragem: "&Ônib.!AE3) &IF(Ônib.!W3="","","<br>Cor: "&Ônib.!W3) &IF(Ônib.!X3="","","<br>Combustível: "&Ônib.!X3) &IF(Ônib.!U3="","","<br>Chassi: "&TRIM(Ônib.!U3)) &IF(Ônib.!AG3="","","<br>Câmbio: "&Ônib.!AG3) &IF(Ônib.!AF3="","","<br>Motor: "&Ônib.!AF3) &IF(Ônib.!AJ3="","","<br>Bancos: "&Ônib.!AJ3) &IF(Ônib.!AN3="","","<br>Urbano ou Rodoviário: "&Ônib.!AN3) &IF(Ônib.!AO3="","","<br>Quantidade de Lugares: "&Ônib.!AO3) &IF(AND(Ônib.!AH3="", Ônib.!AI3="", Ônib.!AK3="", Ônib.!AL3="", Ônib.!AM3=""),"","<br><br>Condições Gerais<br>") &IF(Ônib.!AH3="","","<br>Pintura: "&Ônib.!AH3) &IF(Ônib.!AI3="","","<br>Lataria: "&Ônib.!AI3) &IF(Ônib.!AK3="","","<br>Tapeçaria: "&Ônib.!AK3) &IF(Ônib.!AL3="","","<br>Qtd. de Pneus: "&Ônib.!AL3) &IF(Ônib.!AM3="","","<br>Estado dos Pneus: "&Ônib.!AM3) &IF(Ônib.!AP3="","<br><br>","<br><br>Observações:<br><br>"&SUBSTITUTE(Ônib.!AP3,CHAR(10),"<br>") & "<br><br>") &IF(U6="Comprador",MID(Listas!$E$71,1,266)&IF(U6="Comprador",TEXT(O6,"R$0.0,00"))&MID(Listas!$E$71,267,114),"<br><br>") &IF(U6="Vendedor",MID(Listas!$F$72,1,297),"") &IF(V6="Sim",MID(Listas!$I$71,1,123),"") &IF(Z6=0,"",MID(Listas!$G$71,1,231)&Z6&MID(Listas!$G$71,232,59)&"<br><br>") &IF(AA6=0,"",MID(Listas!$H$71,1,156)&AA6&MID(Listas!$H$71,157,189)&"<br><br>") &IF(W6="Sim",Listas!$J$71,"") -> <br><br><br><br> | C6: =IF(Ônib.!Y3="",CONCATENATE(Ônib.!Z3,", ",Ônib.!AA3),Ônib.!Y3) -> , | D6: =Ônib.!A3 -> 0 | F6: =IF(ISBLANK(G6),1,"CONSTA UNIDADE MÉTRICA? RETIRAR OU INSERIR O FATOR MULTIPLICATIVO") -> 1 | H6: =Ônib.!C3 -> 0 | I6: =Ônib.!D3 -> 0 | J6: =Ônib.!I3 -> 0 | K6: =Ônib.!G3 -> 0 | L6: =IF(Ônib.!H3="",999999999999,Ônib.!H3) -> 999999999999 | M6: =Ônib.!AV3 -> 0 | N6: =Ônib.!J3 -> 0 | O6: =Ônib.!O3 -> 0 | P6: =Ônib.!M3 -> 0 | Q6: =Ônib.!N3 -> 0 | T6: =Ônib.!E3 -> 0 | U6: =Ônib.!AS3 -> 0 | V6: =Ônib.!AW3 -> 0 | W6: =Ônib.!AX3 -> 0 | Z6: =Ônib.!AY3 -> 0 | AA6: =Ônib.!AZ3 -> 0 | AB6: =Ônib.!B3 -> 0 | AC6: =Ônib.!AT3 -> 0 | AD6: =Ônib.!AR3 -> 0 | AE6: =LOOKUP(2^15,SEARCH(Listas!$L$39:$L$68,Q6),Listas!$L$39:$L$68) -> #N/A | AF6: =LOOKUP(2^15,SEARCH(Listas!$M$39:$M$43,AD6),Listas!$M$39:$M$43) -> #N/A | AG6: =LOOKUP(2^15,SEARCH(Listas!$N$39:$N$42,AD6),Listas!$N$39:$N$42) -> #N/A | AH6: =LOOKUP(2^15,SEARCH(Listas!$P$39:$P$44,AC6),Listas!$P$39:$P$44) -> #N/A | AI6: =LOOKUP(2^15,SEARCH(Listas!$O$39:$O$53,AC6),Listas!$O$39:$O$53) -> #N/A | AJ6: =LOOKUP(2^15,SEARCH(Listas!$R$39:$R$43,AD6),Listas!$R$39:$R$43) -> #N/A | AK6: =Ônib.!K3 -> 0 | AM6: =Ônib.!L3 -> 0
A8: =Semirreb.Reb!F3 -> , , PL.: , CH.: | B8: ="" &IF(Semirreb.Reb!E3="","","Referência Local: "&Semirreb.Reb!E3) &IF(Semirreb.Reb!AA3="","","<br>"&Semirreb.Reb!AA3) &IF(Semirreb.Reb!O3="","","<br>Marca: "&Semirreb.Reb!O3) &IF(Semirreb.Reb!P3="","","<br>Modelo: "&Semirreb.Reb!P3) &IF(Semirreb.Reb!Q3="","","<br>Ano Fab/Modelo: "&Semirreb.Reb!Q3) &IF(Semirreb.Reb!R3="","","<br>Placa: "&Semirreb.Reb!R3) &IF(Semirreb.Reb!S3="","","<br>Chassi: "&TRIM(Semirreb.Reb!S3)) &IF(AND(Semirreb.Reb!AB3="", Semirreb.Reb!AE3="", Semirreb.Reb!AF3="", Semirreb.Reb!AG3=""),"","<br>") &IF(Semirreb.Reb!AB3="","","<br>Eixos: "&Semirreb.Reb!AB3) &IF(Semirreb.Reb!AC3="","","<br>Carroceria: "&Semirreb.Reb!AC3) &IF(Semirreb.Reb!AD3="","","<br>Medidas: "&Semirreb.Reb!AD3) &IF(Semirreb.Reb!AE3="","","<br>Lataria/Pintura: "&Semirreb.Reb!AE3) &IF(Semirreb.Reb!AF3="","","<br>Qtd. de Pneus: "&Semirreb.Reb!AF3) &IF(Semirreb.Reb!AG3="","","<br>Estado dos Pneus: "&Semirreb.Reb!AG3) &IF(Semirreb.Reb!AH3="","<br><br>","<br><br>Observações: <br><br>"&SUBSTITUTE(Semirreb.Reb!AH3, CHAR(10), "<br>") &"<br><br>") &IF(U8="Comprador",MID(Listas!$E$71,1,266)&IF(U8="Comprador",TEXT(O8,"R$0.0,00"))&MID(Listas!$E$71,267,114),"<br><br>") &IF(U8="Vendedor",MID(Listas!$F$72,1,297),"") &IF(V8="Sim",MID(Listas!$I$71,1,123),"") &IF(Z8=0,"",MID(Listas!$G$71,1,231)&Z8&MID(Listas!$G$71,232,59)&"<br><br>") &IF(AA8=0,"",MID(Listas!$H$71,1,156)&AA8&MID(Listas!$H$71,157,189)&"<br><br>") &IF(W8="Sim",Listas!$J$71,"") -> <br><br><br><br> | C8: =IF(Semirreb.Reb!W3="",CONCATENATE(Semirreb.Reb!X3,", ",Semirreb.Reb!Y3),Semirreb.Reb!W3) -> , | D8: =Semirreb.Reb!A3 -> 0 | F8: =IF(ISBLANK(G8),1,"CONSTA UNIDADE MÉTRICA? RETIRAR OU INSERIR O FATOR MULTIPLICATIVO") -> 1 | H8: =Semirreb.Reb!C3 -> 0 | I8: =Semirreb.Reb!D3 -> 0 | J8: =Semirreb.Reb!I3 -> 0 | K8: =Semirreb.Reb!G3 -> 0 | L8: =IF(Semirreb.Reb!H3="",999999999999,Semirreb.Reb!H3) -> 999999999999 | M8: =Semirreb.Reb!AN3 -> 0 | N8: =Semirreb.Reb!J3 -> 0 | O8: =Semirreb.Reb!M3 -> 0 | P8: =Semirreb.Reb!K3 -> 0 | Q8: =Semirreb.Reb!L3 -> 0 | T8: =Semirreb.Reb!E3 -> 0 | U8: =Semirreb.Reb!AK3 -> 0 | V8: =Semirreb.Reb!AO3 -> 0 | W8: =Semirreb.Reb!AP3 -> 0 | Z8: =Semirreb.Reb!AQ3 -> 0 | AA8: =Semirreb.Reb!AR3 -> 0 | AB8: =Semirreb.Reb!B3 -> 0 | AC8: =Semirreb.Reb!AL3 -> 0 | AD8: =Semirreb.Reb!AJ3 -> 0 | AE8: =LOOKUP(2^15,SEARCH(Listas!$L$39:$L$68,Q8),Listas!$L$39:$L$68) -> #N/A | AF8: =LOOKUP(2^15,SEARCH(Listas!$M$39:$M$43,AD8),Listas!$M$39:$M$43) -> #N/A | AG8: =LOOKUP(2^15,SEARCH(Listas!$N$39:$N$42,AD8),Listas!$N$39:$N$42) -> #N/A | AH8: =LOOKUP(2^15,SEARCH(Listas!$P$39:$P$44,AC8),Listas!$P$39:$P$44) -> #N/A | AI8: =LOOKUP(2^15,SEARCH(Listas!$O$39:$O$53,AC8),Listas!$O$39:$O$53) -> #N/A | AJ8: =LOOKUP(2^15,SEARCH(Listas!$R$39:$R$43,AD8),Listas!$R$39:$R$43) -> #N/A
A10: =Motos!F3 -> , , PL.: , CH.: | B10: ="" &IF(Motos!E3="","","Referência Local: "&Motos!E3) &IF(Motos!Q3="","","<br>Marca: "&Motos!Q3) &IF(Motos!R3="","","<br>Modelo: "&Motos!R3) &IF(Motos!S3="","","<br>Ano Fab/Modelo: "&Motos!S3) &IF(Motos!T3="","","<br>Placa: "&Motos!T3) &IF(Motos!AC3="","","<br>Quilometragem acima de: "&Motos!AC3) &IF(Motos!AD3="","","<br>Obs da quilometragem: "&Motos!AD3) &IF(Motos!W3="","","<br>Cor: "&Motos!W3) &IF(Motos!X3="","","<br>Combustível: "&Motos!X3) &IF(Motos!U3="","","<br>Chassi: "&TRIM(Motos!U3)) &IF(Motos!AE3="","","<br>Motor: "&Motos!AE3) &IF(Motos!AJ3="","","<br>Bancos: "&Motos!AJ3) &IF(Motos!AF3="","","<br>Partida elétrica: "&Motos!AF3) &IF(Motos!AG3="","","<br>Freio a Disco: "&Motos!AG3) &IF(AND( Motos!AH3="", Motos!AI3="", Motos!AK3=""),"","<br><br>Condições Gerais<br>") &IF(Motos!AH3="","","<br>Pintura: "&Motos!AH3) &IF(Motos!AI3="","","<br>Lataria: "&Motos!AI3) &IF(Motos!AK3="","","<br>Pneus: "&Motos!AK3) &IF(Motos!AL3="","<br><br>","<br><br>Observações:<br><br>"&SUBSTITUTE(Motos!AL3,CHAR(10),"<br>" )&"<br><br>") &IF(U10="Comprador",MID(Listas!$E$71,1,266)&IF(U10="Comprador",TEXT(O10,"R$0.0,00"))&MID(Listas!$E$71,267,114),"<br><br>") &IF(U10="Vendedor",MID(Listas!$F$72,1,297),"") &IF(V10="Sim",MID(Listas!$I$71,1,123),"") &IF(Z10=0,"",MID(Listas!$G$71,1,231)&Z10&MID(Listas!$G$71,232,59)&"<br><br>") &IF(AA10=0,"",MID(Listas!$H$71,1,156)&AA10&MID(Listas!$H$71,157,189)&"<br><br>") &IF(W10="Sim",Listas!$J$71,"") -> <br><br><br><br> | C10: =IF(Motos!Y3="",CONCATENATE(Motos!Z3,", ",Motos!AA3),Motos!Y3) -> , | D10: =Motos!A3 -> 0 | F10: =IF(ISBLANK(G10),1,"CONSTA UNIDADE MÉTRICA? RETIRAR OU INSERIR O FATOR MULTIPLICATIVO") -> 1 | H10: =Motos!C3 -> 0 | I10: =Motos!D3 -> 0 | J10: =Motos!I3 -> 0 | K10: =Motos!G3 -> 0 | L10: =IF(Motos!H3="",999999999999,Motos!H3) -> 999999999999 | M10: =Motos!AR3 -> 0 | N10: =Motos!J3 -> 0 | O10: =Motos!O3 -> 0 | P10: =Motos!M3 -> 0 | Q10: =Motos!N3 -> 0 | T10: =Motos!E3 -> 0 | U10: =Motos!AO3 -> 0 | V10: =Motos!AS3 -> 0 | W10: =Motos!AT3 -> 0 | Z10: =Motos!AU3 -> 0 | AA10: =Motos!AV3 -> 0 | AB10: =Motos!B3 -> 0 | AC10: =Motos!AP3 -> 0 | AD10: =Motos!AN3 -> 0 | AE10: =LOOKUP(2^15,SEARCH(Listas!$L$39:$L$68,Q10),Listas!$L$39:$L$68) -> #N/A | AF10: =LOOKUP(2^15,SEARCH(Listas!$M$39:$M$43,AD10),Listas!$M$39:$M$43) -> #N/A | AG10: =LOOKUP(2^15,SEARCH(Listas!$N$39:$N$42,AD10),Listas!$N$39:$N$42) -> #N/A | AH10: =LOOKUP(2^15,SEARCH(Listas!$P$39:$P$44,AC10),Listas!$P$39:$P$44) -> #N/A | AI10: =LOOKUP(2^15,SEARCH(Listas!$O$39:$O$53,AC10),Listas!$O$39:$O$53) -> #N/A | AJ10: =LOOKUP(2^15,SEARCH(Listas!$R$39:$R$43,AD10),Listas!$R$39:$R$43) -> #N/A | AK10: =Motos!K3 -> 0 | AM10: =Motos!L3 -> 0
A12: ='Máq.Pes.'!F3 -> , SÉRIE: NÃO IDENTIFICADO | B12: ="" &IF('Máq.Pes.'!E3="","","Referência Local: "&'Máq.Pes.'!E3) &IF('Máq.Pes.'!Z3="","","<br>Nº do ativo: "&'Máq.Pes.'!Z3) &"<br>" &IF('Máq.Pes.'!O3="","","<br>"&'Máq.Pes.'!O3) &IF('Máq.Pes.'!P3="","","<br>Marca: "&'Máq.Pes.'!P3) &IF('Máq.Pes.'!Q3="","","<br>Modelo: "&'Máq.Pes.'!Q3) &IF('Máq.Pes.'!R3="","","<br>Ano: "&'Máq.Pes.'!R3) &IF('Máq.Pes.'!X3="","","<br>Capacidade: "&'Máq.Pes.'!X3) &IF('Máq.Pes.'!S3="","<br>Série: NÃO IDENTIFICADO","<br>Série: "&'Máq.Pes.'!S3) &IF('Máq.Pes.'!T3="","","<br>Horímetro: "&'Máq.Pes.'!T3) &IF('Máq.Pes.'!Y3="","","<br>Combustível: "&'Máq.Pes.'!Y3) &IF('Máq.Pes.'!W3="","","<br>Tração: "&'Máq.Pes.'!W3) &IF(OR('Máq.Pes.'!U3="Não Testado",'Máq.Pes.'!U3=""),"", "<br>Mecânica/Motor: "&'Máq.Pes.'!U3) &IF('Máq.Pes.'!V3="","","<br>Pneus (Quantidade/Estado): "&'Máq.Pes.'!V3) &IF('Máq.Pes.'!AA3="","<br><br>","<br><br>Observações: "&SUBSTITUTE('Máq.Pes.'!AA3,CHAR(10),"<br>")&"<br><br>") &IF(V12="Sim",MID(Listas!$I$71,1,123),"") &IF(Z12=0,"",MID(Listas!$G$71,1,231)&Z12&MID(Listas!$G$71,232,59)&"<br><br>") &IF(AA12=0,"",MID(Listas!$H$71,1,156)&AA12&MID(Listas!$H$71,157,189)&"<br><br>") &IF(W12="Sim",Listas!$J$71,"") -> <br><br>Série: NÃO IDENTIFICADO<br><br> | C12: =IF('Máq.Pes.'!L3<>"",CONCATENATE('Máq.Pes.'!L3,", ",'Máq.Pes.'!M3),"") | D12: ='Máq.Pes.'!A3 -> 0 | F12: =IF(ISBLANK(G12),1,"CONSTA UNIDADE MÉTRICA? RETIRAR OU INSERIR O FATOR MULTIPLICATIVO") -> 1 | H12: ='Máq.Pes.'!C3 -> 0 | I12: ='Máq.Pes.'!D3 -> 0 | J12: ='Máq.Pes.'!I3 -> 0 | K12: ='Máq.Pes.'!G3 -> 0 | L12: =IF('Máq.Pes.'!H3="",999999999999,'Máq.Pes.'!H3) -> 999999999999 | M12: ='Máq.Pes.'!AH3 -> 0 | N12: ='Máq.Pes.'!J3 -> 0 | O12: ='Máq.Pes.'!AE3 -> 0 | Q12: ='Máq.Pes.'!AD3 -> 0 | T12: ='Máq.Pes.'!E3 -> 0 | V12: ='Máq.Pes.'!AI3 -> 0 | W12: ='Máq.Pes.'!AJ3 -> 0 | Z12: ='Máq.Pes.'!AK3 -> 0 | AA12: ='Máq.Pes.'!AM3 -> 0 | AB12: ='Máq.Pes.'!B3 -> 0 | AC12: ='Máq.Pes.'!AF3 -> 0 | AD12: ='Máq.Pes.'!AC3 -> 0 | AE12: =LOOKUP(2^15,SEARCH(Listas!$L$39:$L$68,Q12),Listas!$L$39:$L$68) -> #N/A | AF12: =LOOKUP(2^15,SEARCH(Listas!$M$39:$M$43,AD12),Listas!$M$39:$M$43) -> #N/A | AG12: =LOOKUP(2^15,SEARCH(Listas!$N$39:$N$42,AD12),Listas!$N$39:$N$42) -> #N/A | AH12: =LOOKUP(2^15,SEARCH(Listas!$P$39:$P$44,AC12),Listas!$P$39:$P$44) -> #N/A | AI12: =LOOKUP(2^15,SEARCH(Listas!$O$39:$O$53,AC12),Listas!$O$39:$O$53) -> #N/A | AJ12: =LOOKUP(2^15,SEARCH(Listas!$R$39:$R$43,AD12),Listas!$R$39:$R$43) -> #N/A
A14: ='Máq.Pes. e Máq.Equip. 1.2 '!E3 | B14: ="" &IF('Máq.Pes. e Máq.Equip. 1.2 '!S3="","","Referência Local: "& 'Máq.Pes. e Máq.Equip. 1.2 '!S3) &IF('Máq.Pes. e Máq.Equip. 1.2 '!AO3="","","<br>Nº do ativo: "& 'Máq.Pes. e Máq.Equip. 1.2 '!AO3) &"<br>" &IF( AND('Máq.Pes. e Máq.Equip. 1.2 '!U3="Outros",'Máq.Pes. e Máq.Equip. 1.2 '!T3=TRUE),"SUCATA DE "&'Máq.Pes. e Máq.Equip. 1.2 '!V3, IF( AND('Máq.Pes. e Máq.Equip. 1.2 '!U3="Outros",'Máq.Pes. e Máq.Equip. 1.2 '!T3=FALSE),'Máq.Pes. e Máq.Equip. 1.2 '!V3, IF( AND('Máq.Pes. e Máq.Equip. 1.2 '!U3<>"Outros",'Máq.Pes. e Máq.Equip. 1.2 '!T3=TRUE),"SUCATA DE "&'Máq.Pes. e Máq.Equip. 1.2 '!U3, IF( AND('Máq.Pes. e Máq.Equip. 1.2 '!U3<>"Outros",'Máq.Pes. e Máq.Equip. 1.2 '!T3=FALSE),'Máq.Pes. e Máq.Equip. 1.2 '!U3,"")))) &IF( 'Máq.Pes. e Máq.Equip. 1.2 '!W3="","","<br>Marca: "& 'Máq.Pes. e Máq.Equip. 1.2 '!W3) &IF( 'Máq.Pes. e Máq.Equip. 1.2 '!X3="","","<br>Modelo: "& 'Máq.Pes. e Máq.Equip. 1.2 '!X3) &IF( 'Máq.Pes. e Máq.Equip. 1.2 '!AA3="","","<br>Tipo: "& 'Máq.Pes. e Máq.Equip. 1.2 '!AA3) &IF( 'Máq.Pes. e Máq.Equip. 1.2 '!Y3="","","<br>Ano: "& 'Máq.Pes. e Máq.Equip. 1.2 '!Y3) &IF( 'Máq.Pes. e Máq.Equip. 1.2 '!AN3="","","<br>Capacidade: "& 'Máq.Pes. e Máq.Equip. 1.2 '!AN3) &IF(AND( 'Máq.Pes. e Máq.Equip. 1.2 '!Z3="",'Máq.Pes. e Máq.Equip. 1.2 '!M3="Máquinas Pesadas"),"<br>Série: NÃO IDENTIFICADO",IF(AND( 'Máq.Pes. e Máq.Equip. 1.2 '!Z3="",'Máq.Pes. e Máq.Equip. 1.2 '!M3<>"Máquinas Pesadas"),"","<br>Série: "& 'Máq.Pes. e Máq.Equip. 1.2 '!Z3)) &IF(AND( 'Máq.Pes. e Máq.Equip. 1.2 '!AB3<>"",'Máq.Pes. e Máq.Equip. 1.2 '!M3="Máquinas Pesadas"),"<br>Horímetro: "& 'Máq.Pes. e Máq.Equip. 1.2 '!AB3,"") &IF(OR( 'Máq.Pes. e Máq.Equip. 1.2 '!AC3="Não Testado", 'Máq.Pes. e Máq.Equip. 1.2 '!AC3=""),"", IF(AND( 'Máq.Pes. e Máq.Equip. 1.2 '!AC3<>"",'Máq.Pes. e Máq.Equip. 1.2 '!M3="Máquinas Pesadas"),"<br>Mecânica/Motor: "& 'Máq.Pes. e Máq.Equip. 1.2 '!AC3,"")) &IF(AND( 'Máq.Pes. e Máq.Equip. 1.2 '!AD3<>"",'Máq.Pes. e Máq.Equip. 1.2 '!M3="Máquinas Pesadas"),"<br>Câmbio: "& 'Máq.Pes. e Máq.Equip. 1.2 '!AD3,"") &IF(AND( 'Máq.Pes. e Máq.Equip. 1.2 '!AE3<>"",'Máq.Pes. e Máq.Equip. 1.2 '!M3="Máquinas Pesadas"),"<br>Combustível: "& 'Máq.Pes. e Máq.Equip. 1.2 '!AE3,"") &IF( AND('Máq.Pes. e Máq.Equip. 1.2 '!AF3<>"",'Máq.Pes. e Máq.Equip. 1.2 '!M3="Máquinas Pesadas"),"<br>Tração: "& 'Máq.Pes. e Máq.Equip. 1.2 '!AF3,"") &IF(AND( 'Máq.Pes. e Máq.Equip. 1.2 '!AG3<>"",'Máq.Pes. e Máq.Equip. 1.2 '!M3="Máquinas Pesadas"),"<br>Pneus (Estado): "& 'Máq.Pes. e Máq.Equip. 1.2 '!AG3,"") &IF( AND('Máq.Pes. e Máq.Equip. 1.2 '!AH3<>"",'Máq.Pes. e Máq.Equip. 1.2 '!M3="Máquinas Pesadas"),"<br>Pneus (Quantidade): "& 'Máq.Pes. e Máq.Equip. 1.2 '!AH3,"") &IF( AND('Máq.Pes. e Máq.Equip. 1.2 '!AI3<>"",'Máq.Pes. e Máq.Equip. 1.2 '!M3="Máquinas Pesadas"),"<br>Esteira (Estado): "& 'Máq.Pes. e Máq.Equip. 1.2 '!AI3,"") &IF( AND('Máq.Pes. e Máq.Equip. 1.2 '!AJ3<>"",'Máq.Pes. e Máq.Equip. 1.2 '!M3="Máquinas Pesadas"),"<br>Acessórios: "& 'Máq.Pes. e Máq.Equip. 1.2 '!AJ3,"") &IF( AND('Máq.Pes. e Máq.Equip. 1.2 '!AK3<>"",'Máq.Pes. e Máq.Equip. 1.2 '!M3="Máquinas Pesadas"),"<br>Detalhes sobre acessórios: "& 'Máq.Pes. e Máq.Equip. 1.2 '!AK3,"") &IF( AND('Máq.Pes. e Máq.Equip. 1.2 '!AL3<>"",'Máq.Pes. e Máq.Equip. 1.2 '!M3="Máquinas Pesadas"),"<br>Não faz parte do lote: "& 'Máq.Pes. e Máq.Equip. 1.2 '!AL3,"") &IF( 'Máq.Pes. e Máq.Equip. 1.2 '!AM3="","","<br>Componentes existentes: "& 'Máq.Pes. e Máq.Equip. 1.2 '!AM3) &IF(AND('Máq.Pes. e Máq.Equip. 1.2 '!AQ3="",'Máq.Pes. e Máq.Equip. 1.2 '!AR3<=""),"<br><br>","<br><br>Observações: "&CONCATENATE(SUBSTITUTE('Máq.Pes. e Máq.Equip. 1.2 '!AR3,CHAR(10),"<br>"),"<br><b>",SUBSTITUTE('Máq.Pes. e Máq.Equip. 1.2 '!AQ3,CHAR(10),"<br>"),"</b>")&"<br><br>") &IF(Z14=0,"",MID(Listas!$G$71,1,231)&Z14&MID(Listas!$G$71,232,59)&"<br><br>") &IF(AA14=0,"",MID(Listas!$H$71,1,156)&AA14&MID(Listas!$H$71,157,189)&"<br><br>") &IF(W14="Sim",Listas!$J$71,"") -> <br><br><br> | C14: =IF('Máq.Pes. e Máq.Equip. 1.2 '!Q3="",CONCATENATE('Máq.Pes. e Máq.Equip. 1.2 '!J3,", ",'Máq.Pes. e Máq.Equip. 1.2 '!K3),'Máq.Pes. e Máq.Equip. 1.2 '!Q3) -> , | D14: ='Máq.Pes. e Máq.Equip. 1.2 '!A3 -> 0 | F14: =IF('Máq.Pes. e Máq.Equip. 1.2 '!M3="Máquina pesada",1,'Máq.Pes. e Máq.Equip. 1.2 '!AS3) -> 0 | G14: =IF('Máq.Pes. e Máq.Equip. 1.2 '!M3="Máquina pesada","",'Máq.Pes. e Máq.Equip. 1.2 '!AT3) -> 0 | H14: ='Máq.Pes. e Máq.Equip. 1.2 '!B3 -> 0 | I14: ='Máq.Pes. e Máq.Equip. 1.2 '!C3 -> 0 | J14: ='Máq.Pes. e Máq.Equip. 1.2 '!H3 -> 0 | K14: ='Máq.Pes. e Máq.Equip. 1.2 '!F3 -> 0 | L14: =IF('Máq.Pes. e Máq.Equip. 1.2 '!G3="",999999999999,'Máq.Pes. e Máq.Equip. 1.2 '!G3) -> 999999999999 | M14: ='Máq.Pes. e Máq.Equip. 1.2 '!L3 -> 0 | N14: ='Máq.Pes. e Máq.Equip. 1.2 '!I3 -> 0 | O14: ='Máq.Pes. e Máq.Equip. 1.2 '!AW3 -> 0 | Q14: ='Máq.Pes. e Máq.Equip. 1.2 '!AV3 -> 0 | T14: ='Máq.Pes. e Máq.Equip. 1.2 '!S3 -> 0 | V14: ='Máq.Pes. e Máq.Equip. 1.2 '!AZ3 -> 0 | W14: ='Máq.Pes. e Máq.Equip. 1.2 '!BA3 -> 0 | Z14: ='Máq.Pes. e Máq.Equip. 1.2 '!BB3 -> 0 | AA14: ='Máq.Pes. e Máq.Equip. 1.2 '!BC3 -> 0 | AB14: ='Máq.Pes. e Máq.Equip. 1.2 '!D3 -> 0 | AC14: ='Máq.Pes. e Máq.Equip. 1.2 '!AX3 -> 0 | AD14: ='Máq.Pes. e Máq.Equip. 1.2 '!AU3 -> 0 | AE14: =LOOKUP(2^15,SEARCH(Listas!$L$39:$L$68,Q14),Listas!$L$39:$L$68) -> #N/A | AF14: =LOOKUP(2^15,SEARCH(Listas!$M$39:$M$43,AD14),Listas!$M$39:$M$43) -> #N/A | AG14: =LOOKUP(2^15,SEARCH(Listas!$N$39:$N$42,AD14),Listas!$N$39:$N$42) -> #N/A | AH14: =LOOKUP(2^15,SEARCH(Listas!$P$39:$P$44,AC14),Listas!$P$39:$P$44) -> #N/A | AI14: =LOOKUP(2^15,SEARCH(Listas!$O$39:$O$53,AC14),Listas!$O$39:$O$53) -> #N/A | AJ14: =LOOKUP(2^15,SEARCH(Listas!$R$39:$R$43,AD14),Listas!$R$39:$R$43) -> #N/A
A16: ='Máq.Equip.'!F3 &IF('Máq.Equip.'!E3="",""," (Ref.: "&'Máq.Equip.'!E3&")") -> 10 CAÇAMBAS PLÁSTICAS DESMONTÁVEIS COM TAMPA MEDINDO 800 X 760 X 500 MM REFORÇADAS (Ref.: 19461) | B16: ="" &IF('Máq.Equip.'!E3="","","Referência Local: "&'Máq.Equip.'!E3) &IF('Máq.Equip.'!G3="","<br><br>","<br><br>"&CONCATENATE(SUBSTITUTE('Máq.Equip.'!G3,CHAR(10),"<br>"),"<br>")) &IF('Máq.Equip.'!V3="","<br>","<br>"&CONCATENATE(SUBSTITUTE('Máq.Equip.'!V3,CHAR(10),"<br>"),"<br>")) &IF(Z16=0,"",MID(Listas!$G$71,1,231)&Z16&MID(Listas!$G$71,232,59)&"<br><br>") &IF(AA16=0,"",MID(Listas!$H$71,1,156)&AA16&MID(Listas!$H$71,157,189)&"<br><br>") &IF(W16="Sim",Listas!$J$71,"") -> Referência Local: 19461<br><br>10 CAÇAMBAS PLÁSTICAS DESMONTÁVEIS COM TAMPA MEDINDO 800 X 760 X 500 MM REFORÇADAS<br>EM CASO DE DÚVIDAS ENTRAR EM CONTATO: duvidasleiloes@gmail.com<br>USADAS, NO ESTADO E SEM GARANTIAS.<br>PODENDO APRESENTAR AVÁRIAS, FALTA DE PEÇAS E COMPONENTES.<br><br> | C16: =IF('Máq.Equip.'!N3<>"",CONCATENATE('Máq.Equip.'!N3,", ",'Máq.Equip.'!O3),"") -> SÃO PAULO, SP | D16: ='Máq.Equip.'!A3 -> 222 | F16: ='Máq.Equip.'!S3 -> 1 | G16: ='Máq.Equip.'!R3 -> 1 | H16: ='Máq.Equip.'!C3 -> 0 | I16: ='Máq.Equip.'!D3 -> 0 | J16: ='Máq.Equip.'!J3 -> 0 | K16: ='Máq.Equip.'!H3 -> 5700 | L16: =IF('Máq.Equip.'!I3="",999999999999,'Máq.Equip.'!I3) -> 8500 | M16: ='Máq.Equip.'!L3 -> 0 | N16: ='Máq.Equip.'!K3 -> 500 | T16: ='Máq.Equip.'!E3 -> 19461 | W16: ='Máq.Equip.'!W3 -> 0 | Z16: ='Máq.Equip.'!X3 -> 0 | AA16: ='Máq.Equip.'!Y3 -> 0 | AB16: ='Máq.Equip.'!B3 -> 0 | AC16: ='Máq.Equip.'!T3 -> ADICIONAR | AD16: ='Máq.Equip.'!Q3 -> 0 | AE16: =LOOKUP(2^15,SEARCH(Listas!$L$39:$L$68,Q16),Listas!$L$39:$L$68) -> #N/A | AF16: =LOOKUP(2^15,SEARCH(Listas!$M$39:$M$43,AD16),Listas!$M$39:$M$43) -> #N/A | AG16: =LOOKUP(2^15,SEARCH(Listas!$N$39:$N$42,AD16),Listas!$N$39:$N$42) -> #N/A | AH16: =LOOKUP(2^15,SEARCH(Listas!$P$39:$P$44,AC16),Listas!$P$39:$P$44) -> Adicionar | AI16: =LOOKUP(2^15,SEARCH(Listas!$O$39:$O$53,AC16),Listas!$O$39:$O$53) -> #N/A | AJ16: =LOOKUP(2^15,SEARCH(Listas!$R$39:$R$43,AD16),Listas!$R$39:$R$43) -> #N/A
A17: ='Máq.Equip.'!F4 &IF('Máq.Equip.'!E4="",""," (Ref.: "&'Máq.Equip.'!E4&")") -> 10 CAÇAMBAS PLÁSTICAS DESMONTÁVEIS COM TAMPA MEDINDO 800 X 760 X 500 MM REFORÇADAS (Ref.: 19461) | B17: ="" &IF('Máq.Equip.'!E4="","","Referência Local: "&'Máq.Equip.'!E4) &IF('Máq.Equip.'!G4="","<br><br>","<br><br>"&CONCATENATE(SUBSTITUTE('Máq.Equip.'!G4,CHAR(10),"<br>"),"<br>")) &IF('Máq.Equip.'!V4="","<br>","<br>"&CONCATENATE(SUBSTITUTE('Máq.Equip.'!V4,CHAR(10),"<br>"),"<br>")) &IF(Z17=0,"",MID(Listas!$G$71,1,231)&Z17&MID(Listas!$G$71,232,59)&"<br><br>") &IF(AA17=0,"",MID(Listas!$H$71,1,156)&AA17&MID(Listas!$H$71,157,189)&"<br><br>") &IF(W17="Sim",Listas!$J$71,"") -> Referência Local: 19461<br><br>10 CAÇAMBAS PLÁSTICAS DESMONTÁVEIS COM TAMPA MEDINDO 800 X 760 X 500 MM REFORÇADAS<br>EM CASO DE DÚVIDAS ENTRAR EM CONTATO: duvidasleiloes@gmail.com<br>USADAS, NO ESTADO E SEM GARANTIAS.<br>PODENDO APRESENTAR AVÁRIAS, FALTA DE PEÇAS E COMPONENTES.<br><br> | C17: =IF('Máq.Equip.'!N4<>"",CONCATENATE('Máq.Equip.'!N4,", ",'Máq.Equip.'!O4),"") -> SÃO PAULO, SP | D17: ='Máq.Equip.'!A4 -> 223 | F17: ='Máq.Equip.'!S4 -> 1 | G17: ='Máq.Equip.'!R4 -> 1 | H17: ='Máq.Equip.'!C4 -> 0 | I17: ='Máq.Equip.'!D4 -> 0 | J17: ='Máq.Equip.'!J4 -> 0 | K17: ='Máq.Equip.'!H4 -> 5700 | L17: =IF('Máq.Equip.'!I4="",999999999999,'Máq.Equip.'!I4) -> 8500 | M17: ='Máq.Equip.'!L4 -> 0 | N17: ='Máq.Equip.'!K4 -> 500 | T17: ='Máq.Equip.'!E4 -> 19461 | W17: ='Máq.Equip.'!W4 -> 0 | Z17: ='Máq.Equip.'!X4 -> 0 | AA17: ='Máq.Equip.'!Y4 -> 0 | AB17: ='Máq.Equip.'!B4 -> 0 | AC17: ='Máq.Equip.'!T4 -> ADICIONAR | AD17: ='Máq.Equip.'!Q4 -> 0 | AE17: =LOOKUP(2^15,SEARCH(Listas!$L$39:$L$68,Q17),Listas!$L$39:$L$68) -> #N/A | AF17: =LOOKUP(2^15,SEARCH(Listas!$M$39:$M$43,AD17),Listas!$M$39:$M$43) -> #N/A | AG17: =LOOKUP(2^15,SEARCH(Listas!$N$39:$N$42,AD17),Listas!$N$39:$N$42) -> #N/A | AH17: =LOOKUP(2^15,SEARCH(Listas!$P$39:$P$44,AC17),Listas!$P$39:$P$44) -> Adicionar | AI17: =LOOKUP(2^15,SEARCH(Listas!$O$39:$O$53,AC17),Listas!$O$39:$O$53) -> #N/A | AJ17: =LOOKUP(2^15,SEARCH(Listas!$R$39:$R$43,AD17),Listas!$R$39:$R$43) -> #N/A
A18: ='Máq.Equip.'!F5 &IF('Máq.Equip.'!E5="",""," (Ref.: "&'Máq.Equip.'!E5&")") -> 10 CAÇAMBAS PLÁSTICAS DESMONTÁVEIS COM TAMPA MEDINDO 800 X 760 X 500 MM REFORÇADAS (Ref.: 19461) | B18: ="" &IF('Máq.Equip.'!E5="","","Referência Local: "&'Máq.Equip.'!E5) &IF('Máq.Equip.'!G5="","<br><br>","<br><br>"&CONCATENATE(SUBSTITUTE('Máq.Equip.'!G5,CHAR(10),"<br>"),"<br>")) &IF('Máq.Equip.'!V5="","<br>","<br>"&CONCATENATE(SUBSTITUTE('Máq.Equip.'!V5,CHAR(10),"<br>"),"<br>")) &IF(Z18=0,"",MID(Listas!$G$71,1,231)&Z18&MID(Listas!$G$71,232,59)&"<br><br>") &IF(AA18=0,"",MID(Listas!$H$71,1,156)&AA18&MID(Listas!$H$71,157,189)&"<br><br>") &IF(W18="Sim",Listas!$J$71,"") -> Referência Local: 19461<br><br>10 CAÇAMBAS PLÁSTICAS DESMONTÁVEIS COM TAMPA MEDINDO 800 X 760 X 500 MM REFORÇADAS<br>EM CASO DE DÚVIDAS ENTRAR EM CONTATO: duvidasleiloes@gmail.com<br>USADAS, NO ESTADO E SEM GARANTIAS.<br>PODENDO APRESENTAR AVÁRIAS, FALTA DE PEÇAS E COMPONENTES.<br><br> | C18: =IF('Máq.Equip.'!N5<>"",CONCATENATE('Máq.Equip.'!N5,", ",'Máq.Equip.'!O5),"") -> SÃO PAULO, SP | D18: ='Máq.Equip.'!A5 -> 224 | F18: ='Máq.Equip.'!S5 -> 1 | G18: ='Máq.Equip.'!R5 -> 1 | H18: ='Máq.Equip.'!C5 -> 0 | I18: ='Máq.Equip.'!D5 -> 0 | J18: ='Máq.Equip.'!J5 -> 0 | K18: ='Máq.Equip.'!H5 -> 5700 | L18: =IF('Máq.Equip.'!I5="",999999999999,'Máq.Equip.'!I5) -> 8500 | M18: ='Máq.Equip.'!L5 -> 0 | N18: ='Máq.Equip.'!K5 -> 500 | T18: ='Máq.Equip.'!E5 -> 19461 | W18: ='Máq.Equip.'!W5 -> 0 | Z18: ='Máq.Equip.'!X5 -> 0 | AA18: ='Máq.Equip.'!Y5 -> 0 | AB18: ='Máq.Equip.'!B5 -> 0 | AC18: ='Máq.Equip.'!T5 -> ADICIONAR | AD18: ='Máq.Equip.'!Q5 -> 0 | AE18: =LOOKUP(2^15,SEARCH(Listas!$L$39:$L$68,Q18),Listas!$L$39:$L$68) -> #N/A | AF18: =LOOKUP(2^15,SEARCH(Listas!$M$39:$M$43,AD18),Listas!$M$39:$M$43) -> #N/A | AG18: =LOOKUP(2^15,SEARCH(Listas!$N$39:$N$42,AD18),Listas!$N$39:$N$42) -> #N/A | AH18: =LOOKUP(2^15,SEARCH(Listas!$P$39:$P$44,AC18),Listas!$P$39:$P$44) -> Adicionar | AI18: =LOOKUP(2^15,SEARCH(Listas!$O$39:$O$53,AC18),Listas!$O$39:$O$53) -> #N/A | AJ18: =LOOKUP(2^15,SEARCH(Listas!$R$39:$R$43,AD18),Listas!$R$39:$R$43) -> #N/A
A19: ='Máq.Equip.'!F6 &IF('Máq.Equip.'!E6="",""," (Ref.: "&'Máq.Equip.'!E6&")") | B19: ="" &IF('Máq.Equip.'!E6="","","Referência Local: "&'Máq.Equip.'!E6) &IF('Máq.Equip.'!G6="","<br><br>","<br><br>"&CONCATENATE(SUBSTITUTE('Máq.Equip.'!G6,CHAR(10),"<br>"),"<br>")) &IF('Máq.Equip.'!V6="","<br>","<br>"&CONCATENATE(SUBSTITUTE('Máq.Equip.'!V6,CHAR(10),"<br>"),"<br>")) &IF(Z19=0,"",MID(Listas!$G$71,1,231)&Z19&MID(Listas!$G$71,232,59)&"<br><br>") &IF(AA19=0,"",MID(Listas!$H$71,1,156)&AA19&MID(Listas!$H$71,157,189)&"<br><br>") &IF(W19="Sim",Listas!$J$71,"") -> <br><br><br> | C19: =IF('Máq.Equip.'!N6<>"",CONCATENATE('Máq.Equip.'!N6,", ",'Máq.Equip.'!O6),"") | D19: ='Máq.Equip.'!A6 -> 0 | F19: ='Máq.Equip.'!S6 -> 0 | G19: ='Máq.Equip.'!R6 -> 0 | H19: ='Máq.Equip.'!C6 -> 0 | I19: ='Máq.Equip.'!D6 -> 0 | J19: ='Máq.Equip.'!J6 -> 0 | K19: ='Máq.Equip.'!H6 -> 0 | L19: =IF('Máq.Equip.'!I6="",999999999999,'Máq.Equip.'!I6) -> 999999999999 | M19: ='Máq.Equip.'!L6 -> 0 | N19: ='Máq.Equip.'!K6 -> 0 | T19: ='Máq.Equip.'!E6 -> 0 | W19: ='Máq.Equip.'!W6 -> 0 | Z19: ='Máq.Equip.'!X6 -> 0 | AA19: ='Máq.Equip.'!Y6 -> 0 | AB19: ='Máq.Equip.'!B6 -> 0 | AC19: ='Máq.Equip.'!T6 -> 0 | AD19: ='Máq.Equip.'!Q6 -> 0 | AE19: =LOOKUP(2^15,SEARCH(Listas!$L$39:$L$68,Q19),Listas!$L$39:$L$68) -> #N/A | AF19: =LOOKUP(2^15,SEARCH(Listas!$M$39:$M$43,AD19),Listas!$M$39:$M$43) -> #N/A | AG19: =LOOKUP(2^15,SEARCH(Listas!$N$39:$N$42,AD19),Listas!$N$39:$N$42) -> #N/A | AH19: =LOOKUP(2^15,SEARCH(Listas!$P$39:$P$44,AC19),Listas!$P$39:$P$44) -> #N/A | AI19: =LOOKUP(2^15,SEARCH(Listas!$O$39:$O$53,AC19),Listas!$O$39:$O$53) -> #N/A | AJ19: =LOOKUP(2^15,SEARCH(Listas!$R$39:$R$43,AD19),Listas!$R$39:$R$43) -> #N/A
A20: ='Máq.Equip.'!F7 &IF('Máq.Equip.'!E7="",""," (Ref.: "&'Máq.Equip.'!E7&")") | B20: ="" &IF('Máq.Equip.'!E7="","","Referência Local: "&'Máq.Equip.'!E7) &IF('Máq.Equip.'!G7="","<br><br>","<br><br>"&CONCATENATE(SUBSTITUTE('Máq.Equip.'!G7,CHAR(10),"<br>"),"<br>")) &IF('Máq.Equip.'!V7="","<br>","<br>"&CONCATENATE(SUBSTITUTE('Máq.Equip.'!V7,CHAR(10),"<br>"),"<br>")) &IF(Z20=0,"",MID(Listas!$G$71,1,231)&Z20&MID(Listas!$G$71,232,59)&"<br><br>") &IF(AA20=0,"",MID(Listas!$H$71,1,156)&AA20&MID(Listas!$H$71,157,189)&"<br><br>") &IF(W20="Sim",Listas!$J$71,"") -> <br><br><br> | C20: =IF('Máq.Equip.'!N7<>"",CONCATENATE('Máq.Equip.'!N7,", ",'Máq.Equip.'!O7),"") | D20: ='Máq.Equip.'!A7 -> 0 | F20: ='Máq.Equip.'!S7 -> 0 | G20: ='Máq.Equip.'!R7 -> 0 | H20: ='Máq.Equip.'!C7 -> 0 | I20: ='Máq.Equip.'!D7 -> 0 | J20: ='Máq.Equip.'!J7 -> 0 | K20: ='Máq.Equip.'!H7 -> 0 | L20: =IF('Máq.Equip.'!I7="",999999999999,'Máq.Equip.'!I7) -> 999999999999 | M20: ='Máq.Equip.'!L7 -> 0 | N20: ='Máq.Equip.'!K7 -> 0 | T20: ='Máq.Equip.'!E7 -> 0 | W20: ='Máq.Equip.'!W7 -> 0 | Z20: ='Máq.Equip.'!X7 -> 0 | AA20: ='Máq.Equip.'!Y7 -> 0 | AB20: ='Máq.Equip.'!B7 -> 0 | AC20: ='Máq.Equip.'!T7 -> 0 | AD20: ='Máq.Equip.'!Q7 -> 0 | AE20: =LOOKUP(2^15,SEARCH(Listas!$L$39:$L$68,Q20),Listas!$L$39:$L$68) -> #N/A | AF20: =LOOKUP(2^15,SEARCH(Listas!$M$39:$M$43,AD20),Listas!$M$39:$M$43) -> #N/A | AG20: =LOOKUP(2^15,SEARCH(Listas!$N$39:$N$42,AD20),Listas!$N$39:$N$42) -> #N/A | AH20: =LOOKUP(2^15,SEARCH(Listas!$P$39:$P$44,AC20),Listas!$P$39:$P$44) -> #N/A | AI20: =LOOKUP(2^15,SEARCH(Listas!$O$39:$O$53,AC20),Listas!$O$39:$O$53) -> #N/A | AJ20: =LOOKUP(2^15,SEARCH(Listas!$R$39:$R$43,AD20),Listas!$R$39:$R$43) -> #N/A
A21: ='Máq.Equip.'!F8 &IF('Máq.Equip.'!E8="",""," (Ref.: "&'Máq.Equip.'!E8&")") | B21: ="" &IF('Máq.Equip.'!E8="","","Referência Local: "&'Máq.Equip.'!E8) &IF('Máq.Equip.'!G8="","<br><br>","<br><br>"&CONCATENATE(SUBSTITUTE('Máq.Equip.'!G8,CHAR(10),"<br>"),"<br>")) &IF('Máq.Equip.'!V8="","<br>","<br>"&CONCATENATE(SUBSTITUTE('Máq.Equip.'!V8,CHAR(10),"<br>"),"<br>")) &IF(Z21=0,"",MID(Listas!$G$71,1,231)&Z21&MID(Listas!$G$71,232,59)&"<br><br>") &IF(AA21=0,"",MID(Listas!$H$71,1,156)&AA21&MID(Listas!$H$71,157,189)&"<br><br>") &IF(W21="Sim",Listas!$J$71,"") -> <br><br><br> | C21: =IF('Máq.Equip.'!N8<>"",CONCATENATE('Máq.Equip.'!N8,", ",'Máq.Equip.'!O8),"") | D21: ='Máq.Equip.'!A8 -> 0 | F21: ='Máq.Equip.'!S8 -> 0 | G21: ='Máq.Equip.'!R8 -> 0 | H21: ='Máq.Equip.'!C8 -> 0 | I21: ='Máq.Equip.'!D8 -> 0 | J21: ='Máq.Equip.'!J8 -> 0 | K21: ='Máq.Equip.'!H8 -> 0 | L21: =IF('Máq.Equip.'!I8="",999999999999,'Máq.Equip.'!I8) -> 999999999999 | M21: ='Máq.Equip.'!L8 -> 0 | N21: ='Máq.Equip.'!K8 -> 0 | T21: ='Máq.Equip.'!E8 -> 0 | W21: ='Máq.Equip.'!W8 -> 0 | Z21: ='Máq.Equip.'!X8 -> 0 | AA21: ='Máq.Equip.'!Y8 -> 0 | AB21: ='Máq.Equip.'!B8 -> 0 | AC21: ='Máq.Equip.'!T8 -> 0 | AD21: ='Máq.Equip.'!Q8 -> 0 | AE21: =LOOKUP(2^15,SEARCH(Listas!$L$39:$L$68,Q21),Listas!$L$39:$L$68) -> #N/A | AF21: =LOOKUP(2^15,SEARCH(Listas!$M$39:$M$43,AD21),Listas!$M$39:$M$43) -> #N/A | AG21: =LOOKUP(2^15,SEARCH(Listas!$N$39:$N$42,AD21),Listas!$N$39:$N$42) -> #N/A | AH21: =LOOKUP(2^15,SEARCH(Listas!$P$39:$P$44,AC21),Listas!$P$39:$P$44) -> #N/A | AI21: =LOOKUP(2^15,SEARCH(Listas!$O$39:$O$53,AC21),Listas!$O$39:$O$53) -> #N/A | AJ21: =LOOKUP(2^15,SEARCH(Listas!$R$39:$R$43,AD21),Listas!$R$39:$R$43) -> #N/A
A22: ='Máq.Equip.'!F9 &IF('Máq.Equip.'!E9="",""," (Ref.: "&'Máq.Equip.'!E9&")") | B22: ="" &IF('Máq.Equip.'!E9="","","Referência Local: "&'Máq.Equip.'!E9) &IF('Máq.Equip.'!G9="","<br><br>","<br><br>"&CONCATENATE(SUBSTITUTE('Máq.Equip.'!G9,CHAR(10),"<br>"),"<br>")) &IF('Máq.Equip.'!V9="","<br>","<br>"&CONCATENATE(SUBSTITUTE('Máq.Equip.'!V9,CHAR(10),"<br>"),"<br>")) &IF(Z22=0,"",MID(Listas!$G$71,1,231)&Z22&MID(Listas!$G$71,232,59)&"<br><br>") &IF(AA22=0,"",MID(Listas!$H$71,1,156)&AA22&MID(Listas!$H$71,157,189)&"<br><br>") &IF(W22="Sim",Listas!$J$71,"") -> <br><br><br> | C22: =IF('Máq.Equip.'!N9<>"",CONCATENATE('Máq.Equip.'!N9,", ",'Máq.Equip.'!O9),"") | D22: ='Máq.Equip.'!A9 -> 0 | F22: ='Máq.Equip.'!S9 -> 0 | G22: ='Máq.Equip.'!R9 -> 0 | H22: ='Máq.Equip.'!C9 -> 0 | I22: ='Máq.Equip.'!D9 -> 0 | J22: ='Máq.Equip.'!J9 -> 0 | K22: ='Máq.Equip.'!H9 -> 0 | L22: =IF('Máq.Equip.'!I9="",999999999999,'Máq.Equip.'!I9) -> 999999999999 | M22: ='Máq.Equip.'!L9 -> 0 | N22: ='Máq.Equip.'!K9 -> 0 | T22: ='Máq.Equip.'!E9 -> 0 | W22: ='Máq.Equip.'!W9 -> 0 | Z22: ='Máq.Equip.'!X9 -> 0 | AA22: ='Máq.Equip.'!Y9 -> 0 | AB22: ='Máq.Equip.'!B9 -> 0 | AC22: ='Máq.Equip.'!T9 -> 0 | AD22: ='Máq.Equip.'!Q9 -> 0 | AE22: =LOOKUP(2^15,SEARCH(Listas!$L$39:$L$68,Q22),Listas!$L$39:$L$68) -> #N/A | AF22: =LOOKUP(2^15,SEARCH(Listas!$M$39:$M$43,AD22),Listas!$M$39:$M$43) -> #N/A | AG22: =LOOKUP(2^15,SEARCH(Listas!$N$39:$N$42,AD22),Listas!$N$39:$N$42) -> #N/A | AH22: =LOOKUP(2^15,SEARCH(Listas!$P$39:$P$44,AC22),Listas!$P$39:$P$44) -> #N/A | AI22: =LOOKUP(2^15,SEARCH(Listas!$O$39:$O$53,AC22),Listas!$O$39:$O$53) -> #N/A | AJ22: =LOOKUP(2^15,SEARCH(Listas!$R$39:$R$43,AD22),Listas!$R$39:$R$43) -> #N/A
A23: ='Máq.Equip.'!F10 &IF('Máq.Equip.'!E10="",""," (Ref.: "&'Máq.Equip.'!E10&")") | B23: ="" &IF('Máq.Equip.'!E10="","","Referência Local: "&'Máq.Equip.'!E10) &IF('Máq.Equip.'!G10="","<br><br>","<br><br>"&CONCATENATE(SUBSTITUTE('Máq.Equip.'!G10,CHAR(10),"<br>"),"<br>")) &IF('Máq.Equip.'!V10="","<br>","<br>"&CONCATENATE(SUBSTITUTE('Máq.Equip.'!V10,CHAR(10),"<br>"),"<br>")) &IF(Z23=0,"",MID(Listas!$G$71,1,231)&Z23&MID(Listas!$G$71,232,59)&"<br><br>") &IF(AA23=0,"",MID(Listas!$H$71,1,156)&AA23&MID(Listas!$H$71,157,189)&"<br><br>") &IF(W23="Sim",Listas!$J$71,"") -> <br><br><br> | C23: =IF('Máq.Equip.'!N10<>"",CONCATENATE('Máq.Equip.'!N10,", ",'Máq.Equip.'!O10),"") | D23: ='Máq.Equip.'!A10 -> 0 | F23: ='Máq.Equip.'!S10 -> 0 | G23: ='Máq.Equip.'!R10 -> 0 | H23: ='Máq.Equip.'!C10 -> 0 | I23: ='Máq.Equip.'!D10 -> 0 | J23: ='Máq.Equip.'!J10 -> 0 | K23: ='Máq.Equip.'!H10 -> 0 | L23: =IF('Máq.Equip.'!I10="",999999999999,'Máq.Equip.'!I10) -> 999999999999 | M23: ='Máq.Equip.'!L10 -> 0 | N23: ='Máq.Equip.'!K10 -> 0 | T23: ='Máq.Equip.'!E10 -> 0 | W23: ='Máq.Equip.'!W10 -> 0 | Z23: ='Máq.Equip.'!X10 -> 0 | AA23: ='Máq.Equip.'!Y10 -> 0 | AB23: ='Máq.Equip.'!B10 -> 0 | AC23: ='Máq.Equip.'!T10 -> 0 | AD23: ='Máq.Equip.'!Q10 -> 0 | AE23: =LOOKUP(2^15,SEARCH(Listas!$L$39:$L$68,Q23),Listas!$L$39:$L$68) -> #N/A | AF23: =LOOKUP(2^15,SEARCH(Listas!$M$39:$M$43,AD23),Listas!$M$39:$M$43) -> #N/A | AG23: =LOOKUP(2^15,SEARCH(Listas!$N$39:$N$42,AD23),Listas!$N$39:$N$42) -> #N/A | AH23: =LOOKUP(2^15,SEARCH(Listas!$P$39:$P$44,AC23),Listas!$P$39:$P$44) -> #N/A | AI23: =LOOKUP(2^15,SEARCH(Listas!$O$39:$O$53,AC23),Listas!$O$39:$O$53) -> #N/A | AJ23: =LOOKUP(2^15,SEARCH(Listas!$R$39:$R$43,AD23),Listas!$R$39:$R$43) -> #N/A
A24: ='Máq.Equip.'!F11 &IF('Máq.Equip.'!E11="",""," (Ref.: "&'Máq.Equip.'!E11&")") | B24: ="" &IF('Máq.Equip.'!E11="","","Referência Local: "&'Máq.Equip.'!E11) &IF('Máq.Equip.'!G11="","<br><br>","<br><br>"&CONCATENATE(SUBSTITUTE('Máq.Equip.'!G11,CHAR(10),"<br>"),"<br>")) &IF('Máq.Equip.'!V11="","<br>","<br>"&CONCATENATE(SUBSTITUTE('Máq.Equip.'!V11,CHAR(10),"<br>"),"<br>")) &IF(Z24=0,"",MID(Listas!$G$71,1,231)&Z24&MID(Listas!$G$71,232,59)&"<br><br>") &IF(AA24=0,"",MID(Listas!$H$71,1,156)&AA24&MID(Listas!$H$71,157,189)&"<br><br>") &IF(W24="Sim",Listas!$J$71,"") -> <br><br><br> | C24: =IF('Máq.Equip.'!N11<>"",CONCATENATE('Máq.Equip.'!N11,", ",'Máq.Equip.'!O11),"") | D24: ='Máq.Equip.'!A11 -> 0 | F24: ='Máq.Equip.'!S11 -> 0 | G24: ='Máq.Equip.'!R11 -> 0 | H24: ='Máq.Equip.'!C11 -> 0 | I24: ='Máq.Equip.'!D11 -> 0 | J24: ='Máq.Equip.'!J11 -> 0 | K24: ='Máq.Equip.'!H11 -> 0 | L24: =IF('Máq.Equip.'!I11="",999999999999,'Máq.Equip.'!I11) -> 999999999999 | M24: ='Máq.Equip.'!L11 -> 0 | N24: ='Máq.Equip.'!K11 -> 0 | T24: ='Máq.Equip.'!E11 -> 0 | W24: ='Máq.Equip.'!W11 -> 0 | Z24: ='Máq.Equip.'!X11 -> 0 | AA24: ='Máq.Equip.'!Y11 -> 0 | AB24: ='Máq.Equip.'!B11 -> 0 | AC24: ='Máq.Equip.'!T11 -> 0 | AD24: ='Máq.Equip.'!Q11 -> 0 | AE24: =LOOKUP(2^15,SEARCH(Listas!$L$39:$L$68,Q24),Listas!$L$39:$L$68) -> #N/A | AF24: =LOOKUP(2^15,SEARCH(Listas!$M$39:$M$43,AD24),Listas!$M$39:$M$43) -> #N/A | AG24: =LOOKUP(2^15,SEARCH(Listas!$N$39:$N$42,AD24),Listas!$N$39:$N$42) -> #N/A | AH24: =LOOKUP(2^15,SEARCH(Listas!$P$39:$P$44,AC24),Listas!$P$39:$P$44) -> #N/A | AI24: =LOOKUP(2^15,SEARCH(Listas!$O$39:$O$53,AC24),Listas!$O$39:$O$53) -> #N/A | AJ24: =LOOKUP(2^15,SEARCH(Listas!$R$39:$R$43,AD24),Listas!$R$39:$R$43) -> #N/A
A25: ='Máq.Equip.'!F12 &IF('Máq.Equip.'!E12="",""," (Ref.: "&'Máq.Equip.'!E12&")") | B25: ="" &IF('Máq.Equip.'!E12="","","Referência Local: "&'Máq.Equip.'!E12) &IF('Máq.Equip.'!G12="","<br><br>","<br><br>"&CONCATENATE(SUBSTITUTE('Máq.Equip.'!G12,CHAR(10),"<br>"),"<br>")) &IF('Máq.Equip.'!V12="","<br>","<br>"&CONCATENATE(SUBSTITUTE('Máq.Equip.'!V12,CHAR(10),"<br>"),"<br>")) &IF(Z25=0,"",MID(Listas!$G$71,1,231)&Z25&MID(Listas!$G$71,232,59)&"<br><br>") &IF(AA25=0,"",MID(Listas!$H$71,1,156)&AA25&MID(Listas!$H$71,157,189)&"<br><br>") &IF(W25="Sim",Listas!$J$71,"") -> <br><br><br> | C25: =IF('Máq.Equip.'!N12<>"",CONCATENATE('Máq.Equip.'!N12,", ",'Máq.Equip.'!O12),"") | D25: ='Máq.Equip.'!A12 -> 0 | F25: ='Máq.Equip.'!S12 -> 0 | G25: ='Máq.Equip.'!R12 -> 0 | H25: ='Máq.Equip.'!C12 -> 0 | I25: ='Máq.Equip.'!D12 -> 0 | J25: ='Máq.Equip.'!J12 -> 0 | K25: ='Máq.Equip.'!H12 -> 0 | L25: =IF('Máq.Equip.'!I12="",999999999999,'Máq.Equip.'!I12) -> 999999999999 | M25: ='Máq.Equip.'!L12 -> 0 | N25: ='Máq.Equip.'!K12 -> 0 | T25: ='Máq.Equip.'!E12 -> 0 | W25: ='Máq.Equip.'!W12 -> 0 | Z25: ='Máq.Equip.'!X12 -> 0 | AA25: ='Máq.Equip.'!Y12 -> 0 | AB25: ='Máq.Equip.'!B12 -> 0 | AC25: ='Máq.Equip.'!T12 -> 0 | AD25: ='Máq.Equip.'!Q12 -> 0 | AE25: =LOOKUP(2^15,SEARCH(Listas!$L$39:$L$68,Q25),Listas!$L$39:$L$68) -> #N/A | AF25: =LOOKUP(2^15,SEARCH(Listas!$M$39:$M$43,AD25),Listas!$M$39:$M$43) -> #N/A | AG25: =LOOKUP(2^15,SEARCH(Listas!$N$39:$N$42,AD25),Listas!$N$39:$N$42) -> #N/A | AH25: =LOOKUP(2^15,SEARCH(Listas!$P$39:$P$44,AC25),Listas!$P$39:$P$44) -> #N/A | AI25: =LOOKUP(2^15,SEARCH(Listas!$O$39:$O$53,AC25),Listas!$O$39:$O$53) -> #N/A | AJ25: =LOOKUP(2^15,SEARCH(Listas!$R$39:$R$43,AD25),Listas!$R$39:$R$43) -> #N/A
A26: ='Máq.Equip.'!F13 &IF('Máq.Equip.'!E13="",""," (Ref.: "&'Máq.Equip.'!E13&")") | B26: ="" &IF('Máq.Equip.'!E13="","","Referência Local: "&'Máq.Equip.'!E13) &IF('Máq.Equip.'!G13="","<br><br>","<br><br>"&CONCATENATE(SUBSTITUTE('Máq.Equip.'!G13,CHAR(10),"<br>"),"<br>")) &IF('Máq.Equip.'!V13="","<br>","<br>"&CONCATENATE(SUBSTITUTE('Máq.Equip.'!V13,CHAR(10),"<br>"),"<br>")) &IF(Z26=0,"",MID(Listas!$G$71,1,231)&Z26&MID(Listas!$G$71,232,59)&"<br><br>") &IF(AA26=0,"",MID(Listas!$H$71,1,156)&AA26&MID(Listas!$H$71,157,189)&"<br><br>") &IF(W26="Sim",Listas!$J$71,"") -> <br><br><br> | C26: =IF('Máq.Equip.'!N13<>"",CONCATENATE('Máq.Equip.'!N13,", ",'Máq.Equip.'!O13),"") | D26: ='Máq.Equip.'!A13 -> 0 | F26: ='Máq.Equip.'!S13 -> 0 | G26: ='Máq.Equip.'!R13 -> 0 | H26: ='Máq.Equip.'!C13 -> 0 | I26: ='Máq.Equip.'!D13 -> 0 | J26: ='Máq.Equip.'!J13 -> 0 | K26: ='Máq.Equip.'!H13 -> 0 | L26: =IF('Máq.Equip.'!I13="",999999999999,'Máq.Equip.'!I13) -> 999999999999 | M26: ='Máq.Equip.'!L13 -> 0 | N26: ='Máq.Equip.'!K13 -> 0 | T26: ='Máq.Equip.'!E13 -> 0 | W26: ='Máq.Equip.'!W13 -> 0 | Z26: ='Máq.Equip.'!X13 -> 0 | AA26: ='Máq.Equip.'!Y13 -> 0 | AB26: ='Máq.Equip.'!B13 -> 0 | AC26: ='Máq.Equip.'!T13 -> 0 | AD26: ='Máq.Equip.'!Q13 -> 0 | AE26: =LOOKUP(2^15,SEARCH(Listas!$L$39:$L$68,Q26),Listas!$L$39:$L$68) -> #N/A | AF26: =LOOKUP(2^15,SEARCH(Listas!$M$39:$M$43,AD26),Listas!$M$39:$M$43) -> #N/A | AG26: =LOOKUP(2^15,SEARCH(Listas!$N$39:$N$42,AD26),Listas!$N$39:$N$42) -> #N/A | AH26: =LOOKUP(2^15,SEARCH(Listas!$P$39:$P$44,AC26),Listas!$P$39:$P$44) -> #N/A | AI26: =LOOKUP(2^15,SEARCH(Listas!$O$39:$O$53,AC26),Listas!$O$39:$O$53) -> #N/A | AJ26: =LOOKUP(2^15,SEARCH(Listas!$R$39:$R$43,AD26),Listas!$R$39:$R$43) -> #N/A
A27: ='Máq.Equip.'!F14 &IF('Máq.Equip.'!E14="",""," (Ref.: "&'Máq.Equip.'!E14&")") | B27: ="" &IF('Máq.Equip.'!E14="","","Referência Local: "&'Máq.Equip.'!E14) &IF('Máq.Equip.'!G14="","<br><br>","<br><br>"&CONCATENATE(SUBSTITUTE('Máq.Equip.'!G14,CHAR(10),"<br>"),"<br>")) &IF('Máq.Equip.'!V14="","<br>","<br>"&CONCATENATE(SUBSTITUTE('Máq.Equip.'!V14,CHAR(10),"<br>"),"<br>")) &IF(Z27=0,"",MID(Listas!$G$71,1,231)&Z27&MID(Listas!$G$71,232,59)&"<br><br>") &IF(AA27=0,"",MID(Listas!$H$71,1,156)&AA27&MID(Listas!$H$71,157,189)&"<br><br>") &IF(W27="Sim",Listas!$J$71,"") -> <br><br><br> | C27: =IF('Máq.Equip.'!N14<>"",CONCATENATE('Máq.Equip.'!N14,", ",'Máq.Equip.'!O14),"") | D27: ='Máq.Equip.'!A14 -> 0 | F27: ='Máq.Equip.'!S14 -> 0 | G27: ='Máq.Equip.'!R14 -> 0 | H27: ='Máq.Equip.'!C14 -> 0 | I27: ='Máq.Equip.'!D14 -> 0 | J27: ='Máq.Equip.'!J14 -> 0 | K27: ='Máq.Equip.'!H14 -> 0 | L27: =IF('Máq.Equip.'!I14="",999999999999,'Máq.Equip.'!I14) -> 999999999999 | M27: ='Máq.Equip.'!L14 -> 0 | N27: ='Máq.Equip.'!K14 -> 0 | T27: ='Máq.Equip.'!E14 -> 0 | W27: ='Máq.Equip.'!W14 -> 0 | Z27: ='Máq.Equip.'!X14 -> 0 | AA27: ='Máq.Equip.'!Y14 -> 0 | AB27: ='Máq.Equip.'!B14 -> 0 | AC27: ='Máq.Equip.'!T14 -> 0 | AD27: ='Máq.Equip.'!Q14 -> 0 | AE27: =LOOKUP(2^15,SEARCH(Listas!$L$39:$L$68,Q27),Listas!$L$39:$L$68) -> #N/A | AF27: =LOOKUP(2^15,SEARCH(Listas!$M$39:$M$43,AD27),Listas!$M$39:$M$43) -> #N/A | AG27: =LOOKUP(2^15,SEARCH(Listas!$N$39:$N$42,AD27),Listas!$N$39:$N$42) -> #N/A | AH27: =LOOKUP(2^15,SEARCH(Listas!$P$39:$P$44,AC27),Listas!$P$39:$P$44) -> #N/A | AI27: =LOOKUP(2^15,SEARCH(Listas!$O$39:$O$53,AC27),Listas!$O$39:$O$53) -> #N/A | AJ27: =LOOKUP(2^15,SEARCH(Listas!$R$39:$R$43,AD27),Listas!$R$39:$R$43) -> #N/A
... A45: ='Máq.Equip.'!F32 &IF('Máq.Equip.'!E32="",""," (Ref.: "&'Máq.Equip.'!E32&")") | B45: ="" &IF('Máq.Equip.'!E32="","","Referência Local: "&'Máq.Equip.'!E32) &IF('Máq.Equip.'!G32="","<br><br>","<br><br>"&CONCATENATE(SUBSTITUTE('Máq.Equip.'!G32,CHAR(10),"<br>"),"<br>")) &IF('Máq.Equip.'!V32="","<br>","<br>"&CONCATENATE(SUBSTITUTE('Máq.Equip.'!V32,CHAR(10),"<br>"),"<br>")) &IF(Z45=0,"",MID(Listas!$G$71,1,231)&Z45&MID(Listas!$G$71,232,59)&"<br><br>") &IF(AA45=0,"",MID(Listas!$H$71,1,156)&AA45&MID(Listas!$H$71,157,189)&"<br><br>") &IF(W45="Sim",Listas!$J$71,"") -> <br><br><br> | C45: =IF('Máq.Equip.'!N32<>"",CONCATENATE('Máq.Equip.'!N32,", ",'Máq.Equip.'!O32),"") | D45: ='Máq.Equip.'!A32 -> 0 | F45: ='Máq.Equip.'!S32 -> 0 | G45: ='Máq.Equip.'!R32 -> 0 | H45: ='Máq.Equip.'!C32 -> 0 | I45: ='Máq.Equip.'!D32 -> 0 | J45: ='Máq.Equip.'!J32 -> 0 | K45: ='Máq.Equip.'!H32 -> 0 | L45: =IF('Máq.Equip.'!I32="",999999999999,'Máq.Equip.'!I32) -> 999999999999 | M45: ='Máq.Equip.'!L32 -> 0 | N45: ='Máq.Equip.'!K32 -> 0 | T45: ='Máq.Equip.'!E32 -> 0 | W45: ='Máq.Equip.'!W32 -> 0 | Z45: ='Máq.Equip.'!X32 -> 0 | AA45: ='Máq.Equip.'!Y32 -> 0 | AB45: ='Máq.Equip.'!B32 -> 0 | AC45: ='Máq.Equip.'!T32 -> 0 | AD45: ='Máq.Equip.'!Q32 -> 0 | AE45: =LOOKUP(2^15,SEARCH(Listas!$L$39:$L$68,Q45),Listas!$L$39:$L$68) -> #N/A | AF45: =LOOKUP(2^15,SEARCH(Listas!$M$39:$M$43,AD45),Listas!$M$39:$M$43) -> #N/A | AG45: =LOOKUP(2^15,SEARCH(Listas!$N$39:$N$42,AD45),Listas!$N$39:$N$42) -> #N/A | AH45: =LOOKUP(2^15,SEARCH(Listas!$P$39:$P$44,AC45),Listas!$P$39:$P$44) -> #N/A | AI45: =LOOKUP(2^15,SEARCH(Listas!$O$39:$O$53,AC45),Listas!$O$39:$O$53) -> #N/A | AJ45: =LOOKUP(2^15,SEARCH(Listas!$R$39:$R$43,AD45),Listas!$R$39:$R$43) -> #N/A
A47: =Dec.Mob!F3 -> (Ref: ) | B47: ="" &"<br>" &IF(Dec.Mob!E3="","","<br>Referência Local: "&Dec.Mob!E3) &IF(Dec.Mob!O3="","","<br>"&Dec.Mob!O3) &IF(Dec.Mob!Y3="","","<br>Nº do patrimônio: "&Dec.Mob!Y3) &IF(Dec.Mob!S3="","","<br>Marca: "&Dec.Mob!S3) &IF(Dec.Mob!T3="","","<br>Modelo: "&Dec.Mob!T3) &IF(Dec.Mob!U3="","","<br>Série: "&Dec.Mob!U3) &IF(Dec.Mob!V3="","","<br>Tensão: "&Dec.Mob!V3) &IF(Dec.Mob!W3="","","<br>Capacidade: "&Dec.Mob!W3) &IF(Dec.Mob!P3="","","<br>Largura: "&Dec.Mob!P3&" CM") &IF(Dec.Mob!Q3="","","<br>Altura: "&Dec.Mob!Q3&" CM") &IF(Dec.Mob!R3="","","<br>Comprimento: "&Dec.Mob!R3&" CM") &IF(Dec.Mob!X3="","","<br>Local: "&Dec.Mob!X3) &IF(AND(Dec.Mob!AB3="",Dec.Mob!AA3=""),"<br><br>","<br><br>Observações: "&CONCATENATE(SUBSTITUTE(Dec.Mob!AB3,CHAR(10),"<br>"),"<br><b>",SUBSTITUTE(Dec.Mob!AA3,CHAR(10),"<br>"),"</b>")&"<br><br>") &IF(Z47=0,"",MID(Listas!$G$71,1,231)&Z47&MID(Listas!$G$71,232,59)&"<br><br>") &IF(AA47=0,"",MID(Listas!$H$71,1,156)&AA47&MID(Listas!$H$71,157,189)&"<br><br>") &IF(W47="Sim",Listas!$J$71,"") -> <br><br><br> | C47: =IF(Dec.Mob!AE3="",CONCATENATE(Dec.Mob!AF3,", ",Dec.Mob!AG3),Dec.Mob!AE3) -> , | D47: =Dec.Mob!A3 -> 0 | F47: =IF(ISBLANK(G47),1,"CONSTA UNIDADE MÉTRICA? RETIRAR OU INSERIR O FATOR MULTIPLICATIVO") -> 1 | H47: =Dec.Mob!C3 -> 0 | I47: =Dec.Mob!D3 -> 0 | J47: =Dec.Mob!I3 -> 0 | K47: =Dec.Mob!G3 -> 0 | L47: =IF(Dec.Mob!H3="",999999999999,Dec.Mob!H3) -> 999999999999 | M47: =Dec.Mob!AL3 -> 0 | N47: =Dec.Mob!J3 -> 0 | T47: =Dec.Mob!E3 -> 0 | W47: =Dec.Mob!AM3 -> 0 | Z47: =Dec.Mob!AN3 -> 0 | AA47: =Dec.Mob!AO3 -> 0 | AB47: =Dec.Mob!B3 -> 0 | AC47: =Dec.Mob!AJ3 -> 0 | AD47: =Dec.Mob!AI3 -> 0 | AE47: =LOOKUP(2^15,SEARCH(Listas!$L$39:$L$68,Q47),Listas!$L$39:$L$68) -> #N/A | AF47: =LOOKUP(2^15,SEARCH(Listas!$M$39:$M$43,AD47),Listas!$M$39:$M$43) -> #N/A | AG47: =LOOKUP(2^15,SEARCH(Listas!$N$39:$N$42,AD47),Listas!$N$39:$N$42) -> #N/A | AH47: =LOOKUP(2^15,SEARCH(Listas!$P$39:$P$44,AC47),Listas!$P$39:$P$44) -> #N/A | AI47: =LOOKUP(2^15,SEARCH(Listas!$O$39:$O$53,AC47),Listas!$O$39:$O$53) -> #N/A | AJ47: =LOOKUP(2^15,SEARCH(Listas!$R$39:$R$43,AD47),Listas!$R$39:$R$43) -> #N/A

Sheet LP
A1: LP Atual:
A2: Lote | B2: Status | C2: Proprietário | D2: Nome do produto | E2: Pendências | F2: Consultas (Restrições | Débitos) | G2: Ref. / Ativo-Frota | H2: Localização | I2: Valor Inicial (VI) - TOTAL | J2: Valor Mínimo de Venda (VMV) - TOTAL | K2: Valor Estimado de Recuperação (VER) - TOTAL | L2: Valor de Referência do Vendedor (VRV) - TOTAL | AV2: Regra Cores (Pendências/Retirado) | AW2: Regra Cores (Pendências/Stand-by) | AX2: Regra Cores (Restrições)
A3: =gestor!D16 -> 222 | B3: =gestor!AB16 -> 0 | C3: =gestor!P16 -> 0 | D3: =gestor!A16 -> 10 CAÇAMBAS PLÁSTICAS DESMONTÁVEIS COM TAMPA MEDINDO 800 X 760 X 500 MM REFORÇADAS (Ref.: 19461) | E3: =gestor!AD16 -> 0 | F3: =CONCATENATE(gestor!Q16," | ",TEXT(gestor!O16,"R$0.0,00")) -> | R$00,00 | G3: =gestor!T16 -> 19461 | H3: =gestor!C16 -> SÃO PAULO, SP | I3: =IF(ISNA(AV3),gestor!K16*gestor!F16,"") -> 5700 | J3: =IF(ISNA(AV3),IF(gestor!L16*gestor!F16<999999999999,gestor!L16*gestor!F16,""),"") -> 8500 | K3: =IF(ISNA(AV3),gestor!J16*gestor!F16,"") -> 0 | L3: =gestor!M16 -> 0 | AV3: =LOOKUP(2^15,SEARCH(Listas!$M$39:$M$43,E3),Listas!$M$39:$M$43) -> #N/A | AW3: =LOOKUP(2^15,SEARCH(Listas!$N$39:$N$42,E3),Listas!$N$39:$N$42) -> #N/A | AX3: =LOOKUP(2^15,SEARCH(Listas!$L$39:$L$68,F3),Listas!$L$39:$L$68) -> #N/A
A4: =gestor!D17 -> 223 | B4: =gestor!AB17 -> 0 | C4: =gestor!P17 -> 0 | D4: =gestor!A17 -> 10 CAÇAMBAS PLÁSTICAS DESMONTÁVEIS COM TAMPA MEDINDO 800 X 760 X 500 MM REFORÇADAS (Ref.: 19461) | E4: =gestor!AD17 -> 0 | F4: =CONCATENATE(gestor!Q17," | ",TEXT(gestor!O17,"R$0.0,00")) -> | R$00,00 | G4: =gestor!T17 -> 19461 | H4: =gestor!C17 -> SÃO PAULO, SP | I4: =IF(ISNA(AV4),gestor!K17*gestor!F17,"") -> 5700 | J4: =IF(ISNA(AV4),IF(gestor!L17*gestor!F17<999999999999,gestor!L17*gestor!F17,""),"") -> 8500 | K4: =IF(ISNA(AV4),gestor!J17*gestor!F17,"") -> 0 | L4: =gestor!M17 -> 0 | AV4: =LOOKUP(2^15,SEARCH(Listas!$M$39:$M$43,E4),Listas!$M$39:$M$43) -> #N/A | AW4: =LOOKUP(2^15,SEARCH(Listas!$N$39:$N$42,E4),Listas!$N$39:$N$42) -> #N/A | AX4: =LOOKUP(2^15,SEARCH(Listas!$L$39:$L$68,F4),Listas!$L$39:$L$68) -> #N/A
A5: =gestor!D18 -> 224 | B5: =gestor!AB18 -> 0 | C5: =gestor!P18 -> 0 | D5: =gestor!A18 -> 10 CAÇAMBAS PLÁSTICAS DESMONTÁVEIS COM TAMPA MEDINDO 800 X 760 X 500 MM REFORÇADAS (Ref.: 19461) | E5: =gestor!AD18 -> 0 | F5: =CONCATENATE(gestor!Q18," | ",TEXT(gestor!O18,"R$0.0,00")) -> | R$00,00 | G5: =gestor!T18 -> 19461 | H5: =gestor!C18 -> SÃO PAULO, SP | I5: =IF(ISNA(AV5),gestor!K18*gestor!F18,"") -> 5700 | J5: =IF(ISNA(AV5),IF(gestor!L18*gestor!F18<999999999999,gestor!L18*gestor!F18,""),"") -> 8500 | K5: =IF(ISNA(AV5),gestor!J18*gestor!F18,"") -> 0 | L5: =gestor!M18 -> 0 | AV5: =LOOKUP(2^15,SEARCH(Listas!$M$39:$M$43,E5),Listas!$M$39:$M$43) -> #N/A | AW5: =LOOKUP(2^15,SEARCH(Listas!$N$39:$N$42,E5),Listas!$N$39:$N$42) -> #N/A | AX5: =LOOKUP(2^15,SEARCH(Listas!$L$39:$L$68,F5),Listas!$L$39:$L$68) -> #N/A
A6: =gestor!D19 -> 0 | B6: =gestor!AB19 -> 0 | C6: =gestor!P19 -> 0 | D6: =gestor!A19 | E6: =gestor!AD19 -> 0 | F6: =CONCATENATE(gestor!Q19," | ",TEXT(gestor!O19,"R$0.0,00")) -> | R$00,00 | G6: =gestor!T19 -> 0 | H6: =gestor!C19 | I6: =IF(ISNA(AV6),gestor!K19*gestor!F19,"") -> 0 | J6: =IF(ISNA(AV6),IF(gestor!L19*gestor!F19<999999999999,gestor!L19*gestor!F19,""),"") -> 0 | K6: =IF(ISNA(AV6),gestor!J19*gestor!F19,"") -> 0 | L6: =gestor!M19 -> 0 | AV6: =LOOKUP(2^15,SEARCH(Listas!$M$39:$M$43,E6),Listas!$M$39:$M$43) -> #N/A | AW6: =LOOKUP(2^15,SEARCH(Listas!$N$39:$N$42,E6),Listas!$N$39:$N$42) -> #N/A | AX6: =LOOKUP(2^15,SEARCH(Listas!$L$39:$L$68,F6),Listas!$L$39:$L$68) -> #N/A
A7: =gestor!D20 -> 0 | B7: =gestor!AB20 -> 0 | C7: =gestor!P20 -> 0 | D7: =gestor!A20 | E7: =gestor!AD20 -> 0 | F7: =CONCATENATE(gestor!Q20," | ",TEXT(gestor!O20,"R$0.0,00")) -> | R$00,00 | G7: =gestor!T20 -> 0 | H7: =gestor!C20 | I7: =IF(ISNA(AV7),gestor!K20*gestor!F20,"") -> 0 | J7: =IF(ISNA(AV7),IF(gestor!L20*gestor!F20<999999999999,gestor!L20*gestor!F20,""),"") -> 0 | K7: =IF(ISNA(AV7),gestor!J20*gestor!F20,"") -> 0 | L7: =gestor!M20 -> 0 | AV7: =LOOKUP(2^15,SEARCH(Listas!$M$39:$M$43,E7),Listas!$M$39:$M$43) -> #N/A | AW7: =LOOKUP(2^15,SEARCH(Listas!$N$39:$N$42,E7),Listas!$N$39:$N$42) -> #N/A | AX7: =LOOKUP(2^15,SEARCH(Listas!$L$39:$L$68,F7),Listas!$L$39:$L$68) -> #N/A
A8: =gestor!D21 -> 0 | B8: =gestor!AB21 -> 0 | C8: =gestor!P21 -> 0 | D8: =gestor!A21 | E8: =gestor!AD21 -> 0 | F8: =CONCATENATE(gestor!Q21," | ",TEXT(gestor!O21,"R$0.0,00")) -> | R$00,00 | G8: =gestor!T21 -> 0 | H8: =gestor!C21 | I8: =IF(ISNA(AV8),gestor!K21*gestor!F21,"") -> 0 | J8: =IF(ISNA(AV8),IF(gestor!L21*gestor!F21<999999999999,gestor!L21*gestor!F21,""),"") -> 0 | K8: =IF(ISNA(AV8),gestor!J21*gestor!F21,"") -> 0 | L8: =gestor!M21 -> 0 | AV8: =LOOKUP(2^15,SEARCH(Listas!$M$39:$M$43,E8),Listas!$M$39:$M$43) -> #N/A | AW8: =LOOKUP(2^15,SEARCH(Listas!$N$39:$N$42,E8),Listas!$N$39:$N$42) -> #N/A | AX8: =LOOKUP(2^15,SEARCH(Listas!$L$39:$L$68,F8),Listas!$L$39:$L$68) -> #N/A
A9: =gestor!D22 -> 0 | B9: =gestor!AB22 -> 0 | C9: =gestor!P22 -> 0 | D9: =gestor!A22 | E9: =gestor!AD22 -> 0 | F9: =CONCATENATE(gestor!Q22," | ",TEXT(gestor!O22,"R$0.0,00")) -> | R$00,00 | G9: =gestor!T22 -> 0 | H9: =gestor!C22 | I9: =IF(ISNA(AV9),gestor!K22*gestor!F22,"") -> 0 | J9: =IF(ISNA(AV9),IF(gestor!L22*gestor!F22<999999999999,gestor!L22*gestor!F22,""),"") -> 0 | K9: =IF(ISNA(AV9),gestor!J22*gestor!F22,"") -> 0 | L9: =gestor!M22 -> 0 | AV9: =LOOKUP(2^15,SEARCH(Listas!$M$39:$M$43,E9),Listas!$M$39:$M$43) -> #N/A | AW9: =LOOKUP(2^15,SEARCH(Listas!$N$39:$N$42,E9),Listas!$N$39:$N$42) -> #N/A | AX9: =LOOKUP(2^15,SEARCH(Listas!$L$39:$L$68,F9),Listas!$L$39:$L$68) -> #N/A
A10: =gestor!D23 -> 0 | B10: =gestor!AB23 -> 0 | C10: =gestor!P23 -> 0 | D10: =gestor!A23 | E10: =gestor!AD23 -> 0 | F10: =CONCATENATE(gestor!Q23," | ",TEXT(gestor!O23,"R$0.0,00")) -> | R$00,00 | G10: =gestor!T23 -> 0 | H10: =gestor!C23 | I10: =IF(ISNA(AV10),gestor!K23*gestor!F23,"") -> 0 | J10: =IF(ISNA(AV10),IF(gestor!L23*gestor!F23<999999999999,gestor!L23*gestor!F23,""),"") -> 0 | K10: =IF(ISNA(AV10),gestor!J23*gestor!F23,"") -> 0 | L10: =gestor!M23 -> 0 | AV10: =LOOKUP(2^15,SEARCH(Listas!$M$39:$M$43,E10),Listas!$M$39:$M$43) -> #N/A | AW10: =LOOKUP(2^15,SEARCH(Listas!$N$39:$N$42,E10),Listas!$N$39:$N$42) -> #N/A | AX10: =LOOKUP(2^15,SEARCH(Listas!$L$39:$L$68,F10),Listas!$L$39:$L$68) -> #N/A
A11: =gestor!D24 -> 0 | B11: =gestor!AB24 -> 0 | C11: =gestor!P24 -> 0 | D11: =gestor!A24 | E11: =gestor!AD24 -> 0 | F11: =CONCATENATE(gestor!Q24," | ",TEXT(gestor!O24,"R$0.0,00")) -> | R$00,00 | G11: =gestor!T24 -> 0 | H11: =gestor!C24 | I11: =IF(ISNA(AV11),gestor!K24*gestor!F24,"") -> 0 | J11: =IF(ISNA(AV11),IF(gestor!L24*gestor!F24<999999999999,gestor!L24*gestor!F24,""),"") -> 0 | K11: =IF(ISNA(AV11),gestor!J24*gestor!F24,"") -> 0 | L11: =gestor!M24 -> 0 | AV11: =LOOKUP(2^15,SEARCH(Listas!$M$39:$M$43,E11),Listas!$M$39:$M$43) -> #N/A | AW11: =LOOKUP(2^15,SEARCH(Listas!$N$39:$N$42,E11),Listas!$N$39:$N$42) -> #N/A | AX11: =LOOKUP(2^15,SEARCH(Listas!$L$39:$L$68,F11),Listas!$L$39:$L$68) -> #N/A
A12: =gestor!D25 -> 0 | B12: =gestor!AB25 -> 0 | C12: =gestor!P25 -> 0 | D12: =gestor!A25 | E12: =gestor!AD25 -> 0 | F12: =CONCATENATE(gestor!Q25," | ",TEXT(gestor!O25,"R$0.0,00")) -> | R$00,00 | G12: =gestor!T25 -> 0 | H12: =gestor!C25 | I12: =IF(ISNA(AV12),gestor!K25*gestor!F25,"") -> 0 | J12: =IF(ISNA(AV12),IF(gestor!L25*gestor!F25<999999999999,gestor!L25*gestor!F25,""),"") -> 0 | K12: =IF(ISNA(AV12),gestor!J25*gestor!F25,"") -> 0 | L12: =gestor!M25 -> 0 | AV12: =LOOKUP(2^15,SEARCH(Listas!$M$39:$M$43,E12),Listas!$M$39:$M$43) -> #N/A | AW12: =LOOKUP(2^15,SEARCH(Listas!$N$39:$N$42,E12),Listas!$N$39:$N$42) -> #N/A | AX12: =LOOKUP(2^15,SEARCH(Listas!$L$39:$L$68,F12),Listas!$L$39:$L$68) -> #N/A
A13: =gestor!D26 -> 0 | B13: =gestor!AB26 -> 0 | C13: =gestor!P26 -> 0 | D13: =gestor!A26 | E13: =gestor!AD26 -> 0 | F13: =CONCATENATE(gestor!Q26," | ",TEXT(gestor!O26,"R$0.0,00")) -> | R$00,00 | G13: =gestor!T26 -> 0 | H13: =gestor!C26 | I13: =IF(ISNA(AV13),gestor!K26*gestor!F26,"") -> 0 | J13: =IF(ISNA(AV13),IF(gestor!L26*gestor!F26<999999999999,gestor!L26*gestor!F26,""),"") -> 0 | K13: =IF(ISNA(AV13),gestor!J26*gestor!F26,"") -> 0 | L13: =gestor!M26 -> 0 | AV13: =LOOKUP(2^15,SEARCH(Listas!$M$39:$M$43,E13),Listas!$M$39:$M$43) -> #N/A | AW13: =LOOKUP(2^15,SEARCH(Listas!$N$39:$N$42,E13),Listas!$N$39:$N$42) -> #N/A | AX13: =LOOKUP(2^15,SEARCH(Listas!$L$39:$L$68,F13),Listas!$L$39:$L$68) -> #N/A
A14: =gestor!D27 -> 0 | B14: =gestor!AB27 -> 0 | C14: =gestor!P27 -> 0 | D14: =gestor!A27 | E14: =gestor!AD27 -> 0 | F14: =CONCATENATE(gestor!Q27," | ",TEXT(gestor!O27,"R$0.0,00")) -> | R$00,00 | G14: =gestor!T27 -> 0 | H14: =gestor!C27 | I14: =IF(ISNA(AV14),gestor!K27*gestor!F27,"") -> 0 | J14: =IF(ISNA(AV14),IF(gestor!L27*gestor!F27<999999999999,gestor!L27*gestor!F27,""),"") -> 0 | K14: =IF(ISNA(AV14),gestor!J27*gestor!F27,"") -> 0 | L14: =gestor!M27 -> 0 | AV14: =LOOKUP(2^15,SEARCH(Listas!$M$39:$M$43,E14),Listas!$M$39:$M$43) -> #N/A | AW14: =LOOKUP(2^15,SEARCH(Listas!$N$39:$N$42,E14),Listas!$N$39:$N$42) -> #N/A | AX14: =LOOKUP(2^15,SEARCH(Listas!$L$39:$L$68,F14),Listas!$L$39:$L$68) -> #N/A
